BEGIN:VCALENDAR
VERSION:2.0
PRODID:-//City of Fircrest - ECPv6.15.20//NONSGML v1.0//EN
CALSCALE:GREGORIAN
METHOD:PUBLISH
X-WR-CALNAME:City of Fircrest
X-ORIGINAL-URL:https://www.cityoffircrest.net
X-WR-CALDESC:Events for City of Fircrest
REFRESH-INTERVAL;VALUE=DURATION:PT1H
X-Robots-Tag:noindex
X-PUBLISHED-TTL:PT1H
BEGIN:VTIMEZONE
TZID:America/Los_Angeles
BEGIN:DAYLIGHT
TZOFFSETFROM:-0800
TZOFFSETTO:-0700
TZNAME:PDT
DTSTART:20170312T100000
END:DAYLIGHT
BEGIN:STANDARD
TZOFFSETFROM:-0700
TZOFFSETTO:-0800
TZNAME:PST
DTSTART:20171105T090000
END:STANDARD
BEGIN:DAYLIGHT
TZOFFSETFROM:-0800
TZOFFSETTO:-0700
TZNAME:PDT
DTSTART:20180311T100000
END:DAYLIGHT
BEGIN:STANDARD
TZOFFSETFROM:-0700
TZOFFSETTO:-0800
TZNAME:PST
DTSTART:20181104T090000
END:STANDARD
BEGIN:DAYLIGHT
TZOFFSETFROM:-0800
TZOFFSETTO:-0700
TZNAME:PDT
DTSTART:20190310T100000
END:DAYLIGHT
BEGIN:STANDARD
TZOFFSETFROM:-0700
TZOFFSETTO:-0800
TZNAME:PST
DTSTART:20191103T090000
END:STANDARD
END:VTIMEZONE
BEGIN:VEVENT
DTSTART;TZID=America/Los_Angeles:20181214T113000
DTEND;TZID=America/Los_Angeles:20181214T133000
DTSTAMP:20260422T103414
CREATED:20181205T192954Z
LAST-MODIFIED:20181205T193026Z
UID:10001967-1544787000-1544794200@www.cityoffircrest.net
SUMMARY:City Offices Closed 11:30 am to 1:30 pm
DESCRIPTION:NOTICE IS HEREBY GIVEN that the Fircrest City Buildings will be closed on Friday\, December 14\, 2018 from 11:30 am to 1:30 pm for the Employee Wellness Luncheon. Offices will open at 1:30 pm.
URL:https://www.cityoffircrest.net/event/city-office-closed-1130-130-pm/
LOCATION:Fircrest\, WA\, 98466\, United States
CATEGORIES:Holiday,Planning_Building,Police Department,Public Works,Recreation
END:VEVENT
BEGIN:VEVENT
DTSTART;TZID=America/Los_Angeles:20181224T120000
DTEND;TZID=America/Los_Angeles:20181224T170000
DTSTAMP:20260422T103414
CREATED:20181205T192613Z
LAST-MODIFIED:20181205T193100Z
UID:10001963-1545652800-1545670800@www.cityoffircrest.net
SUMMARY:City Offices Closed 12:00 pm-5:00 pm
DESCRIPTION:
URL:https://www.cityoffircrest.net/event/city-office-closed-12-5pm/
LOCATION:Fircrest\, WA\, 98466\, United States
CATEGORIES:Holiday,Planning_Building,Police Department,Public Works,Recreation
END:VEVENT
BEGIN:VEVENT
DTSTART;TZID=America/Los_Angeles:20181225T080000
DTEND;TZID=America/Los_Angeles:20181225T170000
DTSTAMP:20260422T103414
CREATED:20180105T220831Z
LAST-MODIFIED:20180105T220906Z
UID:10002195-1545724800-1545757200@www.cityoffircrest.net
SUMMARY:Christmas - City Offices Closed
DESCRIPTION:City offices closed in observance of the holiday.
URL:https://www.cityoffircrest.net/event/christmas-city-offices-closed/2018-12-25/
LOCATION:Fircrest\, WA\, 98466\, United States
CATEGORIES:Holiday
END:VEVENT
BEGIN:VEVENT
DTSTART;TZID=America/Los_Angeles:20181231T120000
DTEND;TZID=America/Los_Angeles:20181231T170000
DTSTAMP:20260422T103414
CREATED:20181205T192725Z
LAST-MODIFIED:20181205T193132Z
UID:10001965-1546257600-1546275600@www.cityoffircrest.net
SUMMARY:City Offices Closed 12:00 pm-5:00 pm
DESCRIPTION:
URL:https://www.cityoffircrest.net/event/city-office-closed-12-5pm-2/
LOCATION:Fircrest\, WA\, 98466\, United States
CATEGORIES:Holiday,Planning_Building,Police Department,Public Works,Recreation
END:VEVENT
END:VCALENDAR