BEGIN:VCALENDAR
VERSION:2.0
PRODID:-//City of Fircrest - ECPv6.15.20//NONSGML v1.0//EN
CALSCALE:GREGORIAN
METHOD:PUBLISH
X-ORIGINAL-URL:https://www.cityoffircrest.net
X-WR-CALDESC:Events for City of Fircrest
REFRESH-INTERVAL;VALUE=DURATION:PT1H
X-Robots-Tag:noindex
X-PUBLISHED-TTL:PT1H
BEGIN:VTIMEZONE
TZID:America/Los_Angeles
BEGIN:DAYLIGHT
TZOFFSETFROM:-0800
TZOFFSETTO:-0700
TZNAME:PDT
DTSTART:20210314T100000
END:DAYLIGHT
BEGIN:STANDARD
TZOFFSETFROM:-0700
TZOFFSETTO:-0800
TZNAME:PST
DTSTART:20211107T090000
END:STANDARD
BEGIN:DAYLIGHT
TZOFFSETFROM:-0800
TZOFFSETTO:-0700
TZNAME:PDT
DTSTART:20220313T100000
END:DAYLIGHT
BEGIN:STANDARD
TZOFFSETFROM:-0700
TZOFFSETTO:-0800
TZNAME:PST
DTSTART:20221106T090000
END:STANDARD
BEGIN:DAYLIGHT
TZOFFSETFROM:-0800
TZOFFSETTO:-0700
TZNAME:PDT
DTSTART:20230312T100000
END:DAYLIGHT
BEGIN:STANDARD
TZOFFSETFROM:-0700
TZOFFSETTO:-0800
TZNAME:PST
DTSTART:20231105T090000
END:STANDARD
BEGIN:DAYLIGHT
TZOFFSETFROM:-0800
TZOFFSETTO:-0700
TZNAME:PDT
DTSTART:20240310T100000
END:DAYLIGHT
BEGIN:STANDARD
TZOFFSETFROM:-0700
TZOFFSETTO:-0800
TZNAME:PST
DTSTART:20241103T090000
END:STANDARD
BEGIN:DAYLIGHT
TZOFFSETFROM:-0800
TZOFFSETTO:-0700
TZNAME:PDT
DTSTART:20250309T100000
END:DAYLIGHT
BEGIN:STANDARD
TZOFFSETFROM:-0700
TZOFFSETTO:-0800
TZNAME:PST
DTSTART:20251102T090000
END:STANDARD
END:VTIMEZONE
BEGIN:VTIMEZONE
TZID:UTC
BEGIN:STANDARD
TZOFFSETFROM:+0000
TZOFFSETTO:+0000
TZNAME:UTC
DTSTART:20210101T000000
END:STANDARD
END:VTIMEZONE
BEGIN:VEVENT
DTSTART;TZID=America/Los_Angeles:20220101T080000
DTEND;TZID=America/Los_Angeles:20220101T170000
DTSTAMP:20260422T180527
CREATED:20180103T194506Z
LAST-MODIFIED:20220323T191008Z
UID:10002139-1641024000-1641056400@www.cityoffircrest.net
SUMMARY:New Year's Day - City Offices Closed
DESCRIPTION:City offices closed in observance of the holiday.
URL:https://www.cityoffircrest.net/event/new-years-day/2022-01-01/
LOCATION:Fircrest\, WA\, 98466\, United States
CATEGORIES:Holiday
ATTACH;FMTTYPE=image/jpeg:https://www.cityoffircrest.net/wp-content/uploads/2018/01/new-year-3042748_1280.jpg
GEO:47.2395428;-122.5159586
END:VEVENT
BEGIN:VEVENT
DTSTART;TZID=America/Los_Angeles:20220115T080000
DTEND;TZID=America/Los_Angeles:20220115T170000
DTSTAMP:20260422T180527
CREATED:20180103T194102Z
LAST-MODIFIED:20180105T215735Z
UID:10002131-1642233600-1642266000@www.cityoffircrest.net
SUMMARY:Martin Luther King Jr. Day - City Offices Closed
DESCRIPTION:City offices closed in observance of the holiday.
URL:https://www.cityoffircrest.net/event/martin-luther-king-jr-day/2022-01-15/
LOCATION:Fircrest\, WA\, 98466\, United States
CATEGORIES:Holiday
ATTACH;FMTTYPE=image/jpeg:https://www.cityoffircrest.net/wp-content/uploads/2018/01/mlkj.jpg
END:VEVENT
BEGIN:VEVENT
DTSTART;TZID=America/Los_Angeles:20220219T080000
DTEND;TZID=America/Los_Angeles:20220219T170000
DTSTAMP:20260422T180527
CREATED:20180103T201025Z
LAST-MODIFIED:20180105T220125Z
UID:10002146-1645257600-1645290000@www.cityoffircrest.net
SUMMARY:Presidents' Day - City Offices Closed
DESCRIPTION:City offices closed in observance of the holiday.
URL:https://www.cityoffircrest.net/event/presidents-day/2022-02-19/
LOCATION:Fircrest\, WA\, 98466\, United States
CATEGORIES:Holiday
ATTACH;FMTTYPE=image/jpeg:https://www.cityoffircrest.net/wp-content/uploads/2018/01/rushmore.jpg
END:VEVENT
BEGIN:VEVENT
DTSTART;TZID=America/Los_Angeles:20220311T030000
DTEND;TZID=America/Los_Angeles:20220311T030000
DTSTAMP:20260422T180527
CREATED:20180103T233447Z
LAST-MODIFIED:20180103T233527Z
UID:10001566-1646967600-1646967600@www.cityoffircrest.net
SUMMARY:Daylight Savings Time Begins
DESCRIPTION:Spring Forward and change your clocks one hour ahead.
URL:https://www.cityoffircrest.net/event/daylight-savings-time-begins/2022-03-11/
LOCATION:Fircrest\, WA\, 98466\, United States
CATEGORIES:Holiday
ATTACH;FMTTYPE=image/png:https://www.cityoffircrest.net/wp-content/uploads/2018/01/clocks.png
END:VEVENT
BEGIN:VEVENT
DTSTART;TZID=UTC:20220529T080000
DTEND;TZID=UTC:20220529T170000
DTSTAMP:20260422T180527
CREATED:20170512T232814Z
LAST-MODIFIED:20180105T220200Z
UID:10001871-1653811200-1653843600@www.cityoffircrest.net
SUMMARY:Memorial Day - City Offices Closed
DESCRIPTION:City offices closed in observance of the holiday.
URL:https://www.cityoffircrest.net/event/memorial-day-city-offices-closed/2022-05-29/
LOCATION:WA
CATEGORIES:Holiday
ATTACH;FMTTYPE=image/jpeg:https://www.cityoffircrest.net/wp-content/uploads/2018/01/wwii_stars.jpg
END:VEVENT
BEGIN:VEVENT
DTSTART;TZID=America/Los_Angeles:20220620T080000
DTEND;TZID=America/Los_Angeles:20220620T080000
DTSTAMP:20260422T180527
CREATED:20220615T062903Z
LAST-MODIFIED:20220615T063101Z
UID:10002918-1655712000-1655712000@www.cityoffircrest.net
SUMMARY:Juneteenth - City Buildings are Closed
DESCRIPTION:City offices closed in observance of the holiday.
URL:https://www.cityoffircrest.net/event/juneteenth-city-buildings-are-closed-2022-06-20/
LOCATION:Fircrest\, WA\, 98466\, United States
CATEGORIES:Holiday
GEO:47.2395428;-122.5159586
END:VEVENT
BEGIN:VEVENT
DTSTART;TZID=UTC:20220704T080000
DTEND;TZID=UTC:20220704T170000
DTSTAMP:20260422T180527
CREATED:20170512T234755Z
LAST-MODIFIED:20180105T220224Z
UID:10001882-1656921600-1656954000@www.cityoffircrest.net
SUMMARY:Independence Day - City Offices Closed
DESCRIPTION:City offices closed in observance of the holiday.
URL:https://www.cityoffircrest.net/event/independence-day-city-office-closed/2022-07-04/
LOCATION:WA
CATEGORIES:Holiday
ATTACH;FMTTYPE=image/png:https://www.cityoffircrest.net/wp-content/uploads/2018/01/fourth-of-july.png
END:VEVENT
BEGIN:VEVENT
DTSTART;TZID=America/Los_Angeles:20220903T080000
DTEND;TZID=America/Los_Angeles:20220903T170000
DTSTAMP:20260422T180527
CREATED:20180105T192122Z
LAST-MODIFIED:20180105T220245Z
UID:10002165-1662192000-1662224400@www.cityoffircrest.net
SUMMARY:Labor Day - City Offices Closed
DESCRIPTION:City offices closed in observance of the holiday.
URL:https://www.cityoffircrest.net/event/labor-day-city-offices-closed-2/2022-09-03/
LOCATION:Fircrest\, WA\, 98466\, United States
CATEGORIES:Holiday
ATTACH;FMTTYPE=image/png:https://www.cityoffircrest.net/wp-content/uploads/2018/01/tools.png
END:VEVENT
BEGIN:VEVENT
DTSTART;TZID=America/Los_Angeles:20221106T020000
DTEND;TZID=America/Los_Angeles:20221106T020000
DTSTAMP:20260422T180527
CREATED:20180103T233722Z
LAST-MODIFIED:20190116T224138Z
UID:10001581-1667700000-1667700000@www.cityoffircrest.net
SUMMARY:Daylight Saving Time Ends
DESCRIPTION:Fall back and move your clock backward one hour.
URL:https://www.cityoffircrest.net/event/daylight-savings-time-ends/2022-11-06/
LOCATION:Fircrest\, WA\, 98466\, United States
CATEGORIES:Holiday
ATTACH;FMTTYPE=image/png:https://www.cityoffircrest.net/wp-content/uploads/2018/01/clocks.png
END:VEVENT
BEGIN:VEVENT
DTSTART;TZID=America/Los_Angeles:20221111T080000
DTEND;TZID=America/Los_Angeles:20221111T170000
DTSTAMP:20260422T180527
CREATED:20180105T213634Z
LAST-MODIFIED:20180105T221123Z
UID:10002191-1668153600-1668186000@www.cityoffircrest.net
SUMMARY:Veterans Day - City Offices Closed
DESCRIPTION:City offices closed in observance of the holiday. \nIn the event the holiday occurs on Saturday\, offices will be closed on Friday\, the 10th. In the event the holiday occurs on Sunday\, offices will be closed on Sunday\, the 12th.
URL:https://www.cityoffircrest.net/event/veterans-day/2022-11-11/
LOCATION:Fircrest\, WA\, 98466\, United States
CATEGORIES:Holiday
ATTACH;FMTTYPE=image/jpeg:https://www.cityoffircrest.net/wp-content/uploads/2018/01/memorial-day.jpg
END:VEVENT
BEGIN:VEVENT
DTSTART;VALUE=DATE:20221125
DTEND;VALUE=DATE:20221126
DTSTAMP:20260422T180527
CREATED:20191118T190432Z
LAST-MODIFIED:20201102T190931Z
UID:10002351-1669334400-1669420799@www.cityoffircrest.net
SUMMARY:Day after Thanksgiving - City Offices Closed
DESCRIPTION:
URL:https://www.cityoffircrest.net/event/day-thanksgiving-city-offices-closed/
LOCATION:Fircrest\, WA\, 98466\, United States
CATEGORIES:Holiday
END:VEVENT
BEGIN:VEVENT
DTSTART;TZID=America/Los_Angeles:20230102T080000
DTEND;TZID=America/Los_Angeles:20230102T170000
DTSTAMP:20260422T180527
CREATED:20180103T194506Z
LAST-MODIFIED:20220323T191008Z
UID:10002140-1672646400-1672678800@www.cityoffircrest.net
SUMMARY:New Year's Day - City Offices Closed
DESCRIPTION:City offices closed in observance of the holiday.
URL:https://www.cityoffircrest.net/event/new-years-day/2023-01-02/
LOCATION:Fircrest\, WA\, 98466\, United States
CATEGORIES:Holiday
ATTACH;FMTTYPE=image/jpeg:https://www.cityoffircrest.net/wp-content/uploads/2018/01/new-year-3042748_1280.jpg
GEO:47.2395428;-122.5159586
END:VEVENT
BEGIN:VEVENT
DTSTART;TZID=America/Los_Angeles:20230115T080000
DTEND;TZID=America/Los_Angeles:20230115T170000
DTSTAMP:20260422T180527
CREATED:20180103T194102Z
LAST-MODIFIED:20180105T215735Z
UID:10002132-1673769600-1673802000@www.cityoffircrest.net
SUMMARY:Martin Luther King Jr. Day - City Offices Closed
DESCRIPTION:City offices closed in observance of the holiday.
URL:https://www.cityoffircrest.net/event/martin-luther-king-jr-day/2023-01-15/
LOCATION:Fircrest\, WA\, 98466\, United States
CATEGORIES:Holiday
ATTACH;FMTTYPE=image/jpeg:https://www.cityoffircrest.net/wp-content/uploads/2018/01/mlkj.jpg
END:VEVENT
BEGIN:VEVENT
DTSTART;TZID=America/Los_Angeles:20230220T080000
DTEND;TZID=America/Los_Angeles:20230220T170000
DTSTAMP:20260422T180527
CREATED:20230126T182016Z
LAST-MODIFIED:20230126T182017Z
UID:10002147-1676880000-1676912400@www.cityoffircrest.net
SUMMARY:Presidents' Day - City Offices Closed
DESCRIPTION:City offices closed in observance of the holiday.
URL:https://www.cityoffircrest.net/event/presidents-day-2/2023-02-20/
LOCATION:Fircrest\, WA\, 98466\, United States
CATEGORIES:Holiday
ATTACH;FMTTYPE=image/jpeg:https://www.cityoffircrest.net/wp-content/uploads/2018/01/rushmore.jpg
END:VEVENT
BEGIN:VEVENT
DTSTART;TZID=America/Los_Angeles:20230311T030000
DTEND;TZID=America/Los_Angeles:20230311T030000
DTSTAMP:20260422T180527
CREATED:20180103T233447Z
LAST-MODIFIED:20180103T233527Z
UID:10001567-1678503600-1678503600@www.cityoffircrest.net
SUMMARY:Daylight Savings Time Begins
DESCRIPTION:Spring Forward and change your clocks one hour ahead.
URL:https://www.cityoffircrest.net/event/daylight-savings-time-begins/2023-03-11/
LOCATION:Fircrest\, WA\, 98466\, United States
CATEGORIES:Holiday
ATTACH;FMTTYPE=image/png:https://www.cityoffircrest.net/wp-content/uploads/2018/01/clocks.png
END:VEVENT
BEGIN:VEVENT
DTSTART;TZID=UTC:20230529T080000
DTEND;TZID=UTC:20230529T170000
DTSTAMP:20260422T180527
CREATED:20170512T232814Z
LAST-MODIFIED:20180105T220200Z
UID:10001872-1685347200-1685379600@www.cityoffircrest.net
SUMMARY:Memorial Day - City Offices Closed
DESCRIPTION:City offices closed in observance of the holiday.
URL:https://www.cityoffircrest.net/event/memorial-day-city-offices-closed/2023-05-29/
LOCATION:WA
CATEGORIES:Holiday
ATTACH;FMTTYPE=image/jpeg:https://www.cityoffircrest.net/wp-content/uploads/2018/01/wwii_stars.jpg
END:VEVENT
BEGIN:VEVENT
DTSTART;TZID=America/Los_Angeles:20230619T080000
DTEND;TZID=America/Los_Angeles:20230619T080000
DTSTAMP:20260422T180527
CREATED:20230126T182117Z
LAST-MODIFIED:20230126T182118Z
UID:10002919-1687161600-1687161600@www.cityoffircrest.net
SUMMARY:Juneteenth - City Buildings are Closed
DESCRIPTION:City offices closed in observance of the holiday.
URL:https://www.cityoffircrest.net/event/juneteenth-city-buildings-are-closed-2022-06-20-2/
LOCATION:Fircrest\, WA\, 98466\, United States
CATEGORIES:Holiday
GEO:47.2395428;-122.5159586
END:VEVENT
BEGIN:VEVENT
DTSTART;TZID=UTC:20230704T080000
DTEND;TZID=UTC:20230704T170000
DTSTAMP:20260422T180527
CREATED:20170512T234755Z
LAST-MODIFIED:20180105T220224Z
UID:10001883-1688457600-1688490000@www.cityoffircrest.net
SUMMARY:Independence Day - City Offices Closed
DESCRIPTION:City offices closed in observance of the holiday.
URL:https://www.cityoffircrest.net/event/independence-day-city-office-closed/2023-07-04/
LOCATION:WA
CATEGORIES:Holiday
ATTACH;FMTTYPE=image/png:https://www.cityoffircrest.net/wp-content/uploads/2018/01/fourth-of-july.png
END:VEVENT
BEGIN:VEVENT
DTSTART;TZID=America/Los_Angeles:20230904T080000
DTEND;TZID=America/Los_Angeles:20230904T170000
DTSTAMP:20260422T180527
CREATED:20230719T034753Z
LAST-MODIFIED:20230719T034754Z
UID:10002166-1693814400-1693846800@www.cityoffircrest.net
SUMMARY:Labor Day - City Offices Closed
DESCRIPTION:City offices closed in observance of the holiday.
URL:https://www.cityoffircrest.net/event/labor-day-city-offices-closed-2-2/2023-09-04/
LOCATION:Fircrest\, WA\, 98466\, United States
CATEGORIES:Holiday
ATTACH;FMTTYPE=image/png:https://www.cityoffircrest.net/wp-content/uploads/2018/01/tools.png
END:VEVENT
BEGIN:VEVENT
DTSTART;TZID=America/Los_Angeles:20231105T020000
DTEND;TZID=America/Los_Angeles:20231105T020000
DTSTAMP:20260422T180527
CREATED:20180103T233722Z
LAST-MODIFIED:20190116T224138Z
UID:10001582-1699149600-1699149600@www.cityoffircrest.net
SUMMARY:Daylight Saving Time Ends
DESCRIPTION:Fall back and move your clock backward one hour.
URL:https://www.cityoffircrest.net/event/daylight-savings-time-ends/2023-11-05/
LOCATION:Fircrest\, WA\, 98466\, United States
CATEGORIES:Holiday
ATTACH;FMTTYPE=image/png:https://www.cityoffircrest.net/wp-content/uploads/2018/01/clocks.png
END:VEVENT
BEGIN:VEVENT
DTSTART;TZID=America/Los_Angeles:20231123T000000
DTEND;TZID=America/Los_Angeles:20231123T235900
DTSTAMP:20260422T180527
CREATED:20230126T182351Z
LAST-MODIFIED:20230126T182625Z
UID:10002181-1700697600-1700783940@www.cityoffircrest.net
SUMMARY:Thanksgiving Holiday - City Offices Closed
DESCRIPTION:City offices closed in observance of the holiday.
URL:https://www.cityoffircrest.net/event/thanksgiving-holiday-city-offices-closed-2/
LOCATION:Fircrest\, WA\, 98466\, United States
CATEGORIES:Holiday
ATTACH;FMTTYPE=image/jpeg:https://www.cityoffircrest.net/wp-content/uploads/2018/01/fall-harvest.jpg
GEO:47.2395428;-122.5159586
END:VEVENT
BEGIN:VEVENT
DTSTART;TZID=America/Los_Angeles:20240101T080000
DTEND;TZID=America/Los_Angeles:20240101T170000
DTSTAMP:20260422T180527
CREATED:20180103T194506Z
LAST-MODIFIED:20220323T191008Z
UID:10002141-1704096000-1704128400@www.cityoffircrest.net
SUMMARY:New Year's Day - City Offices Closed
DESCRIPTION:City offices closed in observance of the holiday.
URL:https://www.cityoffircrest.net/event/new-years-day/2024-01-01/
LOCATION:Fircrest\, WA\, 98466\, United States
CATEGORIES:Holiday
ATTACH;FMTTYPE=image/jpeg:https://www.cityoffircrest.net/wp-content/uploads/2018/01/new-year-3042748_1280.jpg
GEO:47.2395428;-122.5159586
END:VEVENT
BEGIN:VEVENT
DTSTART;TZID=America/Los_Angeles:20240115T080000
DTEND;TZID=America/Los_Angeles:20240115T170000
DTSTAMP:20260422T180527
CREATED:20180103T194102Z
LAST-MODIFIED:20180105T215735Z
UID:10002133-1705305600-1705338000@www.cityoffircrest.net
SUMMARY:Martin Luther King Jr. Day - City Offices Closed
DESCRIPTION:City offices closed in observance of the holiday.
URL:https://www.cityoffircrest.net/event/martin-luther-king-jr-day/2024-01-15/
LOCATION:Fircrest\, WA\, 98466\, United States
CATEGORIES:Holiday
ATTACH;FMTTYPE=image/jpeg:https://www.cityoffircrest.net/wp-content/uploads/2018/01/mlkj.jpg
END:VEVENT
BEGIN:VEVENT
DTSTART;TZID=America/Los_Angeles:20240219T080000
DTEND;TZID=America/Los_Angeles:20240219T170000
DTSTAMP:20260422T180527
CREATED:20230126T182016Z
LAST-MODIFIED:20230126T182017Z
UID:10002148-1708329600-1708362000@www.cityoffircrest.net
SUMMARY:Presidents' Day - City Offices Closed
DESCRIPTION:City offices closed in observance of the holiday.
URL:https://www.cityoffircrest.net/event/presidents-day-2/2024-02-19/
LOCATION:Fircrest\, WA\, 98466\, United States
CATEGORIES:Holiday
ATTACH;FMTTYPE=image/jpeg:https://www.cityoffircrest.net/wp-content/uploads/2018/01/rushmore.jpg
END:VEVENT
BEGIN:VEVENT
DTSTART;TZID=America/Los_Angeles:20240311T030000
DTEND;TZID=America/Los_Angeles:20240311T030000
DTSTAMP:20260422T180527
CREATED:20180103T233447Z
LAST-MODIFIED:20180103T233527Z
UID:10001568-1710126000-1710126000@www.cityoffircrest.net
SUMMARY:Daylight Savings Time Begins
DESCRIPTION:Spring Forward and change your clocks one hour ahead.
URL:https://www.cityoffircrest.net/event/daylight-savings-time-begins/2024-03-11/
LOCATION:Fircrest\, WA\, 98466\, United States
CATEGORIES:Holiday
ATTACH;FMTTYPE=image/png:https://www.cityoffircrest.net/wp-content/uploads/2018/01/clocks.png
END:VEVENT
BEGIN:VEVENT
DTSTART;TZID=UTC:20240527T080000
DTEND;TZID=UTC:20240527T170000
DTSTAMP:20260422T180527
CREATED:20240523T144608Z
LAST-MODIFIED:20240523T144609Z
UID:10001873-1716796800-1716829200@www.cityoffircrest.net
SUMMARY:Memorial Day - City Offices Closed
DESCRIPTION:City offices closed in observance of the holiday.
URL:https://www.cityoffircrest.net/event/memorial-day-city-offices-closed-2/
LOCATION:WA
CATEGORIES:Holiday
ATTACH;FMTTYPE=image/jpeg:https://www.cityoffircrest.net/wp-content/uploads/2018/01/wwii_stars.jpg
END:VEVENT
BEGIN:VEVENT
DTSTART;TZID=America/Los_Angeles:20240619T080000
DTEND;TZID=America/Los_Angeles:20240619T080000
DTSTAMP:20260422T180527
CREATED:20240206T175504Z
LAST-MODIFIED:20240206T175506Z
UID:10003264-1718784000-1718784000@www.cityoffircrest.net
SUMMARY:Juneteenth - City Buildings are Closed
DESCRIPTION:City offices closed in observance of the holiday.
URL:https://www.cityoffircrest.net/event/juneteenth-city-buildings-are-closed-2022-06-20-2-2/
LOCATION:WA
CATEGORIES:Holiday
END:VEVENT
BEGIN:VEVENT
DTSTART;TZID=UTC:20240704T080000
DTEND;TZID=UTC:20240704T170000
DTSTAMP:20260422T180527
CREATED:20170512T234755Z
LAST-MODIFIED:20180105T220224Z
UID:10001884-1720080000-1720112400@www.cityoffircrest.net
SUMMARY:Independence Day - City Offices Closed
DESCRIPTION:City offices closed in observance of the holiday.
URL:https://www.cityoffircrest.net/event/independence-day-city-office-closed/2024-07-04/
LOCATION:WA
CATEGORIES:Holiday
ATTACH;FMTTYPE=image/png:https://www.cityoffircrest.net/wp-content/uploads/2018/01/fourth-of-july.png
END:VEVENT
BEGIN:VEVENT
DTSTART;TZID=America/Los_Angeles:20240902T080000
DTEND;TZID=America/Los_Angeles:20240902T170000
DTSTAMP:20260422T180527
CREATED:20230719T034753Z
LAST-MODIFIED:20230719T034754Z
UID:10003571-1725264000-1725296400@www.cityoffircrest.net
SUMMARY:Labor Day - City Offices Closed
DESCRIPTION:City offices closed in observance of the holiday.
URL:https://www.cityoffircrest.net/event/labor-day-city-offices-closed-2-2/2024-09-02/
LOCATION:Fircrest\, WA\, 98466\, United States
CATEGORIES:Holiday
ATTACH;FMTTYPE=image/png:https://www.cityoffircrest.net/wp-content/uploads/2018/01/tools.png
END:VEVENT
BEGIN:VEVENT
DTSTART;TZID=America/Los_Angeles:20241017T183000
DTEND;TZID=America/Los_Angeles:20241017T203000
DTSTAMP:20260422T180527
CREATED:20231002T205846Z
LAST-MODIFIED:20241023T215904Z
UID:10003707-1729189800-1729197000@www.cityoffircrest.net
SUMMARY:Haunted Trails
DESCRIPTION:https://www.cityoffircrest.net/wp-content/uploads/2024/10/AQM2-Qb_cggf6auCDIFDWooF1EfMVtJJtrYZO_LNgxy1BK5xZODkaTKCKmL5fZ9cWfSjkD3LAFUJVC-NXNH_GVA8.mp4\n\nThe 2024 HAUNTED TRAILS: the Fircrest Incident was a SPOOKtacular and frightening time at Thelma Gilmur Park!\nIt was all made possible by a team of dedicated volunteers working strenuously around the clock to keep the hazardous meltdown from taking out the entire town! ()\n\nHUGE THANKS to:\nPlanning Team: Anthony & Christina Chelf\, Bill Ottman\, Bonnie Viafore\, Deanna Nuttbrock-Allen\, Ethan Allen\, Gwen O’Brien\, James Mitchell\, Martin Christoffel\, Nikki Bufford and Shirley Schultz.\nPlus additional Event Day Team members: Abby Olson\, Angela\, Kaela and Hannah Kim\, Charlie Jordan\, Corie Slaker\, Darcey Rakunas\, Fircrest Presbyterian Church\, Guilianna Mendoza\, Jason\, Karlen & Sophie Stonefeld\, Jason Berkowitz\, Kasey Mendoza\, Ken Schmidtke\, Kiwanis Club of Fircrest\, Lynn Brehm\, Lynne Dickson\, Lisa Morin\, Mo Jensen\, Staley Bufford\, Selayna Rudolph and Students from Curtis\, Foss\, Lincoln\, Curtis and Stadium High Schools.\n\n\n\n\n\nVideo credit: Ken Schmidtke\n\n\n BEWARE OF SCAMMERS! Tickets are NON-transferable! DO NOT PURCHASE tickets from anyone commenting on this post!\nThe 2024 Haunted Trails: The Fircrest Incident is officially SOLD OUT.\nTickets must have been purchased in advance to enter this event. Tickets are NOT available at the event. \n BEWARE OF SCAMMERS! Tickets are NON-transferable! DO NOT PURCHASE tickets from anyone commenting on this post!\n  \n  \n\nHaunted Trails – The Fircrest Incident\nNEW – Advanced Tickets Required \nFircrest Residents:\nResident Tickets are NOW ON SALE through Rec Desk and the Community Center.\nOnline tickets: Program: Haunted Trails (Group A\, 6 PM – 7 PM) (recdesk.com) or Program: Haunted Trails (Group B\, 7 PM – 8 PM) (recdesk.com)\n$3 per person\n$12 per family (up to 6 members)\n+$1 for each additional family member past 6 \nNon-Residents\nTickets go on sale October 14th\nOnline tickets:\n$5 per person\n$20 per family up to 6 members\n+$1 each additional family member past 6 \nRegistrant must be present to redeem tickets at gate.\nNo day of event tickets available.\nPay what you can tickets available.\nFor financial assistance please contact us directly at the Roy H. Murphy Community Center either in person or by phone 253-564-8177 \nTicket holders must arrive no later than 8:00 pm to guarantee getting through the line before the trail closes. \n*IMPORTANT* Number of tickets selected must match the fee structure above to claim online. \nTotal number of tickets available will be updated weekly.
URL:https://www.cityoffircrest.net/event/haunted-trails-7/
LOCATION:Thelma Gilmur Park\, 1404 Evergreen Dr.\,\, Fircrest\, WA\, 98466\, United States
CATEGORIES:Community Event,Holiday,Recreation
GEO:47.2208714;-122.5200688
X-APPLE-STRUCTURED-LOCATION;VALUE=URI;X-ADDRESS=Thelma Gilmur Park 1404 Evergreen Dr. Fircrest WA 98466 United States;X-APPLE-RADIUS=500;X-TITLE=1404 Evergreen Dr.\,:geo:-122.5200688,47.2208714
END:VEVENT
END:VCALENDAR