BEGIN:VCALENDAR
VERSION:2.0
PRODID:-//City of Fircrest - ECPv6.15.20//NONSGML v1.0//EN
CALSCALE:GREGORIAN
METHOD:PUBLISH
X-WR-CALNAME:City of Fircrest
X-ORIGINAL-URL:https://www.cityoffircrest.net
X-WR-CALDESC:Events for City of Fircrest
REFRESH-INTERVAL;VALUE=DURATION:PT1H
X-Robots-Tag:noindex
X-PUBLISHED-TTL:PT1H
BEGIN:VTIMEZONE
TZID:America/Los_Angeles
BEGIN:DAYLIGHT
TZOFFSETFROM:-0800
TZOFFSETTO:-0700
TZNAME:PDT
DTSTART:20160313T100000
END:DAYLIGHT
BEGIN:STANDARD
TZOFFSETFROM:-0700
TZOFFSETTO:-0800
TZNAME:PST
DTSTART:20161106T090000
END:STANDARD
BEGIN:DAYLIGHT
TZOFFSETFROM:-0800
TZOFFSETTO:-0700
TZNAME:PDT
DTSTART:20170312T100000
END:DAYLIGHT
BEGIN:STANDARD
TZOFFSETFROM:-0700
TZOFFSETTO:-0800
TZNAME:PST
DTSTART:20171105T090000
END:STANDARD
BEGIN:DAYLIGHT
TZOFFSETFROM:-0800
TZOFFSETTO:-0700
TZNAME:PDT
DTSTART:20180311T100000
END:DAYLIGHT
BEGIN:STANDARD
TZOFFSETFROM:-0700
TZOFFSETTO:-0800
TZNAME:PST
DTSTART:20181104T090000
END:STANDARD
BEGIN:DAYLIGHT
TZOFFSETFROM:-0800
TZOFFSETTO:-0700
TZNAME:PDT
DTSTART:20190310T100000
END:DAYLIGHT
BEGIN:STANDARD
TZOFFSETFROM:-0700
TZOFFSETTO:-0800
TZNAME:PST
DTSTART:20191103T090000
END:STANDARD
END:VTIMEZONE
BEGIN:VTIMEZONE
TZID:UTC
BEGIN:STANDARD
TZOFFSETFROM:+0000
TZOFFSETTO:+0000
TZNAME:UTC
DTSTART:20160101T000000
END:STANDARD
END:VTIMEZONE
BEGIN:VEVENT
DTSTART;TZID=America/Los_Angeles:20180402T090000
DTEND;TZID=America/Los_Angeles:20180402T120000
DTSTAMP:20260421T155100
CREATED:20171113T235834Z
LAST-MODIFIED:20200326T183142Z
UID:10002042-1522659600-1522670400@www.cityoffircrest.net
SUMMARY:Thelma Gilmur Park Habitat Stewardship Work Party
DESCRIPTION:
URL:https://www.cityoffircrest.net/event/4801/2018-04-02/
LOCATION:Thelma Gilmur Park\, 1404 Evergreen Dr.\,\, Fircrest\, WA\, 98466\, United States
CATEGORIES:Recreation
ATTACH;FMTTYPE=image/jpeg:https://www.cityoffircrest.net/wp-content/uploads/2017/04/GilmurPark-e1493924815149.jpg
ORGANIZER;CN="Belinda Paterno":MAILTO:belindap@piercecd.org
GEO:47.2208714;-122.5200688
X-APPLE-STRUCTURED-LOCATION;VALUE=URI;X-ADDRESS=Thelma Gilmur Park 1404 Evergreen Dr. Fircrest WA 98466 United States;X-APPLE-RADIUS=500;X-TITLE=1404 Evergreen Dr.\,:geo:-122.5200688,47.2208714
END:VEVENT
BEGIN:VEVENT
DTSTART;TZID=America/Los_Angeles:20180331T100000
DTEND;TZID=America/Los_Angeles:20180331T100000
DTSTAMP:20260421T155100
CREATED:20180103T235322Z
LAST-MODIFIED:20180123T194823Z
UID:10001585-1522490400-1522490400@www.cityoffircrest.net
SUMMARY:Easter Egg Hunt
DESCRIPTION:The Fircrest Annual Easter Egg Hunt will be held on Saturday\, March 31 at 10 AM. Fircrest Tot Lot for children 4 & under and at Fircrest Park for children ages 5-9. Join us at 9 AM at the Community Center for crafts\, games\, and refreshments before the event kicks off! Cost is free! \nContact the Rec Department for more information.  253-564-8177
URL:https://www.cityoffircrest.net/event/easter-egg-hunt/
LOCATION:Tot Lot\, 611 Contra Costa Avenue\, Fircrest\, WA\, 98466\, United States
CATEGORIES:Community Event,Recreation
ATTACH;FMTTYPE=image/jpeg:https://www.cityoffircrest.net/wp-content/uploads/2018/01/Easter-Eggs.jpg
GEO:47.2328776;-122.5121022
X-APPLE-STRUCTURED-LOCATION;VALUE=URI;X-ADDRESS=Tot Lot 611 Contra Costa Avenue Fircrest WA 98466 United States;X-APPLE-RADIUS=500;X-TITLE=611 Contra Costa Avenue:geo:-122.5121022,47.2328776
END:VEVENT
BEGIN:VEVENT
DTSTART;TZID=America/Los_Angeles:20180324T080000
DTEND;TZID=America/Los_Angeles:20180324T080000
DTSTAMP:20260421T155100
CREATED:20180103T234026Z
LAST-MODIFIED:20180221T232552Z
UID:10001584-1521878400-1521878400@www.cityoffircrest.net
SUMMARY:Fish N Fun
DESCRIPTION:We will have a pool stocked with trout to be caught by kids 10 years & younger on Saturday\, March 24. The times are 8 AM to 12 PM (must have a ticket) and from 1 – 2 PM (open fish). Kids need to bring their own fishing poles. Tickets for fishing reservations will be available at the Roy H. Murphy Community Center beginning Saturday\, March 3. Cost is free! \nContact the Rec Department for more information.  253-564-8177
URL:https://www.cityoffircrest.net/event/fish-and-fun/
LOCATION:Fircrest\, WA\, 98466\, United States
CATEGORIES:Community Event,Recreation
ATTACH;FMTTYPE=image/jpeg:https://www.cityoffircrest.net/wp-content/uploads/2018/01/Girl-holding-fishing-pole.jpg
END:VEVENT
BEGIN:VEVENT
DTSTART;TZID=America/Los_Angeles:20180305T090000
DTEND;TZID=America/Los_Angeles:20180305T120000
DTSTAMP:20260421T155100
CREATED:20171113T235834Z
LAST-MODIFIED:20200326T183142Z
UID:10002041-1520240400-1520251200@www.cityoffircrest.net
SUMMARY:Thelma Gilmur Park Habitat Stewardship Work Party
DESCRIPTION:
URL:https://www.cityoffircrest.net/event/4801/2018-03-05/
LOCATION:Thelma Gilmur Park\, 1404 Evergreen Dr.\,\, Fircrest\, WA\, 98466\, United States
CATEGORIES:Recreation
ATTACH;FMTTYPE=image/jpeg:https://www.cityoffircrest.net/wp-content/uploads/2017/04/GilmurPark-e1493924815149.jpg
ORGANIZER;CN="Belinda Paterno":MAILTO:belindap@piercecd.org
GEO:47.2208714;-122.5200688
X-APPLE-STRUCTURED-LOCATION;VALUE=URI;X-ADDRESS=Thelma Gilmur Park 1404 Evergreen Dr. Fircrest WA 98466 United States;X-APPLE-RADIUS=500;X-TITLE=1404 Evergreen Dr.\,:geo:-122.5200688,47.2208714
END:VEVENT
BEGIN:VEVENT
DTSTART;TZID=America/Los_Angeles:20180303T080000
DTEND;TZID=America/Los_Angeles:20180303T080000
DTSTAMP:20260421T155100
CREATED:20180103T230944Z
LAST-MODIFIED:20180103T233912Z
UID:10002155-1520064000-1520064000@www.cityoffircrest.net
SUMMARY:Basketball Tourney
DESCRIPTION:For 2nd and 3rd graders. \nTime: TBD \nContact the Rec Department for more information. 253-564-8177
URL:https://www.cityoffircrest.net/event/basketball-tourney/2018-03-03/
LOCATION:WA
CATEGORIES:Recreation,Youth Sports
ATTACH;FMTTYPE=image/png:https://www.cityoffircrest.net/wp-content/uploads/2018/01/basketball.png
END:VEVENT
BEGIN:VEVENT
DTSTART;TZID=America/Los_Angeles:20180302T080000
DTEND;TZID=America/Los_Angeles:20180302T080000
DTSTAMP:20260421T155100
CREATED:20180103T230944Z
LAST-MODIFIED:20180103T233912Z
UID:10002154-1519977600-1519977600@www.cityoffircrest.net
SUMMARY:Basketball Tourney
DESCRIPTION:For 2nd and 3rd graders. \nTime: TBD \nContact the Rec Department for more information. 253-564-8177
URL:https://www.cityoffircrest.net/event/basketball-tourney/2018-03-02/
LOCATION:WA
CATEGORIES:Recreation,Youth Sports
ATTACH;FMTTYPE=image/png:https://www.cityoffircrest.net/wp-content/uploads/2018/01/basketball.png
END:VEVENT
BEGIN:VEVENT
DTSTART;TZID=America/Los_Angeles:20180216T190000
DTEND;TZID=America/Los_Angeles:20180216T210000
DTSTAMP:20260421T155100
CREATED:20180103T232802Z
LAST-MODIFIED:20190117T221304Z
UID:10001560-1518807600-1518814800@www.cityoffircrest.net
SUMMARY:Daddy Daughter Dance
DESCRIPTION:  \n  \n \nDads (dad\, grandpa\, uncle\, or any other special person who fits the role) and daughters enjoy an evening just for you! An array of music will please all age groups and tastes! Come prepared to dance the night away. All ages welcome\, refreshments and party favors provided. A photographer will be available for pictures. Get your tickets at the Roy H. Murphy Community Center beginning Saturday\, January 20. Pre-registration required.Cost is $20 per couple\, $5 per additional child. \n  \nContact the Rec Department for more information.  253-564-8177
URL:https://www.cityoffircrest.net/event/daddy-daughter-dance/
LOCATION:Roy H. Murphy Community Center\, 555 Contra Costa Avenue\, Fircrest\, WA\, 98466\, United States
CATEGORIES:Community Event,Recreation
GEO:47.2338427;-122.5126411
X-APPLE-STRUCTURED-LOCATION;VALUE=URI;X-ADDRESS=Roy H. Murphy Community Center 555 Contra Costa Avenue Fircrest WA 98466 United States;X-APPLE-RADIUS=500;X-TITLE=555 Contra Costa Avenue:geo:-122.5126411,47.2338427
END:VEVENT
BEGIN:VEVENT
DTSTART;TZID=America/Los_Angeles:20180205T090000
DTEND;TZID=America/Los_Angeles:20180205T120000
DTSTAMP:20260421T155100
CREATED:20171113T235834Z
LAST-MODIFIED:20200326T183142Z
UID:10002040-1517821200-1517832000@www.cityoffircrest.net
SUMMARY:Thelma Gilmur Park Habitat Stewardship Work Party
DESCRIPTION:
URL:https://www.cityoffircrest.net/event/4801/2018-02-05/
LOCATION:Thelma Gilmur Park\, 1404 Evergreen Dr.\,\, Fircrest\, WA\, 98466\, United States
CATEGORIES:Recreation
ATTACH;FMTTYPE=image/jpeg:https://www.cityoffircrest.net/wp-content/uploads/2017/04/GilmurPark-e1493924815149.jpg
ORGANIZER;CN="Belinda Paterno":MAILTO:belindap@piercecd.org
GEO:47.2208714;-122.5200688
X-APPLE-STRUCTURED-LOCATION;VALUE=URI;X-ADDRESS=Thelma Gilmur Park 1404 Evergreen Dr. Fircrest WA 98466 United States;X-APPLE-RADIUS=500;X-TITLE=1404 Evergreen Dr.\,:geo:-122.5200688,47.2208714
END:VEVENT
BEGIN:VEVENT
DTSTART;TZID=America/Los_Angeles:20180106T080000
DTEND;TZID=America/Los_Angeles:20180106T080000
DTSTAMP:20260421T155100
CREATED:20180103T231350Z
LAST-MODIFIED:20180103T231350Z
UID:10002156-1515225600-1515225600@www.cityoffircrest.net
SUMMARY:Youth Basketball Jamboree
DESCRIPTION:Time: TBD \nContact the Rec Department for more information.  253-564-8177
URL:https://www.cityoffircrest.net/event/youth-basketball-jamboree/
LOCATION:Roy H. Murphy Community Center\, 555 Contra Costa Avenue\, Fircrest\, WA\, 98466\, United States
CATEGORIES:Recreation,Youth Sports
ATTACH;FMTTYPE=image/png:https://www.cityoffircrest.net/wp-content/uploads/2018/01/basketball.png
GEO:47.2338427;-122.5126411
X-APPLE-STRUCTURED-LOCATION;VALUE=URI;X-ADDRESS=Roy H. Murphy Community Center 555 Contra Costa Avenue Fircrest WA 98466 United States;X-APPLE-RADIUS=500;X-TITLE=555 Contra Costa Avenue:geo:-122.5126411,47.2338427
END:VEVENT
BEGIN:VEVENT
DTSTART;TZID=America/Los_Angeles:20180101T090000
DTEND;TZID=America/Los_Angeles:20180101T120000
DTSTAMP:20260421T155100
CREATED:20171113T235834Z
LAST-MODIFIED:20200326T183142Z
UID:10002039-1514797200-1514808000@www.cityoffircrest.net
SUMMARY:Thelma Gilmur Park Habitat Stewardship Work Party
DESCRIPTION:
URL:https://www.cityoffircrest.net/event/4801/2018-01-01/
LOCATION:Thelma Gilmur Park\, 1404 Evergreen Dr.\,\, Fircrest\, WA\, 98466\, United States
CATEGORIES:Recreation
ATTACH;FMTTYPE=image/jpeg:https://www.cityoffircrest.net/wp-content/uploads/2017/04/GilmurPark-e1493924815149.jpg
ORGANIZER;CN="Belinda Paterno":MAILTO:belindap@piercecd.org
GEO:47.2208714;-122.5200688
X-APPLE-STRUCTURED-LOCATION;VALUE=URI;X-ADDRESS=Thelma Gilmur Park 1404 Evergreen Dr. Fircrest WA 98466 United States;X-APPLE-RADIUS=500;X-TITLE=1404 Evergreen Dr.\,:geo:-122.5200688,47.2208714
END:VEVENT
BEGIN:VEVENT
DTSTART;TZID=America/Los_Angeles:20171220T180000
DTEND;TZID=America/Los_Angeles:20171220T180000
DTSTAMP:20260421T155100
CREATED:20171204T195023Z
LAST-MODIFIED:20171204T200148Z
UID:10002125-1513792800-1513792800@www.cityoffircrest.net
SUMMARY:The Santa Sleigh Ride
DESCRIPTION:
URL:https://www.cityoffircrest.net/event/santa-sleigh-ride-2017-12-20/
LOCATION:Fircrest Town Center\, 1115 Regents Blvd\, Fircrest\, wa\, 98466
CATEGORIES:Community Event,Police Department
GEO:47.2393597;-122.5189827
X-APPLE-STRUCTURED-LOCATION;VALUE=URI;X-ADDRESS=Fircrest Town Center 1115 Regents Blvd Fircrest wa 98466;X-APPLE-RADIUS=500;X-TITLE=1115 Regents Blvd:geo:-122.5189827,47.2393597
END:VEVENT
BEGIN:VEVENT
DTSTART;TZID=America/Los_Angeles:20171219T180000
DTEND;TZID=America/Los_Angeles:20171219T180000
DTSTAMP:20260421T155100
CREATED:20171204T195023Z
LAST-MODIFIED:20171204T195958Z
UID:10002124-1513706400-1513706400@www.cityoffircrest.net
SUMMARY:The Santa Sleigh Ride
DESCRIPTION:
URL:https://www.cityoffircrest.net/event/santa-sleigh-ride/2017-12-19/
LOCATION:Whittier Elementary\, 777 Elm Tree Lane\, Fircrest\, WA\, 98466\, United States
CATEGORIES:Community Event,Police Department
GEO:47.229;-122.5141205
X-APPLE-STRUCTURED-LOCATION;VALUE=URI;X-ADDRESS=Whittier Elementary 777 Elm Tree Lane Fircrest WA 98466 United States;X-APPLE-RADIUS=500;X-TITLE=777 Elm Tree Lane:geo:-122.5141205,47.229
END:VEVENT
BEGIN:VEVENT
DTSTART;TZID=America/Los_Angeles:20171204T090000
DTEND;TZID=America/Los_Angeles:20171204T120000
DTSTAMP:20260421T155100
CREATED:20171113T235834Z
LAST-MODIFIED:20200326T183142Z
UID:10002038-1512378000-1512388800@www.cityoffircrest.net
SUMMARY:Thelma Gilmur Park Habitat Stewardship Work Party
DESCRIPTION:
URL:https://www.cityoffircrest.net/event/4801/2017-12-04/
LOCATION:Thelma Gilmur Park\, 1404 Evergreen Dr.\,\, Fircrest\, WA\, 98466\, United States
CATEGORIES:Recreation
ATTACH;FMTTYPE=image/jpeg:https://www.cityoffircrest.net/wp-content/uploads/2017/04/GilmurPark-e1493924815149.jpg
ORGANIZER;CN="Belinda Paterno":MAILTO:belindap@piercecd.org
GEO:47.2208714;-122.5200688
X-APPLE-STRUCTURED-LOCATION;VALUE=URI;X-ADDRESS=Thelma Gilmur Park 1404 Evergreen Dr. Fircrest WA 98466 United States;X-APPLE-RADIUS=500;X-TITLE=1404 Evergreen Dr.\,:geo:-122.5200688,47.2208714
END:VEVENT
BEGIN:VEVENT
DTSTART;TZID=UTC:20171203T190000
DTEND;TZID=UTC:20171203T200000
DTSTAMP:20260421T155100
CREATED:20170513T014745Z
LAST-MODIFIED:20170513T014745Z
UID:10001489-1512327600-1512331200@www.cityoffircrest.net
SUMMARY:Tree Lighting Ceremony
DESCRIPTION:Contact the Rec Department for more information.  253-564-8177
URL:https://www.cityoffircrest.net/event/tree-lighting-ceremony/
LOCATION:WA
CATEGORIES:Community Event
END:VEVENT
BEGIN:VEVENT
DTSTART;TZID=UTC:20171119T100000
DTEND;TZID=UTC:20171119T160000
DTSTAMP:20260421T155100
CREATED:20170513T014049Z
LAST-MODIFIED:20171103T171115Z
UID:10001486-1511085600-1511107200@www.cityoffircrest.net
SUMMARY:Holiday Bazaar
DESCRIPTION:Contact the Rec Department for more information.  253-564-8177
URL:https://www.cityoffircrest.net/event/holiday-bazaar-2/
LOCATION:Roy H. Murphy Community Center\, 555 Contra Costa Avenue\, Fircrest\, WA\, 98466\, United States
CATEGORIES:Community Event
GEO:47.2338427;-122.5126411
X-APPLE-STRUCTURED-LOCATION;VALUE=URI;X-ADDRESS=Roy H. Murphy Community Center 555 Contra Costa Avenue Fircrest WA 98466 United States;X-APPLE-RADIUS=500;X-TITLE=555 Contra Costa Avenue:geo:-122.5126411,47.2338427
END:VEVENT
BEGIN:VEVENT
DTSTART;TZID=UTC:20171118T100000
DTEND;TZID=UTC:20171118T170000
DTSTAMP:20260421T155100
CREATED:20170513T013945Z
LAST-MODIFIED:20171103T171026Z
UID:10001485-1510999200-1511024400@www.cityoffircrest.net
SUMMARY:Holiday Bazaar
DESCRIPTION:Contact the Rec Department for more information.  253-564-8177
URL:https://www.cityoffircrest.net/event/holiday-bazaar/
LOCATION:Roy H. Murphy Community Center\, 555 Contra Costa Avenue\, Fircrest\, WA\, 98466\, United States
CATEGORIES:Community Event,Recreation
GEO:47.2338427;-122.5126411
X-APPLE-STRUCTURED-LOCATION;VALUE=URI;X-ADDRESS=Roy H. Murphy Community Center 555 Contra Costa Avenue Fircrest WA 98466 United States;X-APPLE-RADIUS=500;X-TITLE=555 Contra Costa Avenue:geo:-122.5126411,47.2338427
END:VEVENT
BEGIN:VEVENT
DTSTART;TZID=UTC:20171031T180000
DTEND;TZID=UTC:20171031T200000
DTSTAMP:20260421T155100
CREATED:20170513T003720Z
LAST-MODIFIED:20171018T192504Z
UID:10001478-1509472800-1509480000@www.cityoffircrest.net
SUMMARY:Pumpkin Patch
DESCRIPTION:Contact the Rec Department for more information.  253-564-8177
URL:https://www.cityoffircrest.net/event/pumpkin-patch/
LOCATION:Roy H. Murphy Community Center\, 555 Contra Costa Avenue\, Fircrest\, WA\, 98466\, United States
CATEGORIES:Community Event
GEO:47.2338427;-122.5126411
X-APPLE-STRUCTURED-LOCATION;VALUE=URI;X-ADDRESS=Roy H. Murphy Community Center 555 Contra Costa Avenue Fircrest WA 98466 United States;X-APPLE-RADIUS=500;X-TITLE=555 Contra Costa Avenue:geo:-122.5126411,47.2338427
END:VEVENT
BEGIN:VEVENT
DTSTART;TZID=UTC:20171026T190000
DTEND;TZID=UTC:20171026T203000
DTSTAMP:20260421T155100
CREATED:20170513T003415Z
LAST-MODIFIED:20171018T192924Z
UID:10001477-1509044400-1509049800@www.cityoffircrest.net
SUMMARY:Haunted Trails
DESCRIPTION:Contact the Rec Department for more information.  253-564-8177
URL:https://www.cityoffircrest.net/event/haunted-trails/
LOCATION:Thelma Gilmur Park\, 1404 Evergreen Dr.\,\, Fircrest\, WA\, 98466\, United States
CATEGORIES:Community Event
GEO:47.2208714;-122.5200688
X-APPLE-STRUCTURED-LOCATION;VALUE=URI;X-ADDRESS=Thelma Gilmur Park 1404 Evergreen Dr. Fircrest WA 98466 United States;X-APPLE-RADIUS=500;X-TITLE=1404 Evergreen Dr.\,:geo:-122.5200688,47.2208714
END:VEVENT
BEGIN:VEVENT
DTSTART;TZID=UTC:20171007T080000
DTEND;TZID=UTC:20171007T160000
DTSTAMP:20260421T155100
CREATED:20170513T003229Z
LAST-MODIFIED:20170915T160817Z
UID:10001889-1507363200-1507392000@www.cityoffircrest.net
SUMMARY:Fall Clean-Up
DESCRIPTION:Contact Westside Disposal for more information.  253-564-3212
URL:https://www.cityoffircrest.net/event/fall-clean-up-2/
LOCATION:WA
CATEGORIES:CleanUp,Community Event
END:VEVENT
BEGIN:VEVENT
DTSTART;TZID=America/Los_Angeles:20170809T190000
DTEND;TZID=America/Los_Angeles:20170809T210000
DTSTAMP:20260421T155100
CREATED:20170802T222043Z
LAST-MODIFIED:20170803T232431Z
UID:10001976-1502305200-1502312400@www.cityoffircrest.net
SUMMARY:Community Center and Pool Advisory Committee Meeting
DESCRIPTION:The public is encouraged to attend a presentation by the Community Center and Pool Advisory Committee on the preliminary results of the City of Fircrest Pool and Roy H. Murphy Community Center survey.  The meeting is scheduled for Wednesday\, August 9\, 2017 at 7:00 pm at the Wainwright Intermediate School\, 130 Alameda Avenue\, Fircrest\, WA\, which is handicapped accessible. City staff and members of the City Council will be present to discuss the survey results. \nFor information on this public meeting\, please contact the Department of Parks and Recreation at (253) 564-8177.
URL:https://www.cityoffircrest.net/event/public-notice-august-9th-committee-meeting/
LOCATION:Wainwright Intermediate School\, 130 Alameda Avenue\, Fircrest\, WA\, 98466\, United States
CATEGORIES:City Council,Public Meeting,Recreation
GEO:47.2417185;-122.5166773
X-APPLE-STRUCTURED-LOCATION;VALUE=URI;X-ADDRESS=Wainwright Intermediate School 130 Alameda Avenue Fircrest WA 98466 United States;X-APPLE-RADIUS=500;X-TITLE=130 Alameda Avenue:geo:-122.5166773,47.2417185
END:VEVENT
BEGIN:VEVENT
DTSTART;TZID=UTC:20170801T180000
DTEND;TZID=UTC:20170801T210000
DTSTAMP:20260421T155100
CREATED:20170517T042914Z
LAST-MODIFIED:20170517T042914Z
UID:10001957-1501610400-1501621200@www.cityoffircrest.net
SUMMARY:National Night Out
DESCRIPTION:You are invited to participate with us as we join over 16\,000 communities across the nation to promote the annual “National Night Out Against Crime.”  National Night Out is an opportunity to build neighborhood unity and strengthen the police community partnership that is important to the success of our community policing efforts. \nThis family friendly event includes food venders\, fun activities\, music\, and so much more.  Save the date and come down to the Fircrest Community Center\, 555 Contra Costa Ave.\, Fircrest\, WA on August 1st\, 2017.  We can’t wait to see you!
URL:https://www.cityoffircrest.net/event/national-night-out-2/
LOCATION:WA
CATEGORIES:Community Event,Police Department,Recreation
END:VEVENT
BEGIN:VEVENT
DTSTART;TZID=UTC:20170721T180000
DTEND;TZID=UTC:20170721T223000
DTSTAMP:20260421T155100
CREATED:20170512T235451Z
LAST-MODIFIED:20170525T181355Z
UID:10001886-1500660000-1500676200@www.cityoffircrest.net
SUMMARY:Movie and Picnic in the Park
DESCRIPTION:Join us for this year’s feature presentation of Trolls. The event starts at 6 PM\, so find your spot on the grass and have some fun to play frisbee\, volleyball\, and eating hot dogs prepared by the Fircrest Kiwanis. The movie is scheduled to start at 9:00 PM.
URL:https://www.cityoffircrest.net/event/movie-and-picnic-in-the-park/
LOCATION:WA
CATEGORIES:Community Event,Recreation
END:VEVENT
BEGIN:VEVENT
DTSTART;TZID=UTC:20170709T100000
DTEND;TZID=UTC:20170709T150000
DTSTAMP:20260421T155100
CREATED:20170512T235541Z
LAST-MODIFIED:20170626T222718Z
UID:10001887-1499594400-1499612400@www.cityoffircrest.net
SUMMARY:30th Annual Fircrest Picnic & Rod Run
DESCRIPTION:  \nA wonderful tradition is back again to showcase over 300 cars.  The Fircrest Kiwanis will be serving a great breakfast and burgers for lunch. \nThis great event is free to the public. Registration for car show participants is $15 at the gate the day of the show.
URL:https://www.cityoffircrest.net/event/30th-annual-fircrest-picnic-rod-run/
LOCATION:WA
CATEGORIES:Community Event,Recreation
ATTACH;FMTTYPE=image/png:https://www.cityoffircrest.net/wp-content/uploads/2017/06/classiccars.png
END:VEVENT
BEGIN:VEVENT
DTSTART;TZID=UTC:20170626T090000
DTEND;TZID=UTC:20170626T183000
DTSTAMP:20260421T155100
CREATED:20170512T234000Z
LAST-MODIFIED:20170512T234000Z
UID:10001877-1498467600-1498501800@www.cityoffircrest.net
SUMMARY:Swim Lessons Start
DESCRIPTION:Click Here for More Information
URL:https://www.cityoffircrest.net/event/swim-lessons-start/
LOCATION:WA
CATEGORIES:Recreation
END:VEVENT
BEGIN:VEVENT
DTSTART;TZID=UTC:20170625T180000
DTEND;TZID=UTC:20170625T200000
DTSTAMP:20260421T155100
CREATED:20170512T233658Z
LAST-MODIFIED:20170513T000840Z
UID:10001876-1498413600-1498420800@www.cityoffircrest.net
SUMMARY:Strawberry Feed and Band Concert
DESCRIPTION:Listen to great music at the Ron Russo Pavilion at Fircrest Park while enjoying Strawberry Shortcake. Shortcake will be served at 5:30 PM and the band will begin at 6 PM. Cost is $2.00 per shortcake. \n 
URL:https://www.cityoffircrest.net/event/strawberry-feed-and-band-concert/
LOCATION:WA
CATEGORIES:Community Event,Recreation
END:VEVENT
BEGIN:VEVENT
DTSTART;TZID=UTC:20170610T090000
DTEND;TZID=UTC:20170610T140000
DTSTAMP:20260421T155100
CREATED:20170512T233522Z
LAST-MODIFIED:20170525T181843Z
UID:10001875-1497085200-1497103200@www.cityoffircrest.net
SUMMARY:Community Garage Sale
DESCRIPTION:Contact the Rec Department for more information.  253-564-8177
URL:https://www.cityoffircrest.net/event/community-garage-sale/
LOCATION:WA
CATEGORIES:Recreation
ATTACH;FMTTYPE=image/jpeg:https://www.cityoffircrest.net/wp-content/uploads/2017/05/Garage-Sale-Signs.jpg
END:VEVENT
BEGIN:VEVENT
DTSTART;TZID=UTC:20170603T183000
DTEND;TZID=UTC:20170603T203000
DTSTAMP:20260421T155100
CREATED:20170512T233233Z
LAST-MODIFIED:20170530T164946Z
UID:10001874-1496514600-1496521800@www.cityoffircrest.net
SUMMARY:Go Hawaiian Pool Party
DESCRIPTION:Contact the Rec Department for more information.  253-564-8177
URL:https://www.cityoffircrest.net/event/go-hawaiian-pool-party/
LOCATION:WA
CATEGORIES:Recreation
END:VEVENT
BEGIN:VEVENT
DTSTART;TZID=America/Los_Angeles:20170530T173000
DTEND;TZID=America/Los_Angeles:20170530T193000
DTSTAMP:20260421T155100
CREATED:20170522T214643Z
LAST-MODIFIED:20170522T215312Z
UID:10001962-1496165400-1496172600@www.cityoffircrest.net
SUMMARY:Community Center and Pool Advisory Committee
DESCRIPTION:NOTICE IS HEREBY GIVEN that the Community Center and Pool Advisory Committee will meet on Tuesday\, May 30\, 2017 at 5:30 pm at the Roy H. Murphy Community Center\, 555 Contra Costa Avenue\, Fircrest\, Washington\, which is handicapped accessible to have an update of the community survey\, review the process of disseminating Community Center and Pool Survey information to the community\, City staff and City Council\, discuss ideas for design standards for park buildings and structures factoring in the 1) Park Comprehensive Plan\, 2) historical heritage and significance\, 3) functionality\, and 4) creation of a strong community  identity and create innovative options for the revitalization of the Community Center Building and Community Pool. \n  \nFor information on the community meeting contact the Department of Parks and Recreation at (253) 564-8177
URL:https://www.cityoffircrest.net/event/community-center-and-pool-advisory-committee/
LOCATION:WA
CATEGORIES:City Council,Recreation
END:VEVENT
BEGIN:VEVENT
DTSTART;TZID=UTC:20170512T180000
DTEND;TZID=UTC:20170512T200000
DTSTAMP:20260421T155100
CREATED:20170421T044735Z
LAST-MODIFIED:20170513T020817Z
UID:10001559-1494612000-1494619200@www.cityoffircrest.net
SUMMARY:Mother & Son Dance
DESCRIPTION:
URL:https://www.cityoffircrest.net/event/mother-son-dance/
LOCATION:WA
CATEGORIES:Recreation
END:VEVENT
BEGIN:VEVENT
DTSTART;TZID=UTC:20170415T090000
DTEND;TZID=UTC:20170415T090000
DTSTAMP:20260421T155100
CREATED:20170415T052525Z
LAST-MODIFIED:20170422T040735Z
UID:10001558-1492246800-1492246800@www.cityoffircrest.net
SUMMARY:Easter Egg Hunt & Eggstravaganza
DESCRIPTION:Join us at 9 AM at the Community Center for crafts\, games\, and refreshments before the event kicks off \nThe Fircrest Annual Easter Egg Hunt will be held on Saturday\, April15 at 10 AM. \nFircrest Tot Lot for children 4 & under and at Fircrest Park for children ages 5-9. \nJoin us at 9 AM at the Community Center for crafts\, games\, and refreshments before the event kicks off!
URL:https://www.cityoffircrest.net/event/easter-egg-hunt-eggstravaganza/
LOCATION:WA
CATEGORIES:Police Department,Recreation
END:VEVENT
END:VCALENDAR