BEGIN:VCALENDAR
VERSION:2.0
PRODID:-//City of Fircrest - ECPv6.15.20//NONSGML v1.0//EN
CALSCALE:GREGORIAN
METHOD:PUBLISH
X-WR-CALNAME:City of Fircrest
X-ORIGINAL-URL:https://www.cityoffircrest.net
X-WR-CALDESC:Events for City of Fircrest
REFRESH-INTERVAL;VALUE=DURATION:PT1H
X-Robots-Tag:noindex
X-PUBLISHED-TTL:PT1H
BEGIN:VTIMEZONE
TZID:UTC
BEGIN:STANDARD
TZOFFSETFROM:+0000
TZOFFSETTO:+0000
TZNAME:UTC
DTSTART:20230101T000000
END:STANDARD
END:VTIMEZONE
BEGIN:VTIMEZONE
TZID:America/Los_Angeles
BEGIN:DAYLIGHT
TZOFFSETFROM:-0800
TZOFFSETTO:-0700
TZNAME:PDT
DTSTART:20230312T100000
END:DAYLIGHT
BEGIN:STANDARD
TZOFFSETFROM:-0700
TZOFFSETTO:-0800
TZNAME:PST
DTSTART:20231105T090000
END:STANDARD
BEGIN:DAYLIGHT
TZOFFSETFROM:-0800
TZOFFSETTO:-0700
TZNAME:PDT
DTSTART:20240310T100000
END:DAYLIGHT
BEGIN:STANDARD
TZOFFSETFROM:-0700
TZOFFSETTO:-0800
TZNAME:PST
DTSTART:20241103T090000
END:STANDARD
BEGIN:DAYLIGHT
TZOFFSETFROM:-0800
TZOFFSETTO:-0700
TZNAME:PDT
DTSTART:20250309T100000
END:DAYLIGHT
BEGIN:STANDARD
TZOFFSETFROM:-0700
TZOFFSETTO:-0800
TZNAME:PST
DTSTART:20251102T090000
END:STANDARD
END:VTIMEZONE
BEGIN:VEVENT
DTSTART;TZID=UTC:20241008T190000
DTEND;TZID=UTC:20241008T223000
DTSTAMP:20260421T184444
CREATED:20170510T044039Z
LAST-MODIFIED:20231204T204327Z
UID:10001672-1728414000-1728426600@www.cityoffircrest.net
SUMMARY:City Council Regular Meeting
DESCRIPTION:The City Council meets the second and fourth Tuesday of each month\, at 7:00 PM at the City Hall\, 115 Ramsdell Street. The public is invited and encouraged to attend. City Hall is accessible to disabled persons. Interpreters\, signers or other auxiliary aids will be provided upon five business days advance notice. \nFor More Information: \nCity Clerk\n115 Ramsdell Street\nFircrest WA 98466\nPhone: 253-564-8901 \nReview the Agenda
URL:https://www.cityoffircrest.net/event/city-council-regular-meeting-2/2024-10-08/
LOCATION:Fircrest City Hall\, 115 Ramsdell Street\, Fircrest\, WA\, 98466\, United States
CATEGORIES:City Council,Public Meeting
GEO:47.2323757;-122.5059765
X-APPLE-STRUCTURED-LOCATION;VALUE=URI;X-ADDRESS=Fircrest City Hall 115 Ramsdell Street Fircrest WA 98466 United States;X-APPLE-RADIUS=500;X-TITLE=115 Ramsdell Street:geo:-122.5059765,47.2323757
END:VEVENT
BEGIN:VEVENT
DTSTART;TZID=America/Los_Angeles:20241021T180000
DTEND;TZID=America/Los_Angeles:20241021T200000
DTSTAMP:20260421T184444
CREATED:20231212T221510Z
LAST-MODIFIED:20250709T181147Z
UID:10003944-1729533600-1729540800@www.cityoffircrest.net
SUMMARY:City Council Study Session
DESCRIPTION:City Council Study Sessions are held at 6:00 PM at City Hall\, 115 Ramsdell Street.  The public is invited and encouraged to attend. City Hall is accessible to disabled persons. Interpreters\, signers\, or other auxiliary aids will be provided upon five business days advance notice. \nFor More Information: \nCity Clerk\n115 Ramsdell Street\nFircrest WA 98466\nPhone: 253-564-8901 \nReview the Agenda
URL:https://www.cityoffircrest.net/event/city-council-study-session-3-2-2-2-3-3-2/2024-10-21/
LOCATION:Fircrest City Hall\, 115 Ramsdell Street\, Fircrest\, WA\, 98466\, United States
CATEGORIES:City Council,Public Meeting
GEO:47.2323757;-122.5059765
X-APPLE-STRUCTURED-LOCATION;VALUE=URI;X-ADDRESS=Fircrest City Hall 115 Ramsdell Street Fircrest WA 98466 United States;X-APPLE-RADIUS=500;X-TITLE=115 Ramsdell Street:geo:-122.5059765,47.2323757
END:VEVENT
BEGIN:VEVENT
DTSTART;TZID=UTC:20241022T190000
DTEND;TZID=UTC:20241022T223000
DTSTAMP:20260421T184444
CREATED:20170510T044155Z
LAST-MODIFIED:20231204T204413Z
UID:10001769-1729623600-1729636200@www.cityoffircrest.net
SUMMARY:City Council Regular Meeting
DESCRIPTION:The City Council meets the second and fourth Tuesday of each month\, at 7:00 PM at the City Hall\, 115 Ramsdell Street. The public is invited and encouraged to attend. City Hall is accessible to disabled persons. Interpreters\, signers or other auxiliary aids will be provided upon five business days advance notice. \nFor More Information: \nCity Clerk\n115 Ramsdell Street\nFircrest WA 98466\nPhone: 253-564-8901 \nReview the Agenda
URL:https://www.cityoffircrest.net/event/city-council-regular-meeting-3/2024-10-22/
LOCATION:Fircrest City Hall\, 115 Ramsdell Street\, Fircrest\, WA\, 98466\, United States
CATEGORIES:City Council,Public Meeting
GEO:47.2323757;-122.5059765
X-APPLE-STRUCTURED-LOCATION;VALUE=URI;X-ADDRESS=Fircrest City Hall 115 Ramsdell Street Fircrest WA 98466 United States;X-APPLE-RADIUS=500;X-TITLE=115 Ramsdell Street:geo:-122.5059765,47.2323757
END:VEVENT
BEGIN:VEVENT
DTSTART;TZID=America/Los_Angeles:20241029T180000
DTEND;TZID=America/Los_Angeles:20241029T200000
DTSTAMP:20260421T184444
CREATED:20241024T032132Z
LAST-MODIFIED:20241025T222945Z
UID:10004157-1730224800-1730232000@www.cityoffircrest.net
SUMMARY:Canceled Fircrest City Council - Special Budget Meeting
DESCRIPTION:NOTICE IS HEREBY GIVEN that the Fircrest City Council special meeting on October 29\, 2024\, has been canceled. \n  \nThe Fircrest City Council will hold special budget study session meetings on September 30\, October 7\, 14\, 21 and 29\, 2024\, at 6:00 P.M. for the sole purpose of reviewing the 2025 preliminary budget. \nThese meetings are open to the public and are held at 115 Ramsdell Street\, Fircrest\, WA 98466. Please visit Fircrest City Council Agenda and Minutes for the agenda. For questions\, please contact 253-564-8901 or email aburkhart@cityoffircrest.net.
URL:https://www.cityoffircrest.net/event/fircrest-city-council-special-budget-meetings-2/
CATEGORIES:City Council
END:VEVENT
END:VCALENDAR