BEGIN:VCALENDAR
VERSION:2.0
PRODID:-//City of Fircrest - ECPv6.15.20//NONSGML v1.0//EN
CALSCALE:GREGORIAN
METHOD:PUBLISH
X-ORIGINAL-URL:https://www.cityoffircrest.net
X-WR-CALDESC:Events for City of Fircrest
REFRESH-INTERVAL;VALUE=DURATION:PT1H
X-Robots-Tag:noindex
X-PUBLISHED-TTL:PT1H
BEGIN:VTIMEZONE
TZID:America/Los_Angeles
BEGIN:DAYLIGHT
TZOFFSETFROM:-0800
TZOFFSETTO:-0700
TZNAME:PDT
DTSTART:20230312T100000
END:DAYLIGHT
BEGIN:STANDARD
TZOFFSETFROM:-0700
TZOFFSETTO:-0800
TZNAME:PST
DTSTART:20231105T090000
END:STANDARD
BEGIN:DAYLIGHT
TZOFFSETFROM:-0800
TZOFFSETTO:-0700
TZNAME:PDT
DTSTART:20240310T100000
END:DAYLIGHT
BEGIN:STANDARD
TZOFFSETFROM:-0700
TZOFFSETTO:-0800
TZNAME:PST
DTSTART:20241103T090000
END:STANDARD
BEGIN:DAYLIGHT
TZOFFSETFROM:-0800
TZOFFSETTO:-0700
TZNAME:PDT
DTSTART:20250309T100000
END:DAYLIGHT
BEGIN:STANDARD
TZOFFSETFROM:-0700
TZOFFSETTO:-0800
TZNAME:PST
DTSTART:20251102T090000
END:STANDARD
END:VTIMEZONE
BEGIN:VTIMEZONE
TZID:UTC
BEGIN:STANDARD
TZOFFSETFROM:+0000
TZOFFSETTO:+0000
TZNAME:UTC
DTSTART:20230101T000000
END:STANDARD
END:VTIMEZONE
BEGIN:VEVENT
DTSTART;TZID=America/Los_Angeles:20241104T183000
DTEND;TZID=America/Los_Angeles:20241104T203000
DTSTAMP:20260421T171248
CREATED:20241025T222900Z
LAST-MODIFIED:20241028T205711Z
UID:10004161-1730745000-1730752200@www.cityoffircrest.net
SUMMARY:Fircrest City Council - Special Budget Meetings
DESCRIPTION:The Fircrest City Council will hold a special budget study session meeting on November 4\, 2024\, at 6:30 P.M. for the sole purpose of reviewing the 2025 preliminary budget. \nThese meetings are open to the public and are held at 115 Ramsdell Street\, Fircrest\, WA 98466. Please visit Fircrest City Council Agenda and Minutes for the agenda. For questions\, please contact 253-564-8901 or email aburkhart@cityoffircrest.net.
URL:https://www.cityoffircrest.net/event/fircrest-city-council-special-budget-meetings-3/
CATEGORIES:City Council,Public Meeting
END:VEVENT
BEGIN:VEVENT
DTSTART;TZID=America/Los_Angeles:20241112T183000
DTEND;TZID=America/Los_Angeles:20241112T190000
DTSTAMP:20260421T171248
CREATED:20241025T191219Z
LAST-MODIFIED:20241106T014235Z
UID:10004160-1731436200-1731438000@www.cityoffircrest.net
SUMMARY:Canceled - City Council Special Meeting
DESCRIPTION:NOTICE IS HEREBY GIVEN that the Fircrest City Council special meeting November 12\, 2024\, at 6:30 p.m. has been canceled. \n  \nNOTICE IS HEREBY GIVEN that the Fircrest City Council will hold a special meeting on November 12\, 2024\, at 6:30 p.m. for City Council Photos at Fircrest City Hall\, 115 Ramsdell Street\, Fircrest\, WA 98466. \n  \nThese meetings are open to the public. Please visit www.cityoffircrest.net for the calendar and agenda updates. \nFor questions\, please contact 253-564-8901 or aburkhart@cityoffircrest.net
URL:https://www.cityoffircrest.net/event/city-council-special-meeting-6/
LOCATION:Fircrest City Hall\, 115 Ramsdell Street\, Fircrest\, WA\, 98466\, United States
CATEGORIES:City Council,Public Meeting
GEO:47.2323757;-122.5059765
X-APPLE-STRUCTURED-LOCATION;VALUE=URI;X-ADDRESS=Fircrest City Hall 115 Ramsdell Street Fircrest WA 98466 United States;X-APPLE-RADIUS=500;X-TITLE=115 Ramsdell Street:geo:-122.5059765,47.2323757
END:VEVENT
BEGIN:VEVENT
DTSTART;TZID=UTC:20241112T190000
DTEND;TZID=UTC:20241112T223000
DTSTAMP:20260421T171248
CREATED:20170510T044039Z
LAST-MODIFIED:20231204T204327Z
UID:10001673-1731438000-1731450600@www.cityoffircrest.net
SUMMARY:City Council Regular Meeting
DESCRIPTION:The City Council meets the second and fourth Tuesday of each month\, at 7:00 PM at the City Hall\, 115 Ramsdell Street. The public is invited and encouraged to attend. City Hall is accessible to disabled persons. Interpreters\, signers or other auxiliary aids will be provided upon five business days advance notice. \nFor More Information: \nCity Clerk\n115 Ramsdell Street\nFircrest WA 98466\nPhone: 253-564-8901 \nReview the Agenda
URL:https://www.cityoffircrest.net/event/city-council-regular-meeting-2/2024-11-12/
LOCATION:Fircrest City Hall\, 115 Ramsdell Street\, Fircrest\, WA\, 98466\, United States
CATEGORIES:City Council,Public Meeting
GEO:47.2323757;-122.5059765
X-APPLE-STRUCTURED-LOCATION;VALUE=URI;X-ADDRESS=Fircrest City Hall 115 Ramsdell Street Fircrest WA 98466 United States;X-APPLE-RADIUS=500;X-TITLE=115 Ramsdell Street:geo:-122.5059765,47.2323757
END:VEVENT
BEGIN:VEVENT
DTSTART;TZID=America/Los_Angeles:20241118T180000
DTEND;TZID=America/Los_Angeles:20241118T200000
DTSTAMP:20260421T171248
CREATED:20231212T221510Z
LAST-MODIFIED:20250709T181147Z
UID:10003945-1731952800-1731960000@www.cityoffircrest.net
SUMMARY:City Council Study Session
DESCRIPTION:City Council Study Sessions are held at 6:00 PM at City Hall\, 115 Ramsdell Street.  The public is invited and encouraged to attend. City Hall is accessible to disabled persons. Interpreters\, signers\, or other auxiliary aids will be provided upon five business days advance notice. \nFor More Information: \nCity Clerk\n115 Ramsdell Street\nFircrest WA 98466\nPhone: 253-564-8901 \nReview the Agenda
URL:https://www.cityoffircrest.net/event/city-council-study-session-3-2-2-2-3-3-2/2024-11-18/
LOCATION:Fircrest City Hall\, 115 Ramsdell Street\, Fircrest\, WA\, 98466\, United States
CATEGORIES:City Council,Public Meeting
GEO:47.2323757;-122.5059765
X-APPLE-STRUCTURED-LOCATION;VALUE=URI;X-ADDRESS=Fircrest City Hall 115 Ramsdell Street Fircrest WA 98466 United States;X-APPLE-RADIUS=500;X-TITLE=115 Ramsdell Street:geo:-122.5059765,47.2323757
END:VEVENT
BEGIN:VEVENT
DTSTART;TZID=UTC:20241126T190000
DTEND;TZID=UTC:20241126T223000
DTSTAMP:20260421T171248
CREATED:20170510T044155Z
LAST-MODIFIED:20231204T204413Z
UID:10003449-1732647600-1732660200@www.cityoffircrest.net
SUMMARY:City Council Regular Meeting
DESCRIPTION:The City Council meets the second and fourth Tuesday of each month\, at 7:00 PM at the City Hall\, 115 Ramsdell Street. The public is invited and encouraged to attend. City Hall is accessible to disabled persons. Interpreters\, signers or other auxiliary aids will be provided upon five business days advance notice. \nFor More Information: \nCity Clerk\n115 Ramsdell Street\nFircrest WA 98466\nPhone: 253-564-8901 \nReview the Agenda
URL:https://www.cityoffircrest.net/event/city-council-regular-meeting-3/2024-11-26/
LOCATION:Fircrest City Hall\, 115 Ramsdell Street\, Fircrest\, WA\, 98466\, United States
CATEGORIES:City Council,Public Meeting
GEO:47.2323757;-122.5059765
X-APPLE-STRUCTURED-LOCATION;VALUE=URI;X-ADDRESS=Fircrest City Hall 115 Ramsdell Street Fircrest WA 98466 United States;X-APPLE-RADIUS=500;X-TITLE=115 Ramsdell Street:geo:-122.5059765,47.2323757
END:VEVENT
END:VCALENDAR