BEGIN:VCALENDAR
VERSION:2.0
PRODID:-//City of Fircrest - ECPv6.15.20//NONSGML v1.0//EN
CALSCALE:GREGORIAN
METHOD:PUBLISH
X-ORIGINAL-URL:https://www.cityoffircrest.net
X-WR-CALDESC:Events for City of Fircrest
REFRESH-INTERVAL;VALUE=DURATION:PT1H
X-Robots-Tag:noindex
X-PUBLISHED-TTL:PT1H
BEGIN:VTIMEZONE
TZID:UTC
BEGIN:STANDARD
TZOFFSETFROM:+0000
TZOFFSETTO:+0000
TZNAME:UTC
DTSTART:20160101T000000
END:STANDARD
END:VTIMEZONE
BEGIN:VTIMEZONE
TZID:America/Los_Angeles
BEGIN:DAYLIGHT
TZOFFSETFROM:-0800
TZOFFSETTO:-0700
TZNAME:PDT
DTSTART:20160313T100000
END:DAYLIGHT
BEGIN:STANDARD
TZOFFSETFROM:-0700
TZOFFSETTO:-0800
TZNAME:PST
DTSTART:20161106T090000
END:STANDARD
BEGIN:DAYLIGHT
TZOFFSETFROM:-0800
TZOFFSETTO:-0700
TZNAME:PDT
DTSTART:20170312T100000
END:DAYLIGHT
BEGIN:STANDARD
TZOFFSETFROM:-0700
TZOFFSETTO:-0800
TZNAME:PST
DTSTART:20171105T090000
END:STANDARD
BEGIN:DAYLIGHT
TZOFFSETFROM:-0800
TZOFFSETTO:-0700
TZNAME:PDT
DTSTART:20180311T100000
END:DAYLIGHT
BEGIN:STANDARD
TZOFFSETFROM:-0700
TZOFFSETTO:-0800
TZNAME:PST
DTSTART:20181104T090000
END:STANDARD
END:VTIMEZONE
BEGIN:VEVENT
DTSTART;TZID=UTC:20170703T160000
DTEND;TZID=UTC:20170703T163000
DTSTAMP:20260424T002148
CREATED:20170510T045409Z
LAST-MODIFIED:20170608T164244Z
UID:10001863-1499097600-1499099400@www.cityoffircrest.net
SUMMARY:Civil Service Commission Meeting - Rescheduled to July 10th
DESCRIPTION:The Civil Service Commission meets at the City Hall on the first Monday of every month at 4:00 p.m.  Commission members are appointed by the City Manager with the approval of the majority of the City Council. \nThe Civil Service Commission\, in accordance with the provisions of Chapter 41.12 RCW\, is created to exercise the powers and to perform the duties established by such state law in connection with the selection\, appointment and employment of police in the city. \nFor more information: \nChief Examiner\n115 Ramsdell Street\nFircrest WA 98466\n253-564-8901 \nReview the Agenda
URL:https://www.cityoffircrest.net/event/civil-service-commission-meeting-2017-07-03/
LOCATION:WA
CATEGORIES:Civil Service Commission,Public Meeting
END:VEVENT
BEGIN:VEVENT
DTSTART;TZID=America/Los_Angeles:20170710T160000
DTEND;TZID=America/Los_Angeles:20170710T163000
DTSTAMP:20260424T002148
CREATED:20170608T154011Z
LAST-MODIFIED:20170608T163035Z
UID:10001966-1499702400-1499704200@www.cityoffircrest.net
SUMMARY:Civil Service Commission Meeting
DESCRIPTION:The Civil Service Commission meets at the City Hall on the first Monday of every month at 4:00 p.m.  Commission members are appointed by the City Manager with the approval of the majority of the City Council. \nThe Civil Service Commission\, in accordance with the provisions of Chapter 41.12 RCW\, is created to exercise the powers and to perform the duties established by such state law in connection with the selection\, appointment and employment of police in the city. \nReview the Agenda
URL:https://www.cityoffircrest.net/event/civil-service-commission-meeting-2/
LOCATION:WA
CATEGORIES:Civil Service Commission,Public Meeting
END:VEVENT
END:VCALENDAR