BEGIN:VCALENDAR
VERSION:2.0
PRODID:-//City of Fircrest - ECPv6.15.20//NONSGML v1.0//EN
CALSCALE:GREGORIAN
METHOD:PUBLISH
X-ORIGINAL-URL:https://www.cityoffircrest.net
X-WR-CALDESC:Events for City of Fircrest
REFRESH-INTERVAL;VALUE=DURATION:PT1H
X-Robots-Tag:noindex
X-PUBLISHED-TTL:PT1H
BEGIN:VTIMEZONE
TZID:UTC
BEGIN:STANDARD
TZOFFSETFROM:+0000
TZOFFSETTO:+0000
TZNAME:UTC
DTSTART:20210101T000000
END:STANDARD
END:VTIMEZONE
BEGIN:VEVENT
DTSTART;TZID=UTC:20221101T180000
DTEND;TZID=UTC:20221101T190000
DTSTAMP:20260420T072240
CREATED:20170415T035115Z
LAST-MODIFIED:20181220T192416Z
UID:10001556-1667325600-1667329200@www.cityoffircrest.net
SUMMARY:Planning Commission Meeting
DESCRIPTION:The Planning Commission meets at the City Hall on the first Tuesday of each month at 6:00 PM (except for the August meeting which is the third Tuesday). The Planning Commission is appointed by the Mayor and confirmed by the Council to do the following: \n\nAct as a research and fact-finding agency for the city\, as requested or required by the city council;\nMay participate in the activities of regional planning commissions;\nStudy\, promulgate\, develop and make recommendations on updates to the comprehensive plan;\nProcess and hear all requests for zoning\, rezoning or variances\, grant or deny requests for variance\, make reports and recommendations to the council regarding any proposed plat or subdivision and recommend to the city council changes in the city ordinance law relating to any of such matters.\n\nFor more information: \nPlanning Administrator\nplanning@cityoffircrest.net\n115 Ramsdell Street\nFircrest WA 98466\n253-564-8901. \nReview the Agenda\nStaff Reports
URL:https://www.cityoffircrest.net/event/planning-commission-meeting-2018-12-02/2022-11-01/
LOCATION:Fircrest City Hall\, 115 Ramsdell Street\, Fircrest\, WA\, 98466\, United States
CATEGORIES:Planning Commission
ATTACH;FMTTYPE=image/png:https://www.cityoffircrest.net/wp-content/uploads/2017/04/neighborhood.png
GEO:47.2323757;-122.5059765
X-APPLE-STRUCTURED-LOCATION;VALUE=URI;X-ADDRESS=Fircrest City Hall 115 Ramsdell Street Fircrest WA 98466 United States;X-APPLE-RADIUS=500;X-TITLE=115 Ramsdell Street:geo:-122.5059765,47.2323757
END:VEVENT
END:VCALENDAR