BEGIN:VCALENDAR
VERSION:2.0
PRODID:-//City of Fircrest - ECPv6.15.20//NONSGML v1.0//EN
CALSCALE:GREGORIAN
METHOD:PUBLISH
X-WR-CALNAME:City of Fircrest
X-ORIGINAL-URL:https://www.cityoffircrest.net
X-WR-CALDESC:Events for City of Fircrest
REFRESH-INTERVAL;VALUE=DURATION:PT1H
X-Robots-Tag:noindex
X-PUBLISHED-TTL:PT1H
BEGIN:VTIMEZONE
TZID:UTC
BEGIN:STANDARD
TZOFFSETFROM:+0000
TZOFFSETTO:+0000
TZNAME:UTC
DTSTART:20160101T000000
END:STANDARD
END:VTIMEZONE
BEGIN:VEVENT
DTSTART;TZID=UTC:20180605T180000
DTEND;TZID=UTC:20180605T190000
DTSTAMP:20260423T041129
CREATED:20170415T035115Z
LAST-MODIFIED:20180531T231049Z
UID:10001508-1528221600-1528225200@www.cityoffircrest.net
SUMMARY:Planning Commission Meeting - cancelled
DESCRIPTION:The Planning Commission meets at the City Hall on the first Tuesday of each month at 6:00 PM (except for the August meeting which is the third Tuesday). The Planning Commission is appointed by the Mayor and confirmed by the Council to do the following: \n\nAct as a research and fact-finding agency for the city\, as requested or required by the city council;\nMay participate in the activities of regional planning commissions;\nStudy\, promulgate\, develop and make recommendations on updates to the comprehensive plan;\nProcess and hear all requests for zoning\, rezoning or variances\, grant or deny requests for variance\, make reports and recommendations to the council regarding any proposed plat or subdivision and recommend to the city council changes in the city ordinance law relating to any of such matters.\n\nFor more information: \nPlanning Administrator\nplanning@cityoffircrest.net\n115 Ramsdell Street\nFircrest WA 98466\n253-564-8901. \nReview the Agenda\nStaff Reports
URL:https://www.cityoffircrest.net/event/planning-commission-meeting-2018-06-05/
LOCATION:Fircrest City Hall\, 115 Ramsdell Street\, Fircrest\, WA\, 98466\, United States
CATEGORIES:Planning Commission
ATTACH;FMTTYPE=image/png:https://www.cityoffircrest.net/wp-content/uploads/2017/04/neighborhood.png
GEO:47.2323757;-122.5059765
X-APPLE-STRUCTURED-LOCATION;VALUE=URI;X-ADDRESS=Fircrest City Hall 115 Ramsdell Street Fircrest WA 98466 United States;X-APPLE-RADIUS=500;X-TITLE=115 Ramsdell Street:geo:-122.5059765,47.2323757
END:VEVENT
BEGIN:VEVENT
DTSTART;TZID=UTC:20180501T180000
DTEND;TZID=UTC:20180501T190000
DTSTAMP:20260423T041129
CREATED:20170415T035115Z
LAST-MODIFIED:20180425T232622Z
UID:10001505-1525197600-1525201200@www.cityoffircrest.net
SUMMARY:Planning Commission Meeting - Cancelled
DESCRIPTION:The Planning Commission meets at the City Hall on the first Tuesday of each month at 6:00 PM (except for the August meeting which is the third Tuesday). The Planning Commission is appointed by the Mayor and confirmed by the Council to do the following: \n\nAct as a research and fact-finding agency for the city\, as requested or required by the city council;\nMay participate in the activities of regional planning commissions;\nStudy\, promulgate\, develop and make recommendations on updates to the comprehensive plan;\nProcess and hear all requests for zoning\, rezoning or variances\, grant or deny requests for variance\, make reports and recommendations to the council regarding any proposed plat or subdivision and recommend to the city council changes in the city ordinance law relating to any of such matters.\n\nFor more information: \nPlanning Administrator\nplanning@cityoffircrest.net\n115 Ramsdell Street\nFircrest WA 98466\n253-564-8901. \nReview the Agenda\nStaff Reports
URL:https://www.cityoffircrest.net/event/planning-commission-meeting-2018-05-01/
LOCATION:Fircrest City Hall\, 115 Ramsdell Street\, Fircrest\, WA\, 98466\, United States
CATEGORIES:Planning Commission
ATTACH;FMTTYPE=image/png:https://www.cityoffircrest.net/wp-content/uploads/2017/04/neighborhood.png
GEO:47.2323757;-122.5059765
X-APPLE-STRUCTURED-LOCATION;VALUE=URI;X-ADDRESS=Fircrest City Hall 115 Ramsdell Street Fircrest WA 98466 United States;X-APPLE-RADIUS=500;X-TITLE=115 Ramsdell Street:geo:-122.5059765,47.2323757
END:VEVENT
BEGIN:VEVENT
DTSTART;TZID=UTC:20180206T180000
DTEND;TZID=UTC:20180206T190000
DTSTAMP:20260423T041129
CREATED:20170415T035115Z
LAST-MODIFIED:20180103T231740Z
UID:10001504-1517940000-1517943600@www.cityoffircrest.net
SUMMARY:Joint City Council - Planning Commission Meeting
DESCRIPTION:The Planning Commission meets at the City Hall on the first Tuesday of each month at 6:00 PM (except for the August meeting which is the third Tuesday). The Planning Commission is appointed by the Mayor and confirmed by the Council to do the following: \n\nAct as a research and fact-finding agency for the city\, as requested or required by the city council;\nMay participate in the activities of regional planning commissions;\nStudy\, promulgate\, develop and make recommendations on updates to the comprehensive plan;\nProcess and hear all requests for zoning\, rezoning or variances\, grant or deny requests for variance\, make reports and recommendations to the council regarding any proposed plat or subdivision and recommend to the city council changes in the city ordinance law relating to any of such matters.\n\nFor more information: \nPlanning Administrator\nplanning@cityoffircrest.net\n115 Ramsdell Street\nFircrest WA 98466\n253-564-8901. \nReview the Agenda\nStaff Reports
URL:https://www.cityoffircrest.net/event/planning-commission-meeting-2018-02-06/
LOCATION:Fircrest City Hall\, 115 Ramsdell Street\, Fircrest\, WA\, 98466\, United States
CATEGORIES:Planning Commission
ATTACH;FMTTYPE=image/png:https://www.cityoffircrest.net/wp-content/uploads/2017/04/logo_circle.png
GEO:47.2323757;-122.5059765
X-APPLE-STRUCTURED-LOCATION;VALUE=URI;X-ADDRESS=Fircrest City Hall 115 Ramsdell Street Fircrest WA 98466 United States;X-APPLE-RADIUS=500;X-TITLE=115 Ramsdell Street:geo:-122.5059765,47.2323757
END:VEVENT
BEGIN:VEVENT
DTSTART;TZID=UTC:20171205T180000
DTEND;TZID=UTC:20171205T190000
DTSTAMP:20260423T041129
CREATED:20170415T035115Z
LAST-MODIFIED:20171130T173458Z
UID:10001503-1512496800-1512500400@www.cityoffircrest.net
SUMMARY:Planning Commission Meeting - Cancelled
DESCRIPTION:The Planning Commission meets at the City Hall on the first Tuesday of each month at 6:00 PM (except for the August meeting which is the third Tuesday). The Planning Commission is appointed by the Mayor and confirmed by the Council to do the following: \n\nAct as a research and fact-finding agency for the city\, as requested or required by the city council;\nMay participate in the activities of regional planning commissions;\nStudy\, promulgate\, develop and make recommendations on updates to the comprehensive plan;\nProcess and hear all requests for zoning\, rezoning or variances\, grant or deny requests for variance\, make reports and recommendations to the council regarding any proposed plat or subdivision and recommend to the city council changes in the city ordinance law relating to any of such matters.\n\nFor more information: \nPlanning Administrator\nplanning@cityoffircrest.net\n115 Ramsdell Street\nFircrest WA 98466\n253-564-8901. \nReview the Agenda\nStaff Reports
URL:https://www.cityoffircrest.net/event/planning-commission-meeting-2017-12-05/
LOCATION:WA
CATEGORIES:Planning Commission
END:VEVENT
BEGIN:VEVENT
DTSTART;TZID=UTC:20171107T180000
DTEND;TZID=UTC:20171107T190000
DTSTAMP:20260423T041129
CREATED:20170415T035115Z
LAST-MODIFIED:20171101T174940Z
UID:10001502-1510077600-1510081200@www.cityoffircrest.net
SUMMARY:Planning Commission Meeting - Cancelled
DESCRIPTION:The Planning Commission meets at the City Hall on the first Tuesday of each month at 6:00 PM (except for the August meeting which is the third Tuesday). The Planning Commission is appointed by the Mayor and confirmed by the Council to do the following: \n\nAct as a research and fact-finding agency for the city\, as requested or required by the city council;\nMay participate in the activities of regional planning commissions;\nStudy\, promulgate\, develop and make recommendations on updates to the comprehensive plan;\nProcess and hear all requests for zoning\, rezoning or variances\, grant or deny requests for variance\, make reports and recommendations to the council regarding any proposed plat or subdivision and recommend to the city council changes in the city ordinance law relating to any of such matters.\n\nFor more information: \nPlanning Administrator\nplanning@cityoffircrest.net\n115 Ramsdell Street\nFircrest WA 98466\n253-564-8901. \nReview the Agenda\nStaff Reports
URL:https://www.cityoffircrest.net/event/planning-commission-meeting-2017-11-07/
LOCATION:WA
CATEGORIES:Planning Commission
END:VEVENT
BEGIN:VEVENT
DTSTART;TZID=UTC:20170815T180000
DTEND;TZID=UTC:20170815T190000
DTSTAMP:20260423T041129
CREATED:20170415T035115Z
LAST-MODIFIED:20170803T160723Z
UID:10001506-1502820000-1502823600@www.cityoffircrest.net
SUMMARY:Planning Commission Meeting - Public Hearing
DESCRIPTION:The Planning Commission meets at the City Hall on the first Tuesday of each month at 6:00 PM (except for the August meeting which is the third Tuesday). The Planning Commission is appointed by the Mayor and confirmed by the Council to do the following: \n\nAct as a research and fact-finding agency for the city\, as requested or required by the city council;\nMay participate in the activities of regional planning commissions;\nStudy\, promulgate\, develop and make recommendations on updates to the comprehensive plan;\nProcess and hear all requests for zoning\, rezoning or variances\, grant or deny requests for variance\, make reports and recommendations to the council regarding any proposed plat or subdivision and recommend to the city council changes in the city ordinance law relating to any of such matters.\n\nFor more information: \nPlanning Administrator\nplanning@cityoffircrest.net\n115 Ramsdell Street\nFircrest WA 98466\n253-564-8901. \nReview the Agenda\nLand Use Project Status
URL:https://www.cityoffircrest.net/event/planning-commission-meeting-2017-08-15/
LOCATION:Fircrest City Hall\, 115 Ramsdell Street\, Fircrest\, WA\, 98466\, United States
CATEGORIES:Planning Commission
GEO:47.2323757;-122.5059765
X-APPLE-STRUCTURED-LOCATION;VALUE=URI;X-ADDRESS=Fircrest City Hall 115 Ramsdell Street Fircrest WA 98466 United States;X-APPLE-RADIUS=500;X-TITLE=115 Ramsdell Street:geo:-122.5059765,47.2323757
END:VEVENT
BEGIN:VEVENT
DTSTART;TZID=UTC:20170710T180000
DTEND;TZID=UTC:20170710T190000
DTSTAMP:20260423T041129
CREATED:20170415T035115Z
LAST-MODIFIED:20170705T235540Z
UID:10001501-1499709600-1499713200@www.cityoffircrest.net
SUMMARY:Planning Commission Meeting - NEW DATE
DESCRIPTION:The Planning Commission meets at the City Hall on the first Tuesday of each month at 6:00 PM (except for the August meeting which is the third Tuesday). The Planning Commission is appointed by the Mayor and confirmed by the Council to do the following: \n\nAct as a research and fact-finding agency for the city\, as requested or required by the city council;\nMay participate in the activities of regional planning commissions;\nStudy\, promulgate\, develop and make recommendations on updates to the comprehensive plan;\nProcess and hear all requests for zoning\, rezoning or variances\, grant or deny requests for variance\, make reports and recommendations to the council regarding any proposed plat or subdivision and recommend to the city council changes in the city ordinance law relating to any of such matters.\n\nFor more information: \nPlanning Administrator\nplanning@cityoffircrest.net\n115 Ramsdell Street\nFircrest WA 98466\n253-564-8901. \nReview the Agenda
URL:https://www.cityoffircrest.net/event/planning-commission-meeting-2017-07-04/
LOCATION:WA
CATEGORIES:Planning Commission
END:VEVENT
BEGIN:VEVENT
DTSTART;TZID=UTC:20170602T180000
DTEND;TZID=UTC:20170602T190000
DTSTAMP:20260423T041129
CREATED:20170415T035115Z
LAST-MODIFIED:20181030T172251Z
UID:10001509-1496426400-1496430000@www.cityoffircrest.net
SUMMARY:Planning Commission Meeting
DESCRIPTION:The Planning Commission meets at the City Hall on the first Tuesday of each month at 6:00 PM (except for the August meeting which is the third Tuesday). The Planning Commission is appointed by the Mayor and confirmed by the Council to do the following: \n\nAct as a research and fact-finding agency for the city\, as requested or required by the city council;\nMay participate in the activities of regional planning commissions;\nStudy\, promulgate\, develop and make recommendations on updates to the comprehensive plan;\nProcess and hear all requests for zoning\, rezoning or variances\, grant or deny requests for variance\, make reports and recommendations to the council regarding any proposed plat or subdivision and recommend to the city council changes in the city ordinance law relating to any of such matters.\n\nFor more information: \nPlanning Administrator\nplanning@cityoffircrest.net\n115 Ramsdell Street\nFircrest WA 98466\n253-564-8901. \nReview the Agenda\nStaff Reports
URL:https://www.cityoffircrest.net/event/planning-commission-meeting-2017-06-02/
LOCATION:Fircrest City Hall\, 115 Ramsdell Street\, Fircrest\, WA\, 98466\, United States
CATEGORIES:Planning Commission
ATTACH;FMTTYPE=image/png:https://www.cityoffircrest.net/wp-content/uploads/2017/04/neighborhood.png
GEO:47.2323757;-122.5059765
X-APPLE-STRUCTURED-LOCATION;VALUE=URI;X-ADDRESS=Fircrest City Hall 115 Ramsdell Street Fircrest WA 98466 United States;X-APPLE-RADIUS=500;X-TITLE=115 Ramsdell Street:geo:-122.5059765,47.2323757
END:VEVENT
END:VCALENDAR