BEGIN:VCALENDAR
VERSION:2.0
PRODID:-//City of Fircrest - ECPv6.15.20//NONSGML v1.0//EN
CALSCALE:GREGORIAN
METHOD:PUBLISH
X-WR-CALNAME:City of Fircrest
X-ORIGINAL-URL:https://www.cityoffircrest.net
X-WR-CALDESC:Events for City of Fircrest
REFRESH-INTERVAL;VALUE=DURATION:PT1H
X-Robots-Tag:noindex
X-PUBLISHED-TTL:PT1H
BEGIN:VTIMEZONE
TZID:America/Los_Angeles
BEGIN:DAYLIGHT
TZOFFSETFROM:-0800
TZOFFSETTO:-0700
TZNAME:PDT
DTSTART:20170312T100000
END:DAYLIGHT
BEGIN:STANDARD
TZOFFSETFROM:-0700
TZOFFSETTO:-0800
TZNAME:PST
DTSTART:20171105T090000
END:STANDARD
BEGIN:DAYLIGHT
TZOFFSETFROM:-0800
TZOFFSETTO:-0700
TZNAME:PDT
DTSTART:20180311T100000
END:DAYLIGHT
BEGIN:STANDARD
TZOFFSETFROM:-0700
TZOFFSETTO:-0800
TZNAME:PST
DTSTART:20181104T090000
END:STANDARD
BEGIN:DAYLIGHT
TZOFFSETFROM:-0800
TZOFFSETTO:-0700
TZNAME:PDT
DTSTART:20190310T100000
END:DAYLIGHT
BEGIN:STANDARD
TZOFFSETFROM:-0700
TZOFFSETTO:-0800
TZNAME:PST
DTSTART:20191103T090000
END:STANDARD
END:VTIMEZONE
BEGIN:VTIMEZONE
TZID:UTC
BEGIN:STANDARD
TZOFFSETFROM:+0000
TZOFFSETTO:+0000
TZNAME:UTC
DTSTART:20170101T000000
END:STANDARD
END:VTIMEZONE
BEGIN:VEVENT
DTSTART;TZID=America/Los_Angeles:20180806T090000
DTEND;TZID=America/Los_Angeles:20180806T120000
DTSTAMP:20260422T023826
CREATED:20171113T235834Z
LAST-MODIFIED:20200326T183142Z
UID:10002046-1533546000-1533556800@www.cityoffircrest.net
SUMMARY:Thelma Gilmur Park Habitat Stewardship Work Party
DESCRIPTION:
URL:https://www.cityoffircrest.net/event/4801/2018-08-06/
LOCATION:Thelma Gilmur Park\, 1404 Evergreen Dr.\,\, Fircrest\, WA\, 98466\, United States
CATEGORIES:Recreation
ATTACH;FMTTYPE=image/jpeg:https://www.cityoffircrest.net/wp-content/uploads/2017/04/GilmurPark-e1493924815149.jpg
ORGANIZER;CN="Belinda Paterno":MAILTO:belindap@piercecd.org
GEO:47.2208714;-122.5200688
X-APPLE-STRUCTURED-LOCATION;VALUE=URI;X-ADDRESS=Thelma Gilmur Park 1404 Evergreen Dr. Fircrest WA 98466 United States;X-APPLE-RADIUS=500;X-TITLE=1404 Evergreen Dr.\,:geo:-122.5200688,47.2208714
END:VEVENT
BEGIN:VEVENT
DTSTART;TZID=UTC:20180806T160000
DTEND;TZID=UTC:20180806T163000
DTSTAMP:20260422T023826
CREATED:20170510T045409Z
LAST-MODIFIED:20221014T164440Z
UID:10001787-1533571200-1533573000@www.cityoffircrest.net
SUMMARY:Civil Service Commission Meeting
DESCRIPTION:The Civil Service Commission meets at the City Hall on the first Monday of every month at 4:00 p.m.  Commission members are appointed by the City Manager with the approval of the majority of the City Council. \nThe Civil Service Commission\, in accordance with the provisions of Chapter 41.12 RCW\, is created to exercise the powers and to perform the duties established by such state law in connection with the selection\, appointment and employment of police in the city. \nFor more information: \nChief Examiner\n115 Ramsdell Street\nFircrest WA 98466\n253-564-8901 \nReview the Agenda
URL:https://www.cityoffircrest.net/event/civil-service-commission-meeting/2018-08-06/
LOCATION:Fircrest\, WA\, 98466\, United States
CATEGORIES:Civil Service Commission,Public Meeting
ATTACH;FMTTYPE=image/jpeg:https://www.cityoffircrest.net/wp-content/uploads/2017/05/cruiser.jpg
GEO:47.2395428;-122.5159586
END:VEVENT
BEGIN:VEVENT
DTSTART;TZID=America/Los_Angeles:20180810T170000
DTEND;TZID=America/Los_Angeles:20180810T210000
DTSTAMP:20260422T023826
CREATED:20180105T195844Z
LAST-MODIFIED:20180402T212102Z
UID:10002171-1533920400-1533934800@www.cityoffircrest.net
SUMMARY:Fircrest Fun Days
DESCRIPTION:This two-day event will feature entertainment from 5 local bands\, kids rides\, games\, arts and crafts\, food booths\, live entertainment and a Saturday night fireworks show. These are two FUN DAYS you don’t want to miss!
URL:https://www.cityoffircrest.net/event/fircrest-fun-days/2018-08-10/
LOCATION:Fircrest Park\, 555 Contra Costa Ave\, Fircrest\, WA\, 98466\, United States
CATEGORIES:Community Event,Recreation
ATTACH;FMTTYPE=image/jpeg:https://www.cityoffircrest.net/wp-content/uploads/2018/01/2018-Fun-Days-Logo.jpg
GEO:47.2338427;-122.5126411
X-APPLE-STRUCTURED-LOCATION;VALUE=URI;X-ADDRESS=Fircrest Park 555 Contra Costa Ave Fircrest WA 98466 United States;X-APPLE-RADIUS=500;X-TITLE=555 Contra Costa Ave:geo:-122.5126411,47.2338427
END:VEVENT
BEGIN:VEVENT
DTSTART;TZID=America/Los_Angeles:20180811T100000
DTEND;TZID=America/Los_Angeles:20180811T220000
DTSTAMP:20260422T023826
CREATED:20180105T195844Z
LAST-MODIFIED:20180402T212102Z
UID:10002172-1533981600-1534024800@www.cityoffircrest.net
SUMMARY:Fircrest Fun Days
DESCRIPTION:This two-day event will feature entertainment from 5 local bands\, kids rides\, games\, arts and crafts\, food booths\, live entertainment and a Saturday night fireworks show. These are two FUN DAYS you don’t want to miss!
URL:https://www.cityoffircrest.net/event/fircrest-fun-days/2018-08-11/
LOCATION:Fircrest Park\, 555 Contra Costa Ave\, Fircrest\, WA\, 98466\, United States
CATEGORIES:Community Event,Recreation
ATTACH;FMTTYPE=image/jpeg:https://www.cityoffircrest.net/wp-content/uploads/2018/01/2018-Fun-Days-Logo.jpg
GEO:47.2338427;-122.5126411
X-APPLE-STRUCTURED-LOCATION;VALUE=URI;X-ADDRESS=Fircrest Park 555 Contra Costa Ave Fircrest WA 98466 United States;X-APPLE-RADIUS=500;X-TITLE=555 Contra Costa Ave:geo:-122.5126411,47.2338427
END:VEVENT
BEGIN:VEVENT
DTSTART;TZID=America/Los_Angeles:20180813T180000
DTEND;TZID=America/Los_Angeles:20180813T200000
DTSTAMP:20260422T023826
CREATED:20180711T231736Z
LAST-MODIFIED:20180711T231736Z
UID:10002255-1534183200-1534190400@www.cityoffircrest.net
SUMMARY:Pool & Community Center Public Meeting
DESCRIPTION:
URL:https://www.cityoffircrest.net/event/pool-community-center-public-meeting/
LOCATION:Fircrest Community Center\, 555 Contra Costa Avenue\, Fircrest\, WA\, 98466\, United States
GEO:47.2337287;-122.512525
X-APPLE-STRUCTURED-LOCATION;VALUE=URI;X-ADDRESS=Fircrest Community Center 555 Contra Costa Avenue Fircrest WA 98466 United States;X-APPLE-RADIUS=500;X-TITLE=555 Contra Costa Avenue:geo:-122.512525,47.2337287
END:VEVENT
BEGIN:VEVENT
DTSTART;TZID=UTC:20180814T190000
DTEND;TZID=UTC:20180814T223000
DTSTAMP:20260422T023826
CREATED:20170510T044039Z
LAST-MODIFIED:20231204T204327Z
UID:10001600-1534273200-1534285800@www.cityoffircrest.net
SUMMARY:City Council Regular Meeting
DESCRIPTION:The City Council meets the second and fourth Tuesday of each month\, at 7:00 PM at the City Hall\, 115 Ramsdell Street. The public is invited and encouraged to attend. City Hall is accessible to disabled persons. Interpreters\, signers or other auxiliary aids will be provided upon five business days advance notice. \nFor More Information: \nCity Clerk\n115 Ramsdell Street\nFircrest WA 98466\nPhone: 253-564-8901 \nReview the Agenda
URL:https://www.cityoffircrest.net/event/city-council-regular-meeting-2/2018-08-14/
LOCATION:Fircrest City Hall\, 115 Ramsdell Street\, Fircrest\, WA\, 98466\, United States
CATEGORIES:City Council,Public Meeting
GEO:47.2323757;-122.5059765
X-APPLE-STRUCTURED-LOCATION;VALUE=URI;X-ADDRESS=Fircrest City Hall 115 Ramsdell Street Fircrest WA 98466 United States;X-APPLE-RADIUS=500;X-TITLE=115 Ramsdell Street:geo:-122.5059765,47.2323757
END:VEVENT
BEGIN:VEVENT
DTSTART;TZID=UTC:20180817T160000
DTEND;TZID=UTC:20180817T170000
DTSTAMP:20260422T023826
CREATED:20170516T232436Z
LAST-MODIFIED:20170517T051208Z
UID:10001906-1534521600-1534525200@www.cityoffircrest.net
SUMMARY:Testing Event
DESCRIPTION:Please disregard this event. We are testing the system. \n 
URL:https://www.cityoffircrest.net/event/testing-event/2018-08-17/
CATEGORIES:Planning_Building
END:VEVENT
BEGIN:VEVENT
DTSTART;TZID=America/Los_Angeles:20180827T180000
DTEND;TZID=America/Los_Angeles:20180827T200000
DTSTAMP:20260422T023826
CREATED:20180822T193646Z
LAST-MODIFIED:20180825T010142Z
UID:10002257-1535392800-1535400000@www.cityoffircrest.net
SUMMARY:Special Meeting
DESCRIPTION:Fircrest City Council Special Meeting for the Fircrest Salary Survey for Non-Represented Job Classifications                                                                  NOTICE IS HEREBY GIVEN that the Fircrest City Council will hold a special meeting on August 27\, 2018 at 6:00 P.M. at the Fircrest City Hall located at 115 Ramsdell Street\, Fircrest\, WA for the sole purpose of discussing the Fircrest Salary Survey for Non-Represented Job Classifications. Persons who desire special accommodations should contact the City Clerk at (253) 564-8901 at least 48 business hours prior to this meeting.
URL:https://www.cityoffircrest.net/event/special-meeting/
LOCATION:Fircrest City Hall\, 115 Ramsdell Street\, Fircrest\, WA\, 98466\, United States
CATEGORIES:City Council,Public Meeting
GEO:47.2323757;-122.5059765
X-APPLE-STRUCTURED-LOCATION;VALUE=URI;X-ADDRESS=Fircrest City Hall 115 Ramsdell Street Fircrest WA 98466 United States;X-APPLE-RADIUS=500;X-TITLE=115 Ramsdell Street:geo:-122.5059765,47.2323757
END:VEVENT
BEGIN:VEVENT
DTSTART;TZID=America/Los_Angeles:20180828T190000
DTEND;TZID=America/Los_Angeles:20180828T210000
DTSTAMP:20260422T023826
CREATED:20180711T232445Z
LAST-MODIFIED:20180711T232445Z
UID:10002256-1535482800-1535490000@www.cityoffircrest.net
SUMMARY:Pool & Community Center Presentation at Council Meeting
DESCRIPTION:
URL:https://www.cityoffircrest.net/event/pool-community-center-presentation-council-meeting/
END:VEVENT
BEGIN:VEVENT
DTSTART;TZID=UTC:20180828T190000
DTEND;TZID=UTC:20180828T223000
DTSTAMP:20260422T023826
CREATED:20170510T044155Z
LAST-MODIFIED:20231204T204413Z
UID:10001699-1535482800-1535495400@www.cityoffircrest.net
SUMMARY:City Council Regular Meeting
DESCRIPTION:The City Council meets the second and fourth Tuesday of each month\, at 7:00 PM at the City Hall\, 115 Ramsdell Street. The public is invited and encouraged to attend. City Hall is accessible to disabled persons. Interpreters\, signers or other auxiliary aids will be provided upon five business days advance notice. \nFor More Information: \nCity Clerk\n115 Ramsdell Street\nFircrest WA 98466\nPhone: 253-564-8901 \nReview the Agenda
URL:https://www.cityoffircrest.net/event/city-council-regular-meeting-3/2018-08-28/
LOCATION:Fircrest City Hall\, 115 Ramsdell Street\, Fircrest\, WA\, 98466\, United States
CATEGORIES:City Council,Public Meeting
GEO:47.2323757;-122.5059765
X-APPLE-STRUCTURED-LOCATION;VALUE=URI;X-ADDRESS=Fircrest City Hall 115 Ramsdell Street Fircrest WA 98466 United States;X-APPLE-RADIUS=500;X-TITLE=115 Ramsdell Street:geo:-122.5059765,47.2323757
END:VEVENT
END:VCALENDAR