BEGIN:VCALENDAR
VERSION:2.0
PRODID:-//City of Fircrest - ECPv6.15.20//NONSGML v1.0//EN
CALSCALE:GREGORIAN
METHOD:PUBLISH
X-WR-CALNAME:City of Fircrest
X-ORIGINAL-URL:https://www.cityoffircrest.net
X-WR-CALDESC:Events for City of Fircrest
REFRESH-INTERVAL;VALUE=DURATION:PT1H
X-Robots-Tag:noindex
X-PUBLISHED-TTL:PT1H
BEGIN:VTIMEZONE
TZID:America/Los_Angeles
BEGIN:DAYLIGHT
TZOFFSETFROM:-0800
TZOFFSETTO:-0700
TZNAME:PDT
DTSTART:20170312T100000
END:DAYLIGHT
BEGIN:STANDARD
TZOFFSETFROM:-0700
TZOFFSETTO:-0800
TZNAME:PST
DTSTART:20171105T090000
END:STANDARD
BEGIN:DAYLIGHT
TZOFFSETFROM:-0800
TZOFFSETTO:-0700
TZNAME:PDT
DTSTART:20180311T100000
END:DAYLIGHT
BEGIN:STANDARD
TZOFFSETFROM:-0700
TZOFFSETTO:-0800
TZNAME:PST
DTSTART:20181104T090000
END:STANDARD
BEGIN:DAYLIGHT
TZOFFSETFROM:-0800
TZOFFSETTO:-0700
TZNAME:PDT
DTSTART:20190310T100000
END:DAYLIGHT
BEGIN:STANDARD
TZOFFSETFROM:-0700
TZOFFSETTO:-0800
TZNAME:PST
DTSTART:20191103T090000
END:STANDARD
END:VTIMEZONE
BEGIN:VTIMEZONE
TZID:UTC
BEGIN:STANDARD
TZOFFSETFROM:+0000
TZOFFSETTO:+0000
TZNAME:UTC
DTSTART:20170101T000000
END:STANDARD
END:VTIMEZONE
BEGIN:VEVENT
DTSTART;TZID=America/Los_Angeles:20181104T020000
DTEND;TZID=America/Los_Angeles:20181104T020000
DTSTAMP:20260421T215849
CREATED:20180103T233722Z
LAST-MODIFIED:20190116T224138Z
UID:10001577-1541296800-1541296800@www.cityoffircrest.net
SUMMARY:Daylight Saving Time Ends
DESCRIPTION:Fall back and move your clock backward one hour.
URL:https://www.cityoffircrest.net/event/daylight-savings-time-ends/2018-11-04/
LOCATION:Fircrest\, 98466\, United States
CATEGORIES:Holiday
ATTACH;FMTTYPE=image/png:https://www.cityoffircrest.net/wp-content/uploads/2018/01/clocks.png
END:VEVENT
BEGIN:VEVENT
DTSTART;TZID=America/Los_Angeles:20181105T090000
DTEND;TZID=America/Los_Angeles:20181105T120000
DTSTAMP:20260421T215849
CREATED:20171113T235834Z
LAST-MODIFIED:20200326T183142Z
UID:10002049-1541408400-1541419200@www.cityoffircrest.net
SUMMARY:Thelma Gilmur Park Habitat Stewardship Work Party
DESCRIPTION:
URL:https://www.cityoffircrest.net/event/4801/2018-11-05/
LOCATION:Thelma Gilmur Park\, 1404 Evergreen Dr.\,\, Fircrest\, WA\, 98466\, United States
CATEGORIES:Recreation
ATTACH;FMTTYPE=image/jpeg:https://www.cityoffircrest.net/wp-content/uploads/2017/04/GilmurPark-e1493924815149.jpg
ORGANIZER;CN="Belinda Paterno":MAILTO:belindap@piercecd.org
GEO:47.2208714;-122.5200688
X-APPLE-STRUCTURED-LOCATION;VALUE=URI;X-ADDRESS=Thelma Gilmur Park 1404 Evergreen Dr. Fircrest WA 98466 United States;X-APPLE-RADIUS=500;X-TITLE=1404 Evergreen Dr.\,:geo:-122.5200688,47.2208714
END:VEVENT
BEGIN:VEVENT
DTSTART;TZID=UTC:20181105T160000
DTEND;TZID=UTC:20181105T163000
DTSTAMP:20260421T215849
CREATED:20170510T045409Z
LAST-MODIFIED:20221014T164440Z
UID:10001790-1541433600-1541435400@www.cityoffircrest.net
SUMMARY:Civil Service Commission Meeting
DESCRIPTION:The Civil Service Commission meets at the City Hall on the first Monday of every month at 4:00 p.m.  Commission members are appointed by the City Manager with the approval of the majority of the City Council. \nThe Civil Service Commission\, in accordance with the provisions of Chapter 41.12 RCW\, is created to exercise the powers and to perform the duties established by such state law in connection with the selection\, appointment and employment of police in the city. \nFor more information: \nChief Examiner\n115 Ramsdell Street\nFircrest WA 98466\n253-564-8901 \nReview the Agenda
URL:https://www.cityoffircrest.net/event/civil-service-commission-meeting/2018-11-05/
LOCATION:Fircrest\, WA\, 98466\, United States
CATEGORIES:Civil Service Commission,Public Meeting
ATTACH;FMTTYPE=image/jpeg:https://www.cityoffircrest.net/wp-content/uploads/2017/05/cruiser.jpg
GEO:47.2395428;-122.5159586
END:VEVENT
BEGIN:VEVENT
DTSTART;TZID=America/Los_Angeles:20181111T080000
DTEND;TZID=America/Los_Angeles:20181111T170000
DTSTAMP:20260421T215849
CREATED:20180105T213634Z
LAST-MODIFIED:20180105T221123Z
UID:10002187-1541923200-1541955600@www.cityoffircrest.net
SUMMARY:Veterans Day - City Offices Closed
DESCRIPTION:City offices closed in observance of the holiday. \nIn the event the holiday occurs on Saturday\, offices will be closed on Friday\, the 10th. In the event the holiday occurs on Sunday\, offices will be closed on Sunday\, the 12th.
URL:https://www.cityoffircrest.net/event/veterans-day/2018-11-11/
LOCATION:Fircrest\, 98466\, United States
CATEGORIES:Holiday
ATTACH;FMTTYPE=image/jpeg:https://www.cityoffircrest.net/wp-content/uploads/2018/01/memorial-day.jpg
END:VEVENT
BEGIN:VEVENT
DTSTART;TZID=America/Los_Angeles:20181112T080000
DTEND;TZID=America/Los_Angeles:20181112T170000
DTSTAMP:20260421T215849
CREATED:20180105T213634Z
LAST-MODIFIED:20180105T213920Z
UID:10002193-1542009600-1542042000@www.cityoffircrest.net
SUMMARY:Veterans Day Observed - City Offices Closed
DESCRIPTION:City offices closed in observance of the holiday. \nIn the event the holiday occurs on Saturday\, offices will be closed on Friday\, the 10th. In the event the holiday occurs on Sunday\, offices will be closed on Sunday\, the 12th.
URL:https://www.cityoffircrest.net/event/veterans-day-2018-11-12/
CATEGORIES:Holiday
ATTACH;FMTTYPE=image/jpeg:https://www.cityoffircrest.net/wp-content/uploads/2018/01/memorial-day.jpg
END:VEVENT
BEGIN:VEVENT
DTSTART;TZID=UTC:20181113T190000
DTEND;TZID=UTC:20181113T223000
DTSTAMP:20260421T215849
CREATED:20170510T044039Z
LAST-MODIFIED:20231204T204327Z
UID:10001603-1542135600-1542148200@www.cityoffircrest.net
SUMMARY:City Council Regular Meeting
DESCRIPTION:The City Council meets the second and fourth Tuesday of each month\, at 7:00 PM at the City Hall\, 115 Ramsdell Street. The public is invited and encouraged to attend. City Hall is accessible to disabled persons. Interpreters\, signers or other auxiliary aids will be provided upon five business days advance notice. \nFor More Information: \nCity Clerk\n115 Ramsdell Street\nFircrest WA 98466\nPhone: 253-564-8901 \nReview the Agenda
URL:https://www.cityoffircrest.net/event/city-council-regular-meeting-2/2018-11-13/
LOCATION:Fircrest City Hall\, 115 Ramsdell Street\, Fircrest\, WA\, 98466\, United States
CATEGORIES:City Council,Public Meeting
GEO:47.2323757;-122.5059765
X-APPLE-STRUCTURED-LOCATION;VALUE=URI;X-ADDRESS=Fircrest City Hall 115 Ramsdell Street Fircrest WA 98466 United States;X-APPLE-RADIUS=500;X-TITLE=115 Ramsdell Street:geo:-122.5059765,47.2323757
END:VEVENT
BEGIN:VEVENT
DTSTART;TZID=America/Los_Angeles:20181117T100000
DTEND;TZID=America/Los_Angeles:20181117T170000
DTSTAMP:20260421T215849
CREATED:20180105T212610Z
LAST-MODIFIED:20181113T193914Z
UID:10002179-1542448800-1542474000@www.cityoffircrest.net
SUMMARY:Holiday Bazaar
DESCRIPTION:Contact the Rec Department for more information. 253-564-8177
URL:https://www.cityoffircrest.net/event/holiday-bazaar-3/2018-11-17/
LOCATION:Roy H. Murphy Community Center\, 555 Contra Costa Avenue\, Fircrest\, WA\, 98466\, United States
CATEGORIES:Community Event,Recreation
GEO:47.2338427;-122.5126411
X-APPLE-STRUCTURED-LOCATION;VALUE=URI;X-ADDRESS=Roy H. Murphy Community Center 555 Contra Costa Avenue Fircrest WA 98466 United States;X-APPLE-RADIUS=500;X-TITLE=555 Contra Costa Avenue:geo:-122.5126411,47.2338427
END:VEVENT
BEGIN:VEVENT
DTSTART;TZID=UTC:20181117T160000
DTEND;TZID=UTC:20181117T170000
DTSTAMP:20260421T215849
CREATED:20170516T232436Z
LAST-MODIFIED:20170517T051208Z
UID:10001909-1542470400-1542474000@www.cityoffircrest.net
SUMMARY:Testing Event
DESCRIPTION:Please disregard this event. We are testing the system. \n 
URL:https://www.cityoffircrest.net/event/testing-event/2018-11-17/
CATEGORIES:Planning_Building
END:VEVENT
BEGIN:VEVENT
DTSTART;TZID=America/Los_Angeles:20181118T100000
DTEND;TZID=America/Los_Angeles:20181118T160000
DTSTAMP:20260421T215849
CREATED:20180105T212610Z
LAST-MODIFIED:20181113T193914Z
UID:10002180-1542535200-1542556800@www.cityoffircrest.net
SUMMARY:Holiday Bazaar
DESCRIPTION:Contact the Rec Department for more information. 253-564-8177
URL:https://www.cityoffircrest.net/event/holiday-bazaar-3/2018-11-18/
LOCATION:Roy H. Murphy Community Center\, 555 Contra Costa Avenue\, Fircrest\, WA\, 98466\, United States
CATEGORIES:Community Event,Recreation
GEO:47.2338427;-122.5126411
X-APPLE-STRUCTURED-LOCATION;VALUE=URI;X-ADDRESS=Roy H. Murphy Community Center 555 Contra Costa Avenue Fircrest WA 98466 United States;X-APPLE-RADIUS=500;X-TITLE=555 Contra Costa Avenue:geo:-122.5126411,47.2338427
END:VEVENT
BEGIN:VEVENT
DTSTART;TZID=UTC:20181127T190000
DTEND;TZID=UTC:20181127T223000
DTSTAMP:20260421T215849
CREATED:20170510T044155Z
LAST-MODIFIED:20231204T204413Z
UID:10001702-1543345200-1543357800@www.cityoffircrest.net
SUMMARY:City Council Regular Meeting
DESCRIPTION:The City Council meets the second and fourth Tuesday of each month\, at 7:00 PM at the City Hall\, 115 Ramsdell Street. The public is invited and encouraged to attend. City Hall is accessible to disabled persons. Interpreters\, signers or other auxiliary aids will be provided upon five business days advance notice. \nFor More Information: \nCity Clerk\n115 Ramsdell Street\nFircrest WA 98466\nPhone: 253-564-8901 \nReview the Agenda
URL:https://www.cityoffircrest.net/event/city-council-regular-meeting-3/2018-11-27/
LOCATION:Fircrest City Hall\, 115 Ramsdell Street\, Fircrest\, WA\, 98466\, United States
CATEGORIES:City Council,Public Meeting
GEO:47.2323757;-122.5059765
X-APPLE-STRUCTURED-LOCATION;VALUE=URI;X-ADDRESS=Fircrest City Hall 115 Ramsdell Street Fircrest WA 98466 United States;X-APPLE-RADIUS=500;X-TITLE=115 Ramsdell Street:geo:-122.5059765,47.2323757
END:VEVENT
END:VCALENDAR