BEGIN:VCALENDAR
VERSION:2.0
PRODID:-//City of Fircrest - ECPv6.15.20//NONSGML v1.0//EN
CALSCALE:GREGORIAN
METHOD:PUBLISH
X-WR-CALNAME:City of Fircrest
X-ORIGINAL-URL:https://www.cityoffircrest.net
X-WR-CALDESC:Events for City of Fircrest
REFRESH-INTERVAL;VALUE=DURATION:PT1H
X-Robots-Tag:noindex
X-PUBLISHED-TTL:PT1H
BEGIN:VTIMEZONE
TZID:America/Los_Angeles
BEGIN:DAYLIGHT
TZOFFSETFROM:-0800
TZOFFSETTO:-0700
TZNAME:PDT
DTSTART:20190310T100000
END:DAYLIGHT
BEGIN:STANDARD
TZOFFSETFROM:-0700
TZOFFSETTO:-0800
TZNAME:PST
DTSTART:20191103T090000
END:STANDARD
BEGIN:DAYLIGHT
TZOFFSETFROM:-0800
TZOFFSETTO:-0700
TZNAME:PDT
DTSTART:20200308T100000
END:DAYLIGHT
BEGIN:STANDARD
TZOFFSETFROM:-0700
TZOFFSETTO:-0800
TZNAME:PST
DTSTART:20201101T090000
END:STANDARD
BEGIN:DAYLIGHT
TZOFFSETFROM:-0800
TZOFFSETTO:-0700
TZNAME:PDT
DTSTART:20210314T100000
END:DAYLIGHT
BEGIN:STANDARD
TZOFFSETFROM:-0700
TZOFFSETTO:-0800
TZNAME:PST
DTSTART:20211107T090000
END:STANDARD
END:VTIMEZONE
BEGIN:VTIMEZONE
TZID:UTC
BEGIN:STANDARD
TZOFFSETFROM:+0000
TZOFFSETTO:+0000
TZNAME:UTC
DTSTART:20190101T000000
END:STANDARD
END:VTIMEZONE
BEGIN:VEVENT
DTSTART;TZID=America/Los_Angeles:20200404T080000
DTEND;TZID=America/Los_Angeles:20200404T160000
DTSTAMP:20260420T210443
CREATED:20200318T192230Z
LAST-MODIFIED:20200318T192230Z
UID:10002369-1585987200-1586016000@www.cityoffircrest.net
SUMMARY:Spring Clean-Up Westside Disposal - Cancelled
DESCRIPTION:Due to the COVID-19 concerns\, Westside Disposal is canceling the spring Clean-ups.
URL:https://www.cityoffircrest.net/event/spring-clean-westside-disposal-cancelled/2020-04-04/
LOCATION:Fircrest\, WA\, 98466\, United States
GEO:47.2395428;-122.5159586
END:VEVENT
BEGIN:VEVENT
DTSTART;TZID=America/Los_Angeles:20200406T090000
DTEND;TZID=America/Los_Angeles:20200406T120000
DTSTAMP:20260420T210443
CREATED:20171113T235834Z
LAST-MODIFIED:20200326T183510Z
UID:10002122-1586163600-1586174400@www.cityoffircrest.net
SUMMARY:Thelma Gilmur Park Habitat Stewardship Work Party CANCELED
DESCRIPTION:
URL:https://www.cityoffircrest.net/event/4801-2020-04-06/
LOCATION:Thelma Gilmur Park\, 1404 Evergreen Dr.\,\, Fircrest\, WA\, 98466\, United States
CATEGORIES:Recreation
ATTACH;FMTTYPE=image/jpeg:https://www.cityoffircrest.net/wp-content/uploads/2017/04/GilmurPark-e1493924815149.jpg
ORGANIZER;CN="Belinda Paterno":MAILTO:belindap@piercecd.org
GEO:47.2208714;-122.5200688
X-APPLE-STRUCTURED-LOCATION;VALUE=URI;X-ADDRESS=Thelma Gilmur Park 1404 Evergreen Dr. Fircrest WA 98466 United States;X-APPLE-RADIUS=500;X-TITLE=1404 Evergreen Dr.\,:geo:-122.5200688,47.2208714
END:VEVENT
BEGIN:VEVENT
DTSTART;TZID=UTC:20200406T160000
DTEND;TZID=UTC:20200406T163000
DTSTAMP:20260420T210443
CREATED:20170510T045409Z
LAST-MODIFIED:20221014T164440Z
UID:10001806-1586188800-1586190600@www.cityoffircrest.net
SUMMARY:Civil Service Commission Meeting
DESCRIPTION:The Civil Service Commission meets at the City Hall on the first Monday of every month at 4:00 p.m.  Commission members are appointed by the City Manager with the approval of the majority of the City Council. \nThe Civil Service Commission\, in accordance with the provisions of Chapter 41.12 RCW\, is created to exercise the powers and to perform the duties established by such state law in connection with the selection\, appointment and employment of police in the city. \nFor more information: \nChief Examiner\n115 Ramsdell Street\nFircrest WA 98466\n253-564-8901 \nReview the Agenda
URL:https://www.cityoffircrest.net/event/civil-service-commission-meeting/2020-04-06/
LOCATION:Fircrest\, WA\, 98466\, United States
CATEGORIES:Civil Service Commission,Public Meeting
ATTACH;FMTTYPE=image/jpeg:https://www.cityoffircrest.net/wp-content/uploads/2017/05/cruiser.jpg
GEO:47.2395428;-122.5159586
END:VEVENT
BEGIN:VEVENT
DTSTART;TZID=UTC:20200407T180000
DTEND;TZID=UTC:20200407T190000
DTSTAMP:20260420T210443
CREATED:20170415T035115Z
LAST-MODIFIED:20181220T192416Z
UID:10001525-1586282400-1586286000@www.cityoffircrest.net
SUMMARY:Planning Commission Meeting
DESCRIPTION:The Planning Commission meets at the City Hall on the first Tuesday of each month at 6:00 PM (except for the August meeting which is the third Tuesday). The Planning Commission is appointed by the Mayor and confirmed by the Council to do the following: \n\nAct as a research and fact-finding agency for the city\, as requested or required by the city council;\nMay participate in the activities of regional planning commissions;\nStudy\, promulgate\, develop and make recommendations on updates to the comprehensive plan;\nProcess and hear all requests for zoning\, rezoning or variances\, grant or deny requests for variance\, make reports and recommendations to the council regarding any proposed plat or subdivision and recommend to the city council changes in the city ordinance law relating to any of such matters.\n\nFor more information: \nPlanning Administrator\nplanning@cityoffircrest.net\n115 Ramsdell Street\nFircrest WA 98466\n253-564-8901. \nReview the Agenda\nStaff Reports
URL:https://www.cityoffircrest.net/event/planning-commission-meeting-2018-12-02/2020-04-07/
LOCATION:Fircrest City Hall\, 115 Ramsdell Street\, Fircrest\, WA\, 98466\, United States
CATEGORIES:Planning Commission
ATTACH;FMTTYPE=image/png:https://www.cityoffircrest.net/wp-content/uploads/2017/04/neighborhood.png
GEO:47.2323757;-122.5059765
X-APPLE-STRUCTURED-LOCATION;VALUE=URI;X-ADDRESS=Fircrest City Hall 115 Ramsdell Street Fircrest WA 98466 United States;X-APPLE-RADIUS=500;X-TITLE=115 Ramsdell Street:geo:-122.5059765,47.2323757
END:VEVENT
BEGIN:VEVENT
DTSTART;TZID=America/Los_Angeles:20200407T180000
DTEND;TZID=America/Los_Angeles:20200407T190000
DTSTAMP:20260420T210443
CREATED:20200213T233839Z
LAST-MODIFIED:20200213T233919Z
UID:10002194-1586282400-1586286000@www.cityoffircrest.net
SUMMARY:Planning Commission Meeting
DESCRIPTION:The Planning Commission meets at the City Hall on the first Tuesday of each month at 6:00 PM (except for the August meeting which is the third Tuesday). The Planning Commission is appointed by the Mayor and confirmed by the Council to do the following: \n\nAct as a research and fact-finding agency for the city\, as requested or required by the city council;\nMay participate in the activities of regional planning commissions;\nStudy\, promulgate\, develop and make recommendations on updates to the comprehensive plan;\nProcess and hear all requests for zoning\, rezoning or variances\, grant or deny requests for variance\, make reports and recommendations to the council regarding any proposed plat or subdivision and recommend to the city council changes in the city ordinance law relating to any of such matters.\n\n  \nFor more information: \nPlanning Administrator\nplanning@cityoffircrest.net\n115 Ramsdell Street\nFircrest WA 98466\n253-564-8902 \nReview the Agenda
URL:https://www.cityoffircrest.net/event/planning-commission-meeting-3-2020-04-07/
LOCATION:Fircrest City Hall\, 115 Ramsdell Street\, Fircrest\, WA\, 98466\, United States
CATEGORIES:Planning Commission,Planning_Building
ATTACH;FMTTYPE=image/png:https://www.cityoffircrest.net/wp-content/uploads/2018/03/plan-tiles-e1521655474118.png
GEO:47.2323757;-122.5059765
X-APPLE-STRUCTURED-LOCATION;VALUE=URI;X-ADDRESS=Fircrest City Hall 115 Ramsdell Street Fircrest WA 98466 United States;X-APPLE-RADIUS=500;X-TITLE=115 Ramsdell Street:geo:-122.5059765,47.2323757
END:VEVENT
BEGIN:VEVENT
DTSTART;TZID=America/Los_Angeles:20200411T080000
DTEND;TZID=America/Los_Angeles:20200411T160000
DTSTAMP:20260420T210443
CREATED:20200318T192230Z
LAST-MODIFIED:20200318T192230Z
UID:10002370-1586592000-1586620800@www.cityoffircrest.net
SUMMARY:Spring Clean-Up Westside Disposal - Cancelled
DESCRIPTION:Due to the COVID-19 concerns\, Westside Disposal is canceling the spring Clean-ups.
URL:https://www.cityoffircrest.net/event/spring-clean-westside-disposal-cancelled/2020-04-11/
LOCATION:Fircrest\, WA\, 98466\, United States
GEO:47.2395428;-122.5159586
END:VEVENT
BEGIN:VEVENT
DTSTART;TZID=America/Los_Angeles:20200411T090000
DTEND;TZID=America/Los_Angeles:20200411T103000
DTSTAMP:20260420T210443
CREATED:20200210T213503Z
LAST-MODIFIED:20200413T182757Z
UID:10002186-1586595600-1586601000@www.cityoffircrest.net
SUMMARY:Easter Egg Hunt CANCELLED
DESCRIPTION:We are currently evaluating creative options for holding a virtual Easter Egg Hunt. Please stay tuned and stay healthy! \n \nCome join us for the Annual Fircrest Easter Egg Hunt on Saturday\, April 11\, 2020. \nThis year we have new staggered start times for the Easter Egg Hunts. \n10 am – TOT LOT for  Children 4 years and under \n10:15 am – Fircrest Park Basketball Court – Children 5-6 years old \n10:15 am – Fircrest Park t-ball field – Children 7-9 years old \nGames\, refreshments and photos with the Easter Bunny begins at 9 am in the Community Center Gym.
URL:https://www.cityoffircrest.net/event/easter-egg-hunt-2/
LOCATION:Fircrest\, WA\, 98466\, United States
ATTACH;FMTTYPE=image/jpeg:https://www.cityoffircrest.net/wp-content/uploads/2020/02/facebook-banner-1.jpg
GEO:47.2395428;-122.5159586
END:VEVENT
BEGIN:VEVENT
DTSTART;TZID=UTC:20200414T190000
DTEND;TZID=UTC:20200414T223000
DTSTAMP:20260420T210443
CREATED:20170510T044039Z
LAST-MODIFIED:20231204T204327Z
UID:10001618-1586890800-1586903400@www.cityoffircrest.net
SUMMARY:City Council Regular Meeting
DESCRIPTION:The City Council meets the second and fourth Tuesday of each month\, at 7:00 PM at the City Hall\, 115 Ramsdell Street. The public is invited and encouraged to attend. City Hall is accessible to disabled persons. Interpreters\, signers or other auxiliary aids will be provided upon five business days advance notice. \nFor More Information: \nCity Clerk\n115 Ramsdell Street\nFircrest WA 98466\nPhone: 253-564-8901 \nReview the Agenda
URL:https://www.cityoffircrest.net/event/city-council-regular-meeting-2/2020-04-14/
LOCATION:Fircrest City Hall\, 115 Ramsdell Street\, Fircrest\, WA\, 98466\, United States
CATEGORIES:City Council,Public Meeting
GEO:47.2323757;-122.5059765
X-APPLE-STRUCTURED-LOCATION;VALUE=URI;X-ADDRESS=Fircrest City Hall 115 Ramsdell Street Fircrest WA 98466 United States;X-APPLE-RADIUS=500;X-TITLE=115 Ramsdell Street:geo:-122.5059765,47.2323757
END:VEVENT
BEGIN:VEVENT
DTSTART;TZID=UTC:20200417T160000
DTEND;TZID=UTC:20200417T170000
DTSTAMP:20260420T210443
CREATED:20170516T232436Z
LAST-MODIFIED:20170517T051208Z
UID:10001926-1587139200-1587142800@www.cityoffircrest.net
SUMMARY:Testing Event
DESCRIPTION:Please disregard this event. We are testing the system. \n 
URL:https://www.cityoffircrest.net/event/testing-event/2020-04-17/
CATEGORIES:Planning_Building
END:VEVENT
BEGIN:VEVENT
DTSTART;VALUE=DATE:20200423
DTEND;VALUE=DATE:20200511
DTSTAMP:20260420T210443
CREATED:20200424T002735Z
LAST-MODIFIED:20200513T232742Z
UID:10002372-1587600000-1589155199@www.cityoffircrest.net
SUMMARY:FIRCREST PET PHOTO CONTEST
DESCRIPTION:Congratulations Sophie (and her human\, Joy): winner of the Fircrest PET PHOTO CONTEST – LOOKS MOST LIKE THEIR HUMAN category! \n \nCongratulations Beau: winner of the Fircrest PET PHOTO CONTEST – CUTEST SMILE category! \n \nCongratulations Danny & Devito! You are voted the best dressed pets in Fircrest and winners of the Fircrest Pet Photo Contest BEST DRESSED category. \n \nCongratulations Pearl! Winner of the Fircrest Pet Photo Contest GOOFIEST LOOK category. \n \nEach pet received a $25 gift certificate to Choppers Holistic Pet Foods compliments of Fircrest Kiwanis. And full bragging rights! The competition was fierce and we had many great pets entered! Thanks to everyone that participated! \n \nGather your pets\, props and camera. It’s time for a photo shoot! The Fircrest Pet Photo Contest is HERE! \nThis is your chance to show off your amazing pet AND your photography skills! Enter today by going to the City of Fircrest Facebook Pet Photo Contest Event Page. Just follow this link: https://www.facebook.com/events/268858047470525/   Click on ‘Message Host’ (right next to ‘Hosted by City of Fircrest” on the event page) and send your pet photo with the following information: Pet Name; Pet type; Category Entered and Your name and address (to verify residency) \nYou’ll have a chance to win a $25 gift card to Choppers. And of course bragging rights! \nThere are four categories and voting happens over a two week period.\nWEEK ONE entries are DUE by no later than SUNDAY\, APRIL 26\nVOTING takes place: APRIL 27 – MAY 3\nCategories:\n• Cutest Smile\n• Looks most like their human \nWEEK TWO entries are DUE by no later than SUNDAY\, MAY 3\nVOTING takes place: MAY 4 – 10\nCategories:\n• Best Dressed\n• Goofiest Look \nTO ENTER:\nSend your pet photo with the following information to the City of Fircrest Facebook Messenger page. Click on ‘Message Host’  located right next to ‘Hosted by City of Fircrest” on the event page: https://www.facebook.com/events/268858047470525/ \n\nPet Name\nPet type\nContest Category\nYour name\nAddress (to verify Fircrest residency)\nEmail\n\nYour pet photo and the category you are entering will be posted on the Pet Photo Contest Event Page before voting begins.\nFircrest residents will be encouraged to vote on their favorite photos during the open voting period listed below.\nThe photos with the most likes (hearts) at the end of the voting period will win the prize for the category entered. \nDEADLINES:\nWeek one entries are due by no later than Sunday\, April 26th.\nVoting takes place: April 27 – May 3\nWeek two entries are due by no later than Sunday\, May 3.\nVoting takes place: May 4 – 10 \nTHE RULES:\nBe creative! Have fun!\nYou are welcome to enter a photo of any type of living animal\, as long as they are your pet.\nPhotos must be received through Facebook Messenger by deadlines listed.\nThis contest is open only to Fircrest residents.\nIn the event of a tie\, representatives from the Fircrest Kiwanis Club and the City of Fircrest will break the tie.\nOne winner per family.\nWinners will be contacted by email by no later than three days after voting is complete.\nPhotos may be featured on the City of Fircrest Website. \nPlease message Judy at jschmidtke@cityoffircrest.net with any questions.
URL:https://www.cityoffircrest.net/event/pet-photo-contest/
LOCATION:home\, Fircrest\, WA\, 98466\, United States
CATEGORIES:Community Event,Recreation
GEO:47.2395428;-122.5159586
END:VEVENT
BEGIN:VEVENT
DTSTART;TZID=America/Los_Angeles:20200425T090000
DTEND;TZID=America/Los_Angeles:20200425T120000
DTSTAMP:20260420T210443
CREATED:20200312T171557Z
LAST-MODIFIED:20200413T184108Z
UID:10002367-1587805200-1587816000@www.cityoffircrest.net
SUMMARY:Arbor Day Celebration - postponed until Fall 2020
DESCRIPTION:Come join First Annual Arbor Day Celebration this fall at Fircrest Park. \n9:30-10 Tree planting ceremony\n9-12 Informational Booths\n9-12. Park Clean up at Whittier Park lead by the Pierce Conservation District \nMore information will be available at a later date. \n 
URL:https://www.cityoffircrest.net/event/12468/
LOCATION:Fircrest\, WA\, 98466\, United States
ATTACH;FMTTYPE=image/jpeg:https://www.cityoffircrest.net/wp-content/uploads/2020/03/banner-art-arbor-day-celebration-2.jpg
GEO:47.2395428;-122.5159586
END:VEVENT
BEGIN:VEVENT
DTSTART;TZID=UTC:20200428T190000
DTEND;TZID=UTC:20200428T223000
DTSTAMP:20260420T210443
CREATED:20170510T044155Z
LAST-MODIFIED:20231204T204413Z
UID:10001717-1588100400-1588113000@www.cityoffircrest.net
SUMMARY:City Council Regular Meeting
DESCRIPTION:The City Council meets the second and fourth Tuesday of each month\, at 7:00 PM at the City Hall\, 115 Ramsdell Street. The public is invited and encouraged to attend. City Hall is accessible to disabled persons. Interpreters\, signers or other auxiliary aids will be provided upon five business days advance notice. \nFor More Information: \nCity Clerk\n115 Ramsdell Street\nFircrest WA 98466\nPhone: 253-564-8901 \nReview the Agenda
URL:https://www.cityoffircrest.net/event/city-council-regular-meeting-3/2020-04-28/
LOCATION:Fircrest City Hall\, 115 Ramsdell Street\, Fircrest\, WA\, 98466\, United States
CATEGORIES:City Council,Public Meeting
GEO:47.2323757;-122.5059765
X-APPLE-STRUCTURED-LOCATION;VALUE=URI;X-ADDRESS=Fircrest City Hall 115 Ramsdell Street Fircrest WA 98466 United States;X-APPLE-RADIUS=500;X-TITLE=115 Ramsdell Street:geo:-122.5059765,47.2323757
END:VEVENT
END:VCALENDAR