BEGIN:VCALENDAR
VERSION:2.0
PRODID:-//City of Fircrest - ECPv6.15.20//NONSGML v1.0//EN
CALSCALE:GREGORIAN
METHOD:PUBLISH
X-ORIGINAL-URL:https://www.cityoffircrest.net
X-WR-CALDESC:Events for City of Fircrest
REFRESH-INTERVAL;VALUE=DURATION:PT1H
X-Robots-Tag:noindex
X-PUBLISHED-TTL:PT1H
BEGIN:VTIMEZONE
TZID:America/Los_Angeles
BEGIN:DAYLIGHT
TZOFFSETFROM:-0800
TZOFFSETTO:-0700
TZNAME:PDT
DTSTART:20190310T100000
END:DAYLIGHT
BEGIN:STANDARD
TZOFFSETFROM:-0700
TZOFFSETTO:-0800
TZNAME:PST
DTSTART:20191103T090000
END:STANDARD
BEGIN:DAYLIGHT
TZOFFSETFROM:-0800
TZOFFSETTO:-0700
TZNAME:PDT
DTSTART:20200308T100000
END:DAYLIGHT
BEGIN:STANDARD
TZOFFSETFROM:-0700
TZOFFSETTO:-0800
TZNAME:PST
DTSTART:20201101T090000
END:STANDARD
BEGIN:DAYLIGHT
TZOFFSETFROM:-0800
TZOFFSETTO:-0700
TZNAME:PDT
DTSTART:20210314T100000
END:DAYLIGHT
BEGIN:STANDARD
TZOFFSETFROM:-0700
TZOFFSETTO:-0800
TZNAME:PST
DTSTART:20211107T090000
END:STANDARD
END:VTIMEZONE
BEGIN:VTIMEZONE
TZID:UTC
BEGIN:STANDARD
TZOFFSETFROM:+0000
TZOFFSETTO:+0000
TZNAME:UTC
DTSTART:20190101T000000
END:STANDARD
END:VTIMEZONE
BEGIN:VEVENT
DTSTART;TZID=America/Los_Angeles:20200601T090000
DTEND;TZID=America/Los_Angeles:20200601T120000
DTSTAMP:20260420T174133
CREATED:20171113T235834Z
LAST-MODIFIED:20200326T183142Z
UID:10002066-1591002000-1591012800@www.cityoffircrest.net
SUMMARY:Thelma Gilmur Park Habitat Stewardship Work Party
DESCRIPTION:
URL:https://www.cityoffircrest.net/event/4801/2020-06-01/
LOCATION:Thelma Gilmur Park\, 1404 Evergreen Dr.\,\, Fircrest\, WA\, 98466\, United States
CATEGORIES:Recreation
ATTACH;FMTTYPE=image/jpeg:https://www.cityoffircrest.net/wp-content/uploads/2017/04/GilmurPark-e1493924815149.jpg
ORGANIZER;CN="Belinda Paterno":MAILTO:belindap@piercecd.org
GEO:47.2208714;-122.5200688
X-APPLE-STRUCTURED-LOCATION;VALUE=URI;X-ADDRESS=Thelma Gilmur Park 1404 Evergreen Dr. Fircrest WA 98466 United States;X-APPLE-RADIUS=500;X-TITLE=1404 Evergreen Dr.\,:geo:-122.5200688,47.2208714
END:VEVENT
BEGIN:VEVENT
DTSTART;TZID=UTC:20200601T160000
DTEND;TZID=UTC:20200601T163000
DTSTAMP:20260420T174133
CREATED:20170510T045409Z
LAST-MODIFIED:20221014T164440Z
UID:10001808-1591027200-1591029000@www.cityoffircrest.net
SUMMARY:Civil Service Commission Meeting
DESCRIPTION:The Civil Service Commission meets at the City Hall on the first Monday of every month at 4:00 p.m.  Commission members are appointed by the City Manager with the approval of the majority of the City Council. \nThe Civil Service Commission\, in accordance with the provisions of Chapter 41.12 RCW\, is created to exercise the powers and to perform the duties established by such state law in connection with the selection\, appointment and employment of police in the city. \nFor more information: \nChief Examiner\n115 Ramsdell Street\nFircrest WA 98466\n253-564-8901 \nReview the Agenda
URL:https://www.cityoffircrest.net/event/civil-service-commission-meeting/2020-06-01/
LOCATION:Fircrest\, WA\, 98466\, United States
CATEGORIES:Civil Service Commission,Public Meeting
ATTACH;FMTTYPE=image/jpeg:https://www.cityoffircrest.net/wp-content/uploads/2017/05/cruiser.jpg
GEO:47.2395428;-122.5159586
END:VEVENT
BEGIN:VEVENT
DTSTART;TZID=UTC:20200602T180000
DTEND;TZID=UTC:20200602T190000
DTSTAMP:20260420T174133
CREATED:20170415T035115Z
LAST-MODIFIED:20181220T192416Z
UID:10001527-1591120800-1591124400@www.cityoffircrest.net
SUMMARY:Planning Commission Meeting
DESCRIPTION:The Planning Commission meets at the City Hall on the first Tuesday of each month at 6:00 PM (except for the August meeting which is the third Tuesday). The Planning Commission is appointed by the Mayor and confirmed by the Council to do the following: \n\nAct as a research and fact-finding agency for the city\, as requested or required by the city council;\nMay participate in the activities of regional planning commissions;\nStudy\, promulgate\, develop and make recommendations on updates to the comprehensive plan;\nProcess and hear all requests for zoning\, rezoning or variances\, grant or deny requests for variance\, make reports and recommendations to the council regarding any proposed plat or subdivision and recommend to the city council changes in the city ordinance law relating to any of such matters.\n\nFor more information: \nPlanning Administrator\nplanning@cityoffircrest.net\n115 Ramsdell Street\nFircrest WA 98466\n253-564-8901. \nReview the Agenda\nStaff Reports
URL:https://www.cityoffircrest.net/event/planning-commission-meeting-2018-12-02/2020-06-02/
LOCATION:Fircrest City Hall\, 115 Ramsdell Street\, Fircrest\, WA\, 98466\, United States
CATEGORIES:Planning Commission
ATTACH;FMTTYPE=image/png:https://www.cityoffircrest.net/wp-content/uploads/2017/04/neighborhood.png
GEO:47.2323757;-122.5059765
X-APPLE-STRUCTURED-LOCATION;VALUE=URI;X-ADDRESS=Fircrest City Hall 115 Ramsdell Street Fircrest WA 98466 United States;X-APPLE-RADIUS=500;X-TITLE=115 Ramsdell Street:geo:-122.5059765,47.2323757
END:VEVENT
BEGIN:VEVENT
DTSTART;TZID=America/Los_Angeles:20200602T180000
DTEND;TZID=America/Los_Angeles:20200602T190000
DTSTAMP:20260420T174133
CREATED:20200213T233839Z
LAST-MODIFIED:20200528T231749Z
UID:10002200-1591120800-1591124400@www.cityoffircrest.net
SUMMARY:Planning Commission Meeting
DESCRIPTION:The Fircrest Planning Commission will be meeting virtually via zoom to adhere to the Stay Home\, Stay Safe guidelines.  The public is invited to attend. For an invite\, email planning@cityoffircrest.net. \nThe Planning Commission meets the first Tuesday of each month at 6:00 PM (except for the August meeting which is the third Tuesday). The Planning Commission is appointed by the Mayor and confirmed by the Council to do the following: \n\nAct as a research and fact-finding agency for the city\, as requested or required by the city council;\nMay participate in the activities of regional planning commissions;\nStudy\, promulgate\, develop and make recommendations on updates to the comprehensive plan;\nProcess and hear all requests for zoning\, rezoning or variances\, grant or deny requests for variance\, make reports and recommendations to the council regarding any proposed plat or subdivision and recommend to the city council changes in the city ordinance law relating to any of such matters.\n\n  \nFor more information: \nPlanning Administrator\nplanning@cityoffircrest.net\n115 Ramsdell Street\nFircrest WA 98466\n253-564-8902 \nReview the Agenda
URL:https://www.cityoffircrest.net/event/planning-commission-meeting-3-2020-06-02/
LOCATION:Fircrest City Hall\, 115 Ramsdell Street\, Fircrest\, WA\, 98466\, United States
CATEGORIES:Planning Commission,Planning_Building
ATTACH;FMTTYPE=image/png:https://www.cityoffircrest.net/wp-content/uploads/2018/03/plan-tiles-e1521655474118.png
GEO:47.2323757;-122.5059765
X-APPLE-STRUCTURED-LOCATION;VALUE=URI;X-ADDRESS=Fircrest City Hall 115 Ramsdell Street Fircrest WA 98466 United States;X-APPLE-RADIUS=500;X-TITLE=115 Ramsdell Street:geo:-122.5059765,47.2323757
END:VEVENT
BEGIN:VEVENT
DTSTART;TZID=America/Los_Angeles:20200604T090000
DTEND;TZID=America/Los_Angeles:20200604T160000
DTSTAMP:20260420T174133
CREATED:20200529T223146Z
LAST-MODIFIED:20200529T223316Z
UID:10002374-1591261200-1591286400@www.cityoffircrest.net
SUMMARY:Fircrest Blood Drive
DESCRIPTION:Join us in supporting this important cause. \nTo make an appointment\, go to signup.com \nBefore you donate be sure to eat well\, drink plenty of non-caffeinated fluids and bring your picture ID. If you are under the age of 18\, you will need a signed parental permission to donate form. \n\nBlood Drive Flyer
URL:https://www.cityoffircrest.net/event/fircrest-blood-drive/
LOCATION:Fircrest Public Safety Building\, 302 Regents Blvd\, Fircrest\, WA\, 98466\, United States
CATEGORIES:Police Department
ATTACH;FMTTYPE=image/png:https://www.cityoffircrest.net/wp-content/uploads/2020/05/blood-drive-1.png
GEO:47.2351516;-122.509921
X-APPLE-STRUCTURED-LOCATION;VALUE=URI;X-ADDRESS=Fircrest Public Safety Building 302 Regents Blvd Fircrest WA 98466 United States;X-APPLE-RADIUS=500;X-TITLE=302 Regents Blvd:geo:-122.509921,47.2351516
END:VEVENT
BEGIN:VEVENT
DTSTART;TZID=UTC:20200609T190000
DTEND;TZID=UTC:20200609T223000
DTSTAMP:20260420T174133
CREATED:20170510T044039Z
LAST-MODIFIED:20231204T204327Z
UID:10001620-1591729200-1591741800@www.cityoffircrest.net
SUMMARY:City Council Regular Meeting
DESCRIPTION:The City Council meets the second and fourth Tuesday of each month\, at 7:00 PM at the City Hall\, 115 Ramsdell Street. The public is invited and encouraged to attend. City Hall is accessible to disabled persons. Interpreters\, signers or other auxiliary aids will be provided upon five business days advance notice. \nFor More Information: \nCity Clerk\n115 Ramsdell Street\nFircrest WA 98466\nPhone: 253-564-8901 \nReview the Agenda
URL:https://www.cityoffircrest.net/event/city-council-regular-meeting-2/2020-06-09/
LOCATION:Fircrest City Hall\, 115 Ramsdell Street\, Fircrest\, WA\, 98466\, United States
CATEGORIES:City Council,Public Meeting
GEO:47.2323757;-122.5059765
X-APPLE-STRUCTURED-LOCATION;VALUE=URI;X-ADDRESS=Fircrest City Hall 115 Ramsdell Street Fircrest WA 98466 United States;X-APPLE-RADIUS=500;X-TITLE=115 Ramsdell Street:geo:-122.5059765,47.2323757
END:VEVENT
BEGIN:VEVENT
DTSTART;TZID=UTC:20200617T160000
DTEND;TZID=UTC:20200617T170000
DTSTAMP:20260420T174133
CREATED:20170516T232436Z
LAST-MODIFIED:20170517T051208Z
UID:10001928-1592409600-1592413200@www.cityoffircrest.net
SUMMARY:Testing Event
DESCRIPTION:Please disregard this event. We are testing the system. \n 
URL:https://www.cityoffircrest.net/event/testing-event/2020-06-17/
CATEGORIES:Planning_Building
END:VEVENT
BEGIN:VEVENT
DTSTART;TZID=America/Los_Angeles:20200620T090000
DTEND;TZID=America/Los_Angeles:20200620T160000
DTSTAMP:20260420T174133
CREATED:20200608T020432Z
LAST-MODIFIED:20200617T072912Z
UID:10002375-1592643600-1592668800@www.cityoffircrest.net
SUMMARY:Fircrest COMMUNITY YARD SALE
DESCRIPTION:FIRCREST COMMUNITY YARD SALESaturday\, June 20\, 20209 am – 4 pmJoin us for a community wide YARD SALE. \n73 yard sales in 7 hours. Are you ready for the challenge? \n \n \nPrinted copies will be available at Espresso Yourself\, Fircrest Pharmacy and Mimi’s Tea on Thursday\, June 18th. \nPLEASE NOTE:  Follow these simple guidelines to comply with the SAFE START PHASE 2 Recommendations: \nMake sure to maintain safe social distancing from people who don’t live with you. Wear a mask and use hand sanitizer. Gatherings must be no more than five people from outside your household. If there are already five shoppers in the yard\, we encourage you to wait to enter. \nBe Safe. https://www.tpchd.org/healthy-people/diseases/stay-home-stay-healthy \n  \n \nFIRCREST COMMUNITY YARD SALE\nSaturday\, June 20\, 2020\n9 am – 4 pm in YOUR yard\nJoin us for a community wide YARD SALE on Saturday\, June 20th. \nSIGN UP TODAY! CLICK ON THIS LINK FOR THE REGISTRATION FORM: https://form.jotform.com/FircrestParksandRecreation/Community-YARD-SALE \nHere’s our plan:\n* Organize a yard sale at your home.\n* Let us know you’re participating by following this link: https://form.jotform.com/FircrestParksandRecreation/Community-YARD-SALE\n* We will add your address to the master list of residents hosting sales on Saturday\, June 20th. (We will only include addresses. Names will not be listed.) \nRegistration Deadline: June 16\, 2020 at 5 pm. \nIt’s as easy as that! You’ll be able to clear out some clutter and make a few dollars in the process. \nThe Fircrest Community Yard Sale\, along with the list of participating homes\, will be advertised on the City of Fircrest website and various other Facebook sites. \nRegistration is required to be included on the list. There is NO COST to register this year.* \nPLEASE NOTE: Follow these simple guidelines so that we all continue to comply with the “Stay Healthy” order:\n1. This is not a group event. Sales will take place at each participant’s yard.\n2. Make sure to stay at least 6 feet away from people who don’t live with you.\n3. Per SAFE START PHASE 2 Recommendations\, gatherings must be no more than five people from outside your household. Stay Safe! \nhttps://www.tpchd.org/healthy-people/diseases/stay-home-stay-healthy \nPlease contact Judy at Fircrest Parks & Recreation at jschmidtke@cityoffircrest.net or 253.238.4166 for more information. \nRegistration Deadline: June 16\, 2020 at 5 pm. \n*registration fees may be added in 2021.
URL:https://www.cityoffircrest.net/event/fircrest-community-yard-sale/
LOCATION:Fircrest\, WA\, 98466\, United States
GEO:47.2395428;-122.5159586
END:VEVENT
BEGIN:VEVENT
DTSTART;TZID=UTC:20200623T190000
DTEND;TZID=UTC:20200623T223000
DTSTAMP:20260420T174133
CREATED:20170510T044155Z
LAST-MODIFIED:20231204T204413Z
UID:10001719-1592938800-1592951400@www.cityoffircrest.net
SUMMARY:City Council Regular Meeting
DESCRIPTION:The City Council meets the second and fourth Tuesday of each month\, at 7:00 PM at the City Hall\, 115 Ramsdell Street. The public is invited and encouraged to attend. City Hall is accessible to disabled persons. Interpreters\, signers or other auxiliary aids will be provided upon five business days advance notice. \nFor More Information: \nCity Clerk\n115 Ramsdell Street\nFircrest WA 98466\nPhone: 253-564-8901 \nReview the Agenda
URL:https://www.cityoffircrest.net/event/city-council-regular-meeting-3/2020-06-23/
LOCATION:Fircrest City Hall\, 115 Ramsdell Street\, Fircrest\, WA\, 98466\, United States
CATEGORIES:City Council,Public Meeting
GEO:47.2323757;-122.5059765
X-APPLE-STRUCTURED-LOCATION;VALUE=URI;X-ADDRESS=Fircrest City Hall 115 Ramsdell Street Fircrest WA 98466 United States;X-APPLE-RADIUS=500;X-TITLE=115 Ramsdell Street:geo:-122.5059765,47.2323757
END:VEVENT
END:VCALENDAR