BEGIN:VCALENDAR
VERSION:2.0
PRODID:-//City of Fircrest - ECPv6.15.20//NONSGML v1.0//EN
CALSCALE:GREGORIAN
METHOD:PUBLISH
X-ORIGINAL-URL:https://www.cityoffircrest.net
X-WR-CALDESC:Events for City of Fircrest
REFRESH-INTERVAL;VALUE=DURATION:PT1H
X-Robots-Tag:noindex
X-PUBLISHED-TTL:PT1H
BEGIN:VTIMEZONE
TZID:America/Los_Angeles
BEGIN:DAYLIGHT
TZOFFSETFROM:-0800
TZOFFSETTO:-0700
TZNAME:PDT
DTSTART:20190310T100000
END:DAYLIGHT
BEGIN:STANDARD
TZOFFSETFROM:-0700
TZOFFSETTO:-0800
TZNAME:PST
DTSTART:20191103T090000
END:STANDARD
BEGIN:DAYLIGHT
TZOFFSETFROM:-0800
TZOFFSETTO:-0700
TZNAME:PDT
DTSTART:20200308T100000
END:DAYLIGHT
BEGIN:STANDARD
TZOFFSETFROM:-0700
TZOFFSETTO:-0800
TZNAME:PST
DTSTART:20201101T090000
END:STANDARD
BEGIN:DAYLIGHT
TZOFFSETFROM:-0800
TZOFFSETTO:-0700
TZNAME:PDT
DTSTART:20210314T100000
END:DAYLIGHT
BEGIN:STANDARD
TZOFFSETFROM:-0700
TZOFFSETTO:-0800
TZNAME:PST
DTSTART:20211107T090000
END:STANDARD
END:VTIMEZONE
BEGIN:VTIMEZONE
TZID:UTC
BEGIN:STANDARD
TZOFFSETFROM:+0000
TZOFFSETTO:+0000
TZNAME:UTC
DTSTART:20190101T000000
END:STANDARD
END:VTIMEZONE
BEGIN:VEVENT
DTSTART;TZID=America/Los_Angeles:20200803T090000
DTEND;TZID=America/Los_Angeles:20200803T120000
DTSTAMP:20260420T141245
CREATED:20171113T235834Z
LAST-MODIFIED:20200326T183142Z
UID:10002068-1596445200-1596456000@www.cityoffircrest.net
SUMMARY:Thelma Gilmur Park Habitat Stewardship Work Party
DESCRIPTION:
URL:https://www.cityoffircrest.net/event/4801/2020-08-03/
LOCATION:Thelma Gilmur Park\, 1404 Evergreen Dr.\,\, Fircrest\, WA\, 98466\, United States
CATEGORIES:Recreation
ATTACH;FMTTYPE=image/jpeg:https://www.cityoffircrest.net/wp-content/uploads/2017/04/GilmurPark-e1493924815149.jpg
ORGANIZER;CN="Belinda Paterno":MAILTO:belindap@piercecd.org
GEO:47.2208714;-122.5200688
X-APPLE-STRUCTURED-LOCATION;VALUE=URI;X-ADDRESS=Thelma Gilmur Park 1404 Evergreen Dr. Fircrest WA 98466 United States;X-APPLE-RADIUS=500;X-TITLE=1404 Evergreen Dr.\,:geo:-122.5200688,47.2208714
END:VEVENT
BEGIN:VEVENT
DTSTART;TZID=UTC:20200803T160000
DTEND;TZID=UTC:20200803T163000
DTSTAMP:20260420T141245
CREATED:20170510T045409Z
LAST-MODIFIED:20221014T164440Z
UID:10001810-1596470400-1596472200@www.cityoffircrest.net
SUMMARY:Civil Service Commission Meeting
DESCRIPTION:The Civil Service Commission meets at the City Hall on the first Monday of every month at 4:00 p.m.  Commission members are appointed by the City Manager with the approval of the majority of the City Council. \nThe Civil Service Commission\, in accordance with the provisions of Chapter 41.12 RCW\, is created to exercise the powers and to perform the duties established by such state law in connection with the selection\, appointment and employment of police in the city. \nFor more information: \nChief Examiner\n115 Ramsdell Street\nFircrest WA 98466\n253-564-8901 \nReview the Agenda
URL:https://www.cityoffircrest.net/event/civil-service-commission-meeting/2020-08-03/
LOCATION:Fircrest\, WA\, 98466\, United States
CATEGORIES:Civil Service Commission,Public Meeting
ATTACH;FMTTYPE=image/jpeg:https://www.cityoffircrest.net/wp-content/uploads/2017/05/cruiser.jpg
GEO:47.2395428;-122.5159586
END:VEVENT
BEGIN:VEVENT
DTSTART;TZID=UTC:20200804T180000
DTEND;TZID=UTC:20200804T190000
DTSTAMP:20260420T141245
CREATED:20170415T035115Z
LAST-MODIFIED:20181220T192416Z
UID:10001529-1596564000-1596567600@www.cityoffircrest.net
SUMMARY:Planning Commission Meeting
DESCRIPTION:The Planning Commission meets at the City Hall on the first Tuesday of each month at 6:00 PM (except for the August meeting which is the third Tuesday). The Planning Commission is appointed by the Mayor and confirmed by the Council to do the following: \n\nAct as a research and fact-finding agency for the city\, as requested or required by the city council;\nMay participate in the activities of regional planning commissions;\nStudy\, promulgate\, develop and make recommendations on updates to the comprehensive plan;\nProcess and hear all requests for zoning\, rezoning or variances\, grant or deny requests for variance\, make reports and recommendations to the council regarding any proposed plat or subdivision and recommend to the city council changes in the city ordinance law relating to any of such matters.\n\nFor more information: \nPlanning Administrator\nplanning@cityoffircrest.net\n115 Ramsdell Street\nFircrest WA 98466\n253-564-8901. \nReview the Agenda\nStaff Reports
URL:https://www.cityoffircrest.net/event/planning-commission-meeting-2018-12-02/2020-08-04/
LOCATION:Fircrest City Hall\, 115 Ramsdell Street\, Fircrest\, WA\, 98466\, United States
CATEGORIES:Planning Commission
ATTACH;FMTTYPE=image/png:https://www.cityoffircrest.net/wp-content/uploads/2017/04/neighborhood.png
GEO:47.2323757;-122.5059765
X-APPLE-STRUCTURED-LOCATION;VALUE=URI;X-ADDRESS=Fircrest City Hall 115 Ramsdell Street Fircrest WA 98466 United States;X-APPLE-RADIUS=500;X-TITLE=115 Ramsdell Street:geo:-122.5059765,47.2323757
END:VEVENT
BEGIN:VEVENT
DTSTART;TZID=UTC:20200811T190000
DTEND;TZID=UTC:20200811T223000
DTSTAMP:20260420T141245
CREATED:20170510T044039Z
LAST-MODIFIED:20231204T204327Z
UID:10001622-1597172400-1597185000@www.cityoffircrest.net
SUMMARY:City Council Regular Meeting
DESCRIPTION:The City Council meets the second and fourth Tuesday of each month\, at 7:00 PM at the City Hall\, 115 Ramsdell Street. The public is invited and encouraged to attend. City Hall is accessible to disabled persons. Interpreters\, signers or other auxiliary aids will be provided upon five business days advance notice. \nFor More Information: \nCity Clerk\n115 Ramsdell Street\nFircrest WA 98466\nPhone: 253-564-8901 \nReview the Agenda
URL:https://www.cityoffircrest.net/event/city-council-regular-meeting-2/2020-08-11/
LOCATION:Fircrest City Hall\, 115 Ramsdell Street\, Fircrest\, WA\, 98466\, United States
CATEGORIES:City Council,Public Meeting
GEO:47.2323757;-122.5059765
X-APPLE-STRUCTURED-LOCATION;VALUE=URI;X-ADDRESS=Fircrest City Hall 115 Ramsdell Street Fircrest WA 98466 United States;X-APPLE-RADIUS=500;X-TITLE=115 Ramsdell Street:geo:-122.5059765,47.2323757
END:VEVENT
BEGIN:VEVENT
DTSTART;VALUE=DATE:20200814
DTEND;VALUE=DATE:20200822
DTSTAMP:20260420T141245
CREATED:20200811T205803Z
LAST-MODIFIED:20200818T181408Z
UID:10002378-1597363200-1598054399@www.cityoffircrest.net
SUMMARY:The Summer Hunt Around Fircrest
DESCRIPTION:Join us for a Summer HUNT Around Fircrest! \nFriday\, August 14 – Friday\, August 21 \n \n \n \n \n \nA new list of items will be posted every day. \nLook for the list on the Summer Hunt event page. \nEverything can be found around the Fircrest community. \nTake fun photos along the way and post your favorite on this page. \nAnd we have fun prizes!\nTo be eligible for the daily drawing\, sign up today by\nfollowing this link. https://form.jotform.com/202235456427150\nThen post a photo on this page and your name will go into a daily drawing. Winning names will be posted on the Summer Hunt event page. \n** Rules: Must be 16 years or younger and a Fircrest resident to be eligible for prizes. \nPLEASE NOTE: This is NOT a group event. Children should be out with their responsible adult who is in their Family/Household. Make sure to use proper social distancing (at least 6 feet) when encountering other ‘Hunters’ on your quest. Be safe.\nFollow these simple guidelines to comply with the SAFE START PHASE 2 Recommendations: https://www.tpchd.org/healthy-people/diseases/stay-home-stay-healthy
URL:https://www.cityoffircrest.net/event/the-summer-hunt-around-fircrest/
LOCATION:City of Fircrest\, Fircrest\, WA\, 98466\, United States
GEO:47.2395428;-122.5159586
END:VEVENT
BEGIN:VEVENT
DTSTART;TZID=UTC:20200817T160000
DTEND;TZID=UTC:20200817T170000
DTSTAMP:20260420T141245
CREATED:20170516T232436Z
LAST-MODIFIED:20170517T051208Z
UID:10001930-1597680000-1597683600@www.cityoffircrest.net
SUMMARY:Testing Event
DESCRIPTION:Please disregard this event. We are testing the system. \n 
URL:https://www.cityoffircrest.net/event/testing-event/2020-08-17/
CATEGORIES:Planning_Building
END:VEVENT
BEGIN:VEVENT
DTSTART;TZID=America/Los_Angeles:20200817T180000
DTEND;TZID=America/Los_Angeles:20200817T200000
DTSTAMP:20260420T141245
CREATED:20180103T213227Z
LAST-MODIFIED:20200812T163020Z
UID:10002151-1597687200-1597694400@www.cityoffircrest.net
SUMMARY:City Council Study Session-CANCELED
DESCRIPTION:The City Council Study Sessions meet at 6:00 PM at the City Hall\, 115 Ramsdell Street. The public is invited and encouraged to attend. City Hall is accessible to disabled persons. Interpreters\, signers or other auxiliary aids will be provided upon five business days advance notice. \nFor More Information: \nCity Clerk\n115 Ramsdell Street\nFircrest WA 98466\nPhone: 253-564-8901 \nReview the Agenda \n 
URL:https://www.cityoffircrest.net/event/city-council-study-session-2-2020-08-17/
LOCATION:Fircrest\, WA\, 98466\, United States
CATEGORIES:City Council,Public Meeting
GEO:47.2395428;-122.5159586
END:VEVENT
BEGIN:VEVENT
DTSTART;TZID=America/Los_Angeles:20200818T180000
DTEND;TZID=America/Los_Angeles:20200818T190000
DTSTAMP:20260420T141245
CREATED:20200213T233839Z
LAST-MODIFIED:20200817T041812Z
UID:10002204-1597773600-1597777200@www.cityoffircrest.net
SUMMARY:Cancelled: Planning Commission Meeting
DESCRIPTION:This meeting has been cancelled. There will be a joint meeting/presentation on September 1. \nThe Fircrest Planning Commission will be meeting virtually via zoom to adhere to the Stay Home\, Stay Safe guidelines.  The public is invited to attend. For an invite\, email planning@cityoffircrest.net. \nThe Planning Commission meets the first Tuesday of each month at 6:00 PM (except for the August meeting which is the third Tuesday). The Planning Commission is appointed by the Mayor and confirmed by the Council to do the following: \n\nAct as a research and fact-finding agency for the city\, as requested or required by the city council;\nMay participate in the activities of regional planning commissions;\nStudy\, promulgate\, develop and make recommendations on updates to the comprehensive plan;\nProcess and hear all requests for zoning\, rezoning or variances\, grant or deny requests for variance\, make reports and recommendations to the council regarding any proposed plat or subdivision and recommend to the city council changes in the city ordinance law relating to any of such matters.\n\n  \nFor more information: \nPlanning Administrator\nplanning@cityoffircrest.net\n115 Ramsdell Street\nFircrest WA 98466\n253-564-8902 \nReview the Agenda
URL:https://www.cityoffircrest.net/event/planning-commission-meeting-3-2020-06-02-2020-08-04/
LOCATION:Fircrest City Hall\, 115 Ramsdell Street\, Fircrest\, WA\, 98466\, United States
CATEGORIES:Planning Commission,Planning_Building
ATTACH;FMTTYPE=image/png:https://www.cityoffircrest.net/wp-content/uploads/2018/03/plan-tiles-e1521655474118.png
GEO:47.2323757;-122.5059765
X-APPLE-STRUCTURED-LOCATION;VALUE=URI;X-ADDRESS=Fircrest City Hall 115 Ramsdell Street Fircrest WA 98466 United States;X-APPLE-RADIUS=500;X-TITLE=115 Ramsdell Street:geo:-122.5059765,47.2323757
END:VEVENT
BEGIN:VEVENT
DTSTART;TZID=UTC:20200825T190000
DTEND;TZID=UTC:20200825T223000
DTSTAMP:20260420T141245
CREATED:20170510T044155Z
LAST-MODIFIED:20231204T204413Z
UID:10001721-1598382000-1598394600@www.cityoffircrest.net
SUMMARY:City Council Regular Meeting
DESCRIPTION:The City Council meets the second and fourth Tuesday of each month\, at 7:00 PM at the City Hall\, 115 Ramsdell Street. The public is invited and encouraged to attend. City Hall is accessible to disabled persons. Interpreters\, signers or other auxiliary aids will be provided upon five business days advance notice. \nFor More Information: \nCity Clerk\n115 Ramsdell Street\nFircrest WA 98466\nPhone: 253-564-8901 \nReview the Agenda
URL:https://www.cityoffircrest.net/event/city-council-regular-meeting-3/2020-08-25/
LOCATION:Fircrest City Hall\, 115 Ramsdell Street\, Fircrest\, WA\, 98466\, United States
CATEGORIES:City Council,Public Meeting
GEO:47.2323757;-122.5059765
X-APPLE-STRUCTURED-LOCATION;VALUE=URI;X-ADDRESS=Fircrest City Hall 115 Ramsdell Street Fircrest WA 98466 United States;X-APPLE-RADIUS=500;X-TITLE=115 Ramsdell Street:geo:-122.5059765,47.2323757
END:VEVENT
END:VCALENDAR