BEGIN:VCALENDAR
VERSION:2.0
PRODID:-//City of Fircrest - ECPv6.15.20//NONSGML v1.0//EN
CALSCALE:GREGORIAN
METHOD:PUBLISH
X-WR-CALNAME:City of Fircrest
X-ORIGINAL-URL:https://www.cityoffircrest.net
X-WR-CALDESC:Events for City of Fircrest
REFRESH-INTERVAL;VALUE=DURATION:PT1H
X-Robots-Tag:noindex
X-PUBLISHED-TTL:PT1H
BEGIN:VTIMEZONE
TZID:America/Los_Angeles
BEGIN:DAYLIGHT
TZOFFSETFROM:-0800
TZOFFSETTO:-0700
TZNAME:PDT
DTSTART:20210314T100000
END:DAYLIGHT
BEGIN:STANDARD
TZOFFSETFROM:-0700
TZOFFSETTO:-0800
TZNAME:PST
DTSTART:20211107T090000
END:STANDARD
BEGIN:DAYLIGHT
TZOFFSETFROM:-0800
TZOFFSETTO:-0700
TZNAME:PDT
DTSTART:20220313T100000
END:DAYLIGHT
BEGIN:STANDARD
TZOFFSETFROM:-0700
TZOFFSETTO:-0800
TZNAME:PST
DTSTART:20221106T090000
END:STANDARD
BEGIN:DAYLIGHT
TZOFFSETFROM:-0800
TZOFFSETTO:-0700
TZNAME:PDT
DTSTART:20230312T100000
END:DAYLIGHT
BEGIN:STANDARD
TZOFFSETFROM:-0700
TZOFFSETTO:-0800
TZNAME:PST
DTSTART:20231105T090000
END:STANDARD
BEGIN:DAYLIGHT
TZOFFSETFROM:-0800
TZOFFSETTO:-0700
TZNAME:PDT
DTSTART:20240310T100000
END:DAYLIGHT
BEGIN:STANDARD
TZOFFSETFROM:-0700
TZOFFSETTO:-0800
TZNAME:PST
DTSTART:20241103T090000
END:STANDARD
END:VTIMEZONE
BEGIN:VTIMEZONE
TZID:UTC
BEGIN:STANDARD
TZOFFSETFROM:+0000
TZOFFSETTO:+0000
TZNAME:UTC
DTSTART:20220101T000000
END:STANDARD
END:VTIMEZONE
BEGIN:VEVENT
DTSTART;VALUE=DATE:20221231
DTEND;VALUE=DATE:20230103
DTSTAMP:20260421T064228
CREATED:20221206T175527Z
LAST-MODIFIED:20221206T175527Z
UID:10003122-1672444800-1672703999@www.cityoffircrest.net
SUMMARY:Community Center Closed
DESCRIPTION:
URL:https://www.cityoffircrest.net/event/community-center-closed-2/
LOCATION:Fircrest Community Center\, 555 Contra Costa Avenue\, Fircrest\, WA\, 98466\, United States
GEO:47.2337287;-122.512525
X-APPLE-STRUCTURED-LOCATION;VALUE=URI;X-ADDRESS=Fircrest Community Center 555 Contra Costa Avenue Fircrest WA 98466 United States;X-APPLE-RADIUS=500;X-TITLE=555 Contra Costa Avenue:geo:-122.512525,47.2337287
END:VEVENT
BEGIN:VEVENT
DTSTART;TZID=America/Los_Angeles:20230102T080000
DTEND;TZID=America/Los_Angeles:20230102T170000
DTSTAMP:20260421T064228
CREATED:20180103T194506Z
LAST-MODIFIED:20220323T191008Z
UID:10002140-1672646400-1672678800@www.cityoffircrest.net
SUMMARY:New Year's Day - City Offices Closed
DESCRIPTION:City offices closed in observance of the holiday.
URL:https://www.cityoffircrest.net/event/new-years-day/2023-01-02/
LOCATION:Fircrest\, WA\, 98466\, United States
CATEGORIES:Holiday
ATTACH;FMTTYPE=image/jpeg:https://www.cityoffircrest.net/wp-content/uploads/2018/01/new-year-3042748_1280.jpg
GEO:47.2395428;-122.5159586
END:VEVENT
BEGIN:VEVENT
DTSTART;TZID=America/Los_Angeles:20230102T090000
DTEND;TZID=America/Los_Angeles:20230102T120000
DTSTAMP:20260421T064228
CREATED:20171113T235834Z
LAST-MODIFIED:20200326T183142Z
UID:10002097-1672650000-1672660800@www.cityoffircrest.net
SUMMARY:Thelma Gilmur Park Habitat Stewardship Work Party
DESCRIPTION:
URL:https://www.cityoffircrest.net/event/4801/2023-01-02/
LOCATION:Thelma Gilmur Park\, 1404 Evergreen Dr.\,\, Fircrest\, WA\, 98466\, United States
CATEGORIES:Recreation
ATTACH;FMTTYPE=image/jpeg:https://www.cityoffircrest.net/wp-content/uploads/2017/04/GilmurPark-e1493924815149.jpg
ORGANIZER;CN="Belinda Paterno":MAILTO:belindap@piercecd.org
GEO:47.2208714;-122.5200688
X-APPLE-STRUCTURED-LOCATION;VALUE=URI;X-ADDRESS=Thelma Gilmur Park 1404 Evergreen Dr. Fircrest WA 98466 United States;X-APPLE-RADIUS=500;X-TITLE=1404 Evergreen Dr.\,:geo:-122.5200688,47.2208714
END:VEVENT
BEGIN:VEVENT
DTSTART;TZID=America/Los_Angeles:20230102T180000
DTEND;TZID=America/Los_Angeles:20230102T200000
DTSTAMP:20260421T064228
CREATED:20190103T003649Z
LAST-MODIFIED:20221222T005026Z
UID:10003196-1672682400-1672689600@www.cityoffircrest.net
SUMMARY:City Council Study Session
DESCRIPTION:The City Council Study Sessions meet at 6:00 PM at the City Hall\, 115 Ramsdell Street. The public is invited and encouraged to attend. City Hall is accessible to disabled persons. Interpreters\, signers or other auxiliary aids will be provided upon five business days advance notice. \nFor More Information: \nCity Clerk\n115 Ramsdell Street\nFircrest WA 98466\nPhone: 253-564-8901 \nReview the Agenda
URL:https://www.cityoffircrest.net/event/city-council-study-session-3-2/2023-01-02/
LOCATION:Fircrest City Hall\, 115 Ramsdell Street\, Fircrest\, WA\, 98466\, United States
CATEGORIES:City Council,Public Meeting
GEO:47.2323757;-122.5059765
X-APPLE-STRUCTURED-LOCATION;VALUE=URI;X-ADDRESS=Fircrest City Hall 115 Ramsdell Street Fircrest WA 98466 United States;X-APPLE-RADIUS=500;X-TITLE=115 Ramsdell Street:geo:-122.5059765,47.2323757
END:VEVENT
BEGIN:VEVENT
DTSTART;TZID=UTC:20230103T160000
DTEND;TZID=UTC:20230103T170000
DTSTAMP:20260421T064228
CREATED:20221118T040620Z
LAST-MODIFIED:20221118T040620Z
UID:10002950-1672761600-1672765200@www.cityoffircrest.net
SUMMARY:Civil Service Commission Meeting
DESCRIPTION:The Civil Service Commission meets at the City Hall on the first Monday of every month at 4:00 p.m.  Commission members are appointed by the City Manager with the approval of the majority of the City Council. \nThe Civil Service Commission\, in accordance with the provisions of Chapter 41.12 RCW\, is created to exercise the powers and to perform the duties established by such state law in connection with the selection\, appointment and employment of police in the city. \nFor more information: \nChief Examiner\n115 Ramsdell Street\nFircrest WA 98466\n253-564-8901 \nReview the Agenda
URL:https://www.cityoffircrest.net/event/civil-service-commission-meeting-3-2/2023-01-03/
LOCATION:Fircrest\, WA\, 98466\, United States
CATEGORIES:Civil Service Commission,Public Meeting
ATTACH;FMTTYPE=image/jpeg:https://www.cityoffircrest.net/wp-content/uploads/2017/05/cruiser.jpg
GEO:47.2395428;-122.5159586
END:VEVENT
BEGIN:VEVENT
DTSTART;TZID=UTC:20230110T190000
DTEND;TZID=UTC:20230110T223000
DTSTAMP:20260421T064228
CREATED:20170510T044039Z
LAST-MODIFIED:20231204T204327Z
UID:10001651-1673377200-1673389800@www.cityoffircrest.net
SUMMARY:City Council Regular Meeting
DESCRIPTION:The City Council meets the second and fourth Tuesday of each month\, at 7:00 PM at the City Hall\, 115 Ramsdell Street. The public is invited and encouraged to attend. City Hall is accessible to disabled persons. Interpreters\, signers or other auxiliary aids will be provided upon five business days advance notice. \nFor More Information: \nCity Clerk\n115 Ramsdell Street\nFircrest WA 98466\nPhone: 253-564-8901 \nReview the Agenda
URL:https://www.cityoffircrest.net/event/city-council-regular-meeting-2/2023-01-10/
LOCATION:Fircrest City Hall\, 115 Ramsdell Street\, Fircrest\, WA\, 98466\, United States
CATEGORIES:City Council,Public Meeting
GEO:47.2323757;-122.5059765
X-APPLE-STRUCTURED-LOCATION;VALUE=URI;X-ADDRESS=Fircrest City Hall 115 Ramsdell Street Fircrest WA 98466 United States;X-APPLE-RADIUS=500;X-TITLE=115 Ramsdell Street:geo:-122.5059765,47.2323757
END:VEVENT
BEGIN:VEVENT
DTSTART;TZID=America/Los_Angeles:20230115T080000
DTEND;TZID=America/Los_Angeles:20230115T170000
DTSTAMP:20260421T064228
CREATED:20180103T194102Z
LAST-MODIFIED:20180105T215735Z
UID:10002132-1673769600-1673802000@www.cityoffircrest.net
SUMMARY:Martin Luther King Jr. Day - City Offices Closed
DESCRIPTION:City offices closed in observance of the holiday.
URL:https://www.cityoffircrest.net/event/martin-luther-king-jr-day/2023-01-15/
LOCATION:Fircrest\, 98466\, United States
CATEGORIES:Holiday
ATTACH;FMTTYPE=image/jpeg:https://www.cityoffircrest.net/wp-content/uploads/2018/01/mlkj.jpg
END:VEVENT
BEGIN:VEVENT
DTSTART;TZID=America/Los_Angeles:20230117T080000
DTEND;TZID=America/Los_Angeles:20230117T170000
DTSTAMP:20260421T064228
CREATED:20190103T003649Z
LAST-MODIFIED:20221222T005026Z
UID:10003150-1673942400-1673974800@www.cityoffircrest.net
SUMMARY:City Council Study Session
DESCRIPTION:The City Council Study Sessions meet at 6:00 PM at the City Hall\, 115 Ramsdell Street. The public is invited and encouraged to attend. City Hall is accessible to disabled persons. Interpreters\, signers or other auxiliary aids will be provided upon five business days advance notice. \nFor More Information: \nCity Clerk\n115 Ramsdell Street\nFircrest WA 98466\nPhone: 253-564-8901 \nReview the Agenda
URL:https://www.cityoffircrest.net/event/city-council-study-session-3-2/2023-01-17/
LOCATION:Fircrest City Hall\, 115 Ramsdell Street\, Fircrest\, WA\, 98466\, United States
CATEGORIES:City Council,Public Meeting
GEO:47.2323757;-122.5059765
X-APPLE-STRUCTURED-LOCATION;VALUE=URI;X-ADDRESS=Fircrest City Hall 115 Ramsdell Street Fircrest WA 98466 United States;X-APPLE-RADIUS=500;X-TITLE=115 Ramsdell Street:geo:-122.5059765,47.2323757
END:VEVENT
BEGIN:VEVENT
DTSTART;TZID=UTC:20230124T190000
DTEND;TZID=UTC:20230124T223000
DTSTAMP:20260421T064228
CREATED:20170510T044155Z
LAST-MODIFIED:20231204T204413Z
UID:10001748-1674586800-1674599400@www.cityoffircrest.net
SUMMARY:City Council Regular Meeting
DESCRIPTION:The City Council meets the second and fourth Tuesday of each month\, at 7:00 PM at the City Hall\, 115 Ramsdell Street. The public is invited and encouraged to attend. City Hall is accessible to disabled persons. Interpreters\, signers or other auxiliary aids will be provided upon five business days advance notice. \nFor More Information: \nCity Clerk\n115 Ramsdell Street\nFircrest WA 98466\nPhone: 253-564-8901 \nReview the Agenda
URL:https://www.cityoffircrest.net/event/city-council-regular-meeting-3/2023-01-24/
LOCATION:Fircrest City Hall\, 115 Ramsdell Street\, Fircrest\, WA\, 98466\, United States
CATEGORIES:City Council,Public Meeting
GEO:47.2323757;-122.5059765
X-APPLE-STRUCTURED-LOCATION;VALUE=URI;X-ADDRESS=Fircrest City Hall 115 Ramsdell Street Fircrest WA 98466 United States;X-APPLE-RADIUS=500;X-TITLE=115 Ramsdell Street:geo:-122.5059765,47.2323757
END:VEVENT
END:VCALENDAR