BEGIN:VCALENDAR
VERSION:2.0
PRODID:-//City of Fircrest - ECPv6.15.20//NONSGML v1.0//EN
CALSCALE:GREGORIAN
METHOD:PUBLISH
X-ORIGINAL-URL:https://www.cityoffircrest.net
X-WR-CALDESC:Events for City of Fircrest
REFRESH-INTERVAL;VALUE=DURATION:PT1H
X-Robots-Tag:noindex
X-PUBLISHED-TTL:PT1H
BEGIN:VTIMEZONE
TZID:America/Los_Angeles
BEGIN:DAYLIGHT
TZOFFSETFROM:-0800
TZOFFSETTO:-0700
TZNAME:PDT
DTSTART:20250309T100000
END:DAYLIGHT
BEGIN:STANDARD
TZOFFSETFROM:-0700
TZOFFSETTO:-0800
TZNAME:PST
DTSTART:20251102T090000
END:STANDARD
BEGIN:DAYLIGHT
TZOFFSETFROM:-0800
TZOFFSETTO:-0700
TZNAME:PDT
DTSTART:20260308T100000
END:DAYLIGHT
BEGIN:STANDARD
TZOFFSETFROM:-0700
TZOFFSETTO:-0800
TZNAME:PST
DTSTART:20261101T090000
END:STANDARD
BEGIN:DAYLIGHT
TZOFFSETFROM:-0800
TZOFFSETTO:-0700
TZNAME:PDT
DTSTART:20270314T100000
END:DAYLIGHT
BEGIN:STANDARD
TZOFFSETFROM:-0700
TZOFFSETTO:-0800
TZNAME:PST
DTSTART:20271107T090000
END:STANDARD
END:VTIMEZONE
BEGIN:VEVENT
DTSTART;TZID=America/Los_Angeles:20260718T090000
DTEND;TZID=America/Los_Angeles:20260718T100000
DTSTAMP:20260420T072336
CREATED:20260108T232839Z
LAST-MODIFIED:20260414T232308Z
UID:10004446-1784365200-1784368800@www.cityoffircrest.net
SUMMARY:Fircrest Fun Days Furry 4K
DESCRIPTION:  \nIt’s a 4K adventure for pups & their people! \nGather up your furry pets and join us for a FUN morning around Fircrest. \nThe Furry 4K is back and it’s going to be better than ever! \nHere’s everything you need to know! \nDate: Saturday\, July 18\, 2026 \nTimes: \n8:00 am Check in and WAG bag pick up begins at Fircrest Park Pavilion \n8:00 am Obstacle course for your furry friends \n8:30 am Early 4K for our furry friends that need a little extra space or time \n9:00 am The “official” start for everyone else \n* Early check-in and WAG bag* pick-up on Friday\, July 17 from 5:00 pm – 9:00 pm at the Fircrest FUN Booth on the Community Center Plaza steps. \nRoute: all around Fircrest! (See route map below) \nThe Furry 4K course is 4 kilometers (approximately)\, easy and enjoyable for all ages and ability levels. ‘Watering holes’ will be available on the course. \nRegistration: Required \nPlease complete one registration per family. Fill out the form by following this link: https://form.jotform.com/FircrestParksandRecreation/2026-furry-4k-registration \nCost: FREE \nA “WAG” bag for your pet is included * \nEach pet will receive a raffle ticket for prize drawings \n*While supplies last \nRULES OF PARTICIPATION: \n\nPets must be current on vaccinations\nNo aggressive pets\nNo female dogs in heat\nNo more than two furry friends per adult human\nKeep all pets on an 8-foot or shorter leash at all times\nPlease\, clean up after your pet\nWaste bags will be available at the start line\nWater stops will be set up along the way\nRun or walk the course only if you and your pet are in adequate physical condition\nStrollers are welcome on the course\nDepending on the number of registrants\, you may be asked to organize at the start line according to speed\nPlease take lots of photos at the event and post on your social media with #fircrestfurry4K #fircrestfundays2026 #seeyouatthebark\nPlease be sure to thank our sponsors: Chopper’s Holistic Pet Food and Heart & Soul Veterinary Center\n\nQuestions: Please contact Judy at jschmidtke@cityoffircrest.net \nSEE YOU AT THE BARK!
URL:https://www.cityoffircrest.net/event/furry-4k-3/
LOCATION:Fircrest Park\, 555 Contra Costa Ave\, Fircrest\, WA\, 98466\, United States
CATEGORIES:Community Event,Recreation
GEO:47.2338427;-122.5126411
X-APPLE-STRUCTURED-LOCATION;VALUE=URI;X-ADDRESS=Fircrest Park 555 Contra Costa Ave Fircrest WA 98466 United States;X-APPLE-RADIUS=500;X-TITLE=555 Contra Costa Ave:geo:-122.5126411,47.2338427
END:VEVENT
END:VCALENDAR