BEGIN:VCALENDAR
VERSION:2.0
PRODID:-//City of Fircrest - ECPv6.15.20//NONSGML v1.0//EN
CALSCALE:GREGORIAN
METHOD:PUBLISH
X-ORIGINAL-URL:https://www.cityoffircrest.net
X-WR-CALDESC:Events for City of Fircrest
REFRESH-INTERVAL;VALUE=DURATION:PT1H
X-Robots-Tag:noindex
X-PUBLISHED-TTL:PT1H
BEGIN:VTIMEZONE
TZID:America/Los_Angeles
BEGIN:DAYLIGHT
TZOFFSETFROM:-0800
TZOFFSETTO:-0700
TZNAME:PDT
DTSTART:20160313T100000
END:DAYLIGHT
BEGIN:STANDARD
TZOFFSETFROM:-0700
TZOFFSETTO:-0800
TZNAME:PST
DTSTART:20161106T090000
END:STANDARD
BEGIN:DAYLIGHT
TZOFFSETFROM:-0800
TZOFFSETTO:-0700
TZNAME:PDT
DTSTART:20170312T100000
END:DAYLIGHT
BEGIN:STANDARD
TZOFFSETFROM:-0700
TZOFFSETTO:-0800
TZNAME:PST
DTSTART:20171105T090000
END:STANDARD
BEGIN:DAYLIGHT
TZOFFSETFROM:-0800
TZOFFSETTO:-0700
TZNAME:PDT
DTSTART:20180311T100000
END:DAYLIGHT
BEGIN:STANDARD
TZOFFSETFROM:-0700
TZOFFSETTO:-0800
TZNAME:PST
DTSTART:20181104T090000
END:STANDARD
BEGIN:DAYLIGHT
TZOFFSETFROM:-0800
TZOFFSETTO:-0700
TZNAME:PDT
DTSTART:20190310T100000
END:DAYLIGHT
BEGIN:STANDARD
TZOFFSETFROM:-0700
TZOFFSETTO:-0800
TZNAME:PST
DTSTART:20191103T090000
END:STANDARD
BEGIN:DAYLIGHT
TZOFFSETFROM:-0800
TZOFFSETTO:-0700
TZNAME:PDT
DTSTART:20200308T100000
END:DAYLIGHT
BEGIN:STANDARD
TZOFFSETFROM:-0700
TZOFFSETTO:-0800
TZNAME:PST
DTSTART:20201101T090000
END:STANDARD
BEGIN:DAYLIGHT
TZOFFSETFROM:-0800
TZOFFSETTO:-0700
TZNAME:PDT
DTSTART:20210314T100000
END:DAYLIGHT
BEGIN:STANDARD
TZOFFSETFROM:-0700
TZOFFSETTO:-0800
TZNAME:PST
DTSTART:20211107T090000
END:STANDARD
BEGIN:DAYLIGHT
TZOFFSETFROM:-0800
TZOFFSETTO:-0700
TZNAME:PDT
DTSTART:20220313T100000
END:DAYLIGHT
BEGIN:STANDARD
TZOFFSETFROM:-0700
TZOFFSETTO:-0800
TZNAME:PST
DTSTART:20221106T090000
END:STANDARD
END:VTIMEZONE
BEGIN:VTIMEZONE
TZID:UTC
BEGIN:STANDARD
TZOFFSETFROM:+0000
TZOFFSETTO:+0000
TZNAME:UTC
DTSTART:20160101T000000
END:STANDARD
END:VTIMEZONE
BEGIN:VEVENT
DTSTART;TZID=America/Los_Angeles:20211031T180000
DTEND;TZID=America/Los_Angeles:20211031T200000
DTSTAMP:20260416T152249
CREATED:20180105T200445Z
LAST-MODIFIED:20180105T200500Z
UID:10002177-1635703200-1635710400@www.cityoffircrest.net
SUMMARY:Pumpkin Patch
DESCRIPTION:Contact the Rec Department for more information. 253-564-8177
URL:https://www.cityoffircrest.net/event/pumpkin-patch-2/2021-10-31/
LOCATION:Roy H. Murphy Community Center\, 555 Contra Costa Avenue\, Fircrest\, WA\, 98466\, United States
CATEGORIES:Community Event,Recreation
ATTACH;FMTTYPE=image/jpeg:https://www.cityoffircrest.net/wp-content/uploads/2017/10/pumpkin-patch.jpg
GEO:47.2338427;-122.5126411
X-APPLE-STRUCTURED-LOCATION;VALUE=URI;X-ADDRESS=Roy H. Murphy Community Center 555 Contra Costa Avenue Fircrest WA 98466 United States;X-APPLE-RADIUS=500;X-TITLE=555 Contra Costa Avenue:geo:-122.5126411,47.2338427
END:VEVENT
BEGIN:VEVENT
DTSTART;TZID=America/Los_Angeles:20201031T180000
DTEND;TZID=America/Los_Angeles:20201031T200000
DTSTAMP:20260416T152249
CREATED:20180105T200445Z
LAST-MODIFIED:20180105T200500Z
UID:10002176-1604167200-1604174400@www.cityoffircrest.net
SUMMARY:Pumpkin Patch
DESCRIPTION:Contact the Rec Department for more information. 253-564-8177
URL:https://www.cityoffircrest.net/event/pumpkin-patch-2/2020-10-31/
LOCATION:Roy H. Murphy Community Center\, 555 Contra Costa Avenue\, Fircrest\, WA\, 98466\, United States
CATEGORIES:Community Event,Recreation
ATTACH;FMTTYPE=image/jpeg:https://www.cityoffircrest.net/wp-content/uploads/2017/10/pumpkin-patch.jpg
GEO:47.2338427;-122.5126411
X-APPLE-STRUCTURED-LOCATION;VALUE=URI;X-ADDRESS=Roy H. Murphy Community Center 555 Contra Costa Avenue Fircrest WA 98466 United States;X-APPLE-RADIUS=500;X-TITLE=555 Contra Costa Avenue:geo:-122.5126411,47.2338427
END:VEVENT
BEGIN:VEVENT
DTSTART;TZID=America/Los_Angeles:20191031T180000
DTEND;TZID=America/Los_Angeles:20191031T200000
DTSTAMP:20260416T152249
CREATED:20180105T200445Z
LAST-MODIFIED:20180105T200500Z
UID:10002175-1572544800-1572552000@www.cityoffircrest.net
SUMMARY:Pumpkin Patch
DESCRIPTION:Contact the Rec Department for more information. 253-564-8177
URL:https://www.cityoffircrest.net/event/pumpkin-patch-2/2019-10-31/
LOCATION:Roy H. Murphy Community Center\, 555 Contra Costa Avenue\, Fircrest\, WA\, 98466\, United States
CATEGORIES:Community Event,Recreation
ATTACH;FMTTYPE=image/jpeg:https://www.cityoffircrest.net/wp-content/uploads/2017/10/pumpkin-patch.jpg
GEO:47.2338427;-122.5126411
X-APPLE-STRUCTURED-LOCATION;VALUE=URI;X-ADDRESS=Roy H. Murphy Community Center 555 Contra Costa Avenue Fircrest WA 98466 United States;X-APPLE-RADIUS=500;X-TITLE=555 Contra Costa Avenue:geo:-122.5126411,47.2338427
END:VEVENT
BEGIN:VEVENT
DTSTART;TZID=UTC:20190813T190000
DTEND;TZID=UTC:20190813T210000
DTSTAMP:20260416T152249
CREATED:20170510T044039Z
LAST-MODIFIED:20190724T184525Z
UID:10001682-1565722800-1565730000@www.cityoffircrest.net
SUMMARY:City Council Regular Meeting
DESCRIPTION:The City Council meets the second and fourth Tuesday of each month\, at 7:00 PM. At the July 23\, 2019 regular meeting\, the Council approved Resolution No. 1598\, changing the meeting location to the Roy H. Murphy Community Center\, 555 Contra Costa Avenue\, Fircrest\, Washington. The public is invited and encouraged to attend. Interpreters\, signers or other auxiliary aids will be provided upon five (5) business days advance notice. \nFor More Information: \nCity Clerk\n115 Ramsdell Street\nFircrest WA 98466\nPhone: 253-564-8901 \nReview the Agenda
URL:https://www.cityoffircrest.net/event/city-council-regular-meeting-2-2019-08-13/
LOCATION:Roy H. Murphy Community Center\, 555 Contra Costa Avenue\, Fircrest\, WA\, 98466\, United States
CATEGORIES:City Council,Public Meeting
ATTACH;FMTTYPE=image/jpeg:https://www.cityoffircrest.net/wp-content/uploads/2018/03/group75.jpg
GEO:47.2338427;-122.5126411
X-APPLE-STRUCTURED-LOCATION;VALUE=URI;X-ADDRESS=Roy H. Murphy Community Center 555 Contra Costa Avenue Fircrest WA 98466 United States;X-APPLE-RADIUS=500;X-TITLE=555 Contra Costa Avenue:geo:-122.5126411,47.2338427
END:VEVENT
BEGIN:VEVENT
DTSTART;TZID=America/Los_Angeles:20190517T180000
DTEND;TZID=America/Los_Angeles:20190517T210000
DTSTAMP:20260416T152249
CREATED:20180103T214956Z
LAST-MODIFIED:20190517T195802Z
UID:10002153-1558116000-1558126800@www.cityoffircrest.net
SUMMARY:Youth Night
DESCRIPTION:Contact the Rec Department for more information.  253-564-8177
URL:https://www.cityoffircrest.net/event/youth-night-2019-05-03/
LOCATION:Roy H. Murphy Community Center\, 555 Contra Costa Avenue\, Fircrest\, WA\, 98466\, United States
CATEGORIES:Recreation
ATTACH;FMTTYPE=image/jpeg:https://www.cityoffircrest.net/wp-content/uploads/2018/01/boys-skateboard.jpg
GEO:47.2338427;-122.5126411
X-APPLE-STRUCTURED-LOCATION;VALUE=URI;X-ADDRESS=Roy H. Murphy Community Center 555 Contra Costa Avenue Fircrest WA 98466 United States;X-APPLE-RADIUS=500;X-TITLE=555 Contra Costa Avenue:geo:-122.5126411,47.2338427
END:VEVENT
BEGIN:VEVENT
DTSTART;TZID=America/Los_Angeles:20181207T180000
DTEND;TZID=America/Los_Angeles:20181207T210000
DTSTAMP:20260416T152249
CREATED:20180103T214956Z
LAST-MODIFIED:20190517T193954Z
UID:10002152-1544205600-1544216400@www.cityoffircrest.net
SUMMARY:Youth Night
DESCRIPTION:  \nContact the Rec Department for more information.  253-564-8177
URL:https://www.cityoffircrest.net/event/youth-night-2018-12-07/
LOCATION:Roy H. Murphy Community Center\, 555 Contra Costa Avenue\, Fircrest\, WA\, 98466\, United States
CATEGORIES:Recreation
ATTACH;FMTTYPE=image/jpeg:https://www.cityoffircrest.net/wp-content/uploads/2018/01/boys-skateboard.jpg
GEO:47.2338427;-122.5126411
X-APPLE-STRUCTURED-LOCATION;VALUE=URI;X-ADDRESS=Roy H. Murphy Community Center 555 Contra Costa Avenue Fircrest WA 98466 United States;X-APPLE-RADIUS=500;X-TITLE=555 Contra Costa Avenue:geo:-122.5126411,47.2338427
END:VEVENT
BEGIN:VEVENT
DTSTART;TZID=America/Los_Angeles:20181118T100000
DTEND;TZID=America/Los_Angeles:20181118T160000
DTSTAMP:20260416T152249
CREATED:20180105T212610Z
LAST-MODIFIED:20181113T193914Z
UID:10002180-1542535200-1542556800@www.cityoffircrest.net
SUMMARY:Holiday Bazaar
DESCRIPTION:Contact the Rec Department for more information. 253-564-8177
URL:https://www.cityoffircrest.net/event/holiday-bazaar-3/2018-11-18/
LOCATION:Roy H. Murphy Community Center\, 555 Contra Costa Avenue\, Fircrest\, WA\, 98466\, United States
CATEGORIES:Community Event,Recreation
GEO:47.2338427;-122.5126411
X-APPLE-STRUCTURED-LOCATION;VALUE=URI;X-ADDRESS=Roy H. Murphy Community Center 555 Contra Costa Avenue Fircrest WA 98466 United States;X-APPLE-RADIUS=500;X-TITLE=555 Contra Costa Avenue:geo:-122.5126411,47.2338427
END:VEVENT
BEGIN:VEVENT
DTSTART;TZID=America/Los_Angeles:20181117T100000
DTEND;TZID=America/Los_Angeles:20181117T170000
DTSTAMP:20260416T152249
CREATED:20180105T212610Z
LAST-MODIFIED:20181113T193914Z
UID:10002179-1542448800-1542474000@www.cityoffircrest.net
SUMMARY:Holiday Bazaar
DESCRIPTION:Contact the Rec Department for more information. 253-564-8177
URL:https://www.cityoffircrest.net/event/holiday-bazaar-3/2018-11-17/
LOCATION:Roy H. Murphy Community Center\, 555 Contra Costa Avenue\, Fircrest\, WA\, 98466\, United States
CATEGORIES:Community Event,Recreation
GEO:47.2338427;-122.5126411
X-APPLE-STRUCTURED-LOCATION;VALUE=URI;X-ADDRESS=Roy H. Murphy Community Center 555 Contra Costa Avenue Fircrest WA 98466 United States;X-APPLE-RADIUS=500;X-TITLE=555 Contra Costa Avenue:geo:-122.5126411,47.2338427
END:VEVENT
BEGIN:VEVENT
DTSTART;TZID=America/Los_Angeles:20181031T180000
DTEND;TZID=America/Los_Angeles:20181031T200000
DTSTAMP:20260416T152249
CREATED:20180105T200445Z
LAST-MODIFIED:20180105T200500Z
UID:10002174-1541008800-1541016000@www.cityoffircrest.net
SUMMARY:Pumpkin Patch
DESCRIPTION:Contact the Rec Department for more information. 253-564-8177
URL:https://www.cityoffircrest.net/event/pumpkin-patch-2/2018-10-31/
LOCATION:Roy H. Murphy Community Center\, 555 Contra Costa Avenue\, Fircrest\, WA\, 98466\, United States
CATEGORIES:Community Event,Recreation
ATTACH;FMTTYPE=image/jpeg:https://www.cityoffircrest.net/wp-content/uploads/2017/10/pumpkin-patch.jpg
GEO:47.2338427;-122.5126411
X-APPLE-STRUCTURED-LOCATION;VALUE=URI;X-ADDRESS=Roy H. Murphy Community Center 555 Contra Costa Avenue Fircrest WA 98466 United States;X-APPLE-RADIUS=500;X-TITLE=555 Contra Costa Avenue:geo:-122.5126411,47.2338427
END:VEVENT
BEGIN:VEVENT
DTSTART;TZID=America/Los_Angeles:20180625T090000
DTEND;TZID=America/Los_Angeles:20180625T120000
DTSTAMP:20260416T152249
CREATED:20180105T182706Z
LAST-MODIFIED:20180622T160025Z
UID:10002159-1529917200-1529928000@www.cityoffircrest.net
SUMMARY:Swim Lessons Start
DESCRIPTION:For more Information\, check out the Swimming Pool page.
URL:https://www.cityoffircrest.net/event/swim-lessons-start-2/
LOCATION:Roy H. Murphy Community Center\, 555 Contra Costa Avenue\, Fircrest\, WA\, 98466\, United States
CATEGORIES:Recreation,Youth Sports
GEO:47.2338427;-122.5126411
X-APPLE-STRUCTURED-LOCATION;VALUE=URI;X-ADDRESS=Roy H. Murphy Community Center 555 Contra Costa Avenue Fircrest WA 98466 United States;X-APPLE-RADIUS=500;X-TITLE=555 Contra Costa Avenue:geo:-122.5126411,47.2338427
END:VEVENT
BEGIN:VEVENT
DTSTART;TZID=America/Los_Angeles:20180602T183000
DTEND;TZID=America/Los_Angeles:20180602T203000
DTSTAMP:20260416T152249
CREATED:20180105T182245Z
LAST-MODIFIED:20180105T182313Z
UID:10001684-1527964200-1527971400@www.cityoffircrest.net
SUMMARY:Go Hawaiian Pool Party
DESCRIPTION:Contact the Rec Department for more information. 253-564-8177
URL:https://www.cityoffircrest.net/event/go-hawaiian-pool-party-2/
LOCATION:Roy H. Murphy Community Center\, 555 Contra Costa Avenue\, Fircrest\, WA\, 98466\, United States
CATEGORIES:Community Event,Recreation
ATTACH;FMTTYPE=image/jpeg:https://www.cityoffircrest.net/wp-content/uploads/2017/05/lei-flowers-1177410_1920.jpg
GEO:47.2338427;-122.5126411
X-APPLE-STRUCTURED-LOCATION;VALUE=URI;X-ADDRESS=Roy H. Murphy Community Center 555 Contra Costa Avenue Fircrest WA 98466 United States;X-APPLE-RADIUS=500;X-TITLE=555 Contra Costa Avenue:geo:-122.5126411,47.2338427
END:VEVENT
BEGIN:VEVENT
DTSTART;TZID=America/Los_Angeles:20180529T180000
DTEND;TZID=America/Los_Angeles:20180529T193000
DTSTAMP:20260416T152249
CREATED:20180509T182412Z
LAST-MODIFIED:20180509T182412Z
UID:10002201-1527616800-1527622200@www.cityoffircrest.net
SUMMARY:Public Meeting: Pool & Community Center Project
DESCRIPTION:The Fircrest City Council will hold a special meeting on May 29\, 2018 at 6:00 P.M. at the Fircrest Community Center located at 555 Contra Costa Avenue\, Fircrest\, WA for the sole purpose of discussing the Fircrest Pool and Community Center.  Members of the City Council\, City staff\, and the City’s consultant will be present to discuss plans for replacing the pool and the potential replacement of the community center. Come learn about the project and share your thoughts on design ideas.  Person who desire special accommodations should contact the City Clerk at (253) 564-8901 at least 48 business hours prior to this meeting.  For information on this public meeting\, please visit www.cityoffircrest.net or contact the Department of Parks and Recreation at (253) 564-8177.
URL:https://www.cityoffircrest.net/event/public-meeting-pool-community-center-project/
LOCATION:Roy H. Murphy Community Center\, 555 Contra Costa Avenue\, Fircrest\, WA\, 98466\, United States
GEO:47.2338427;-122.5126411
X-APPLE-STRUCTURED-LOCATION;VALUE=URI;X-ADDRESS=Roy H. Murphy Community Center 555 Contra Costa Avenue Fircrest WA 98466 United States;X-APPLE-RADIUS=500;X-TITLE=555 Contra Costa Avenue:geo:-122.5126411,47.2338427
END:VEVENT
BEGIN:VEVENT
DTSTART;TZID=America/Los_Angeles:20180526T133000
DTEND;TZID=America/Los_Angeles:20180526T203000
DTSTAMP:20260416T152249
CREATED:20180105T181648Z
LAST-MODIFIED:20180105T184924Z
UID:10001683-1527341400-1527366600@www.cityoffircrest.net
SUMMARY:Fircrest Pool Opens
DESCRIPTION:For more Information\, check out the Swimming Pool page. \n 
URL:https://www.cityoffircrest.net/event/fircrest-pool-opens/
LOCATION:Roy H. Murphy Community Center\, 555 Contra Costa Avenue\, Fircrest\, WA\, 98466\, United States
CATEGORIES:Community Event,Recreation
GEO:47.2338427;-122.5126411
X-APPLE-STRUCTURED-LOCATION;VALUE=URI;X-ADDRESS=Roy H. Murphy Community Center 555 Contra Costa Avenue Fircrest WA 98466 United States;X-APPLE-RADIUS=500;X-TITLE=555 Contra Costa Avenue:geo:-122.5126411,47.2338427
END:VEVENT
BEGIN:VEVENT
DTSTART;TZID=America/Los_Angeles:20180511T190000
DTEND;TZID=America/Los_Angeles:20180511T210000
DTSTAMP:20260416T152249
CREATED:20180105T181246Z
LAST-MODIFIED:20180124T002719Z
UID:10001681-1526065200-1526072400@www.cityoffircrest.net
SUMMARY:Mother Son Dance
DESCRIPTION:Moms\, enjoy an evening of fun hanging out and dancing with your son and other families and friends. Pizza and refreshments provided. Pre-registration required.\nCost is $20 per couple\, $5 per additional child \nContact the Rec Department for more information.  253-564-8177
URL:https://www.cityoffircrest.net/event/mother-son-dance-2/
LOCATION:Roy H. Murphy Community Center\, 555 Contra Costa Avenue\, Fircrest\, WA\, 98466\, United States
CATEGORIES:Community Event,Recreation
ATTACH;FMTTYPE=image/png:https://www.cityoffircrest.net/wp-content/uploads/2018/01/Mom-and-boy-siloette.png
GEO:47.2338427;-122.5126411
X-APPLE-STRUCTURED-LOCATION;VALUE=URI;X-ADDRESS=Roy H. Murphy Community Center 555 Contra Costa Avenue Fircrest WA 98466 United States;X-APPLE-RADIUS=500;X-TITLE=555 Contra Costa Avenue:geo:-122.5126411,47.2338427
END:VEVENT
BEGIN:VEVENT
DTSTART;TZID=America/Los_Angeles:20180505T090000
DTEND;TZID=America/Los_Angeles:20180505T160000
DTSTAMP:20260416T152249
CREATED:20180105T181157Z
LAST-MODIFIED:20180123T211058Z
UID:10001679-1525510800-1525536000@www.cityoffircrest.net
SUMMARY:Spring Craft Fair
DESCRIPTION:Shop 30+ vendor boutiques showcasing purses\, jewelry\, candles\, kid’s art and decorative accessories for the home and garden. \nContact the Rec Department for more information. 253-564-8177
URL:https://www.cityoffircrest.net/event/spring-craft-fair/
LOCATION:Roy H. Murphy Community Center\, 555 Contra Costa Avenue\, Fircrest\, WA\, 98466\, United States
CATEGORIES:Community Event,Recreation
ATTACH;FMTTYPE=image/jpeg:https://www.cityoffircrest.net/wp-content/uploads/2018/01/Craft-Fair-Photo.jpg
GEO:47.2338427;-122.5126411
X-APPLE-STRUCTURED-LOCATION;VALUE=URI;X-ADDRESS=Roy H. Murphy Community Center 555 Contra Costa Avenue Fircrest WA 98466 United States;X-APPLE-RADIUS=500;X-TITLE=555 Contra Costa Avenue:geo:-122.5126411,47.2338427
END:VEVENT
BEGIN:VEVENT
DTSTART;TZID=America/Los_Angeles:20180216T190000
DTEND;TZID=America/Los_Angeles:20180216T210000
DTSTAMP:20260416T152249
CREATED:20180103T232802Z
LAST-MODIFIED:20190117T221304Z
UID:10001560-1518807600-1518814800@www.cityoffircrest.net
SUMMARY:Daddy Daughter Dance
DESCRIPTION:  \n  \n \nDads (dad\, grandpa\, uncle\, or any other special person who fits the role) and daughters enjoy an evening just for you! An array of music will please all age groups and tastes! Come prepared to dance the night away. All ages welcome\, refreshments and party favors provided. A photographer will be available for pictures. Get your tickets at the Roy H. Murphy Community Center beginning Saturday\, January 20. Pre-registration required.Cost is $20 per couple\, $5 per additional child. \n  \nContact the Rec Department for more information.  253-564-8177
URL:https://www.cityoffircrest.net/event/daddy-daughter-dance/
LOCATION:Roy H. Murphy Community Center\, 555 Contra Costa Avenue\, Fircrest\, WA\, 98466\, United States
CATEGORIES:Community Event,Recreation
GEO:47.2338427;-122.5126411
X-APPLE-STRUCTURED-LOCATION;VALUE=URI;X-ADDRESS=Roy H. Murphy Community Center 555 Contra Costa Avenue Fircrest WA 98466 United States;X-APPLE-RADIUS=500;X-TITLE=555 Contra Costa Avenue:geo:-122.5126411,47.2338427
END:VEVENT
BEGIN:VEVENT
DTSTART;TZID=America/Los_Angeles:20180106T080000
DTEND;TZID=America/Los_Angeles:20180106T080000
DTSTAMP:20260416T152249
CREATED:20180103T231350Z
LAST-MODIFIED:20180103T231350Z
UID:10002156-1515225600-1515225600@www.cityoffircrest.net
SUMMARY:Youth Basketball Jamboree
DESCRIPTION:Time: TBD \nContact the Rec Department for more information.  253-564-8177
URL:https://www.cityoffircrest.net/event/youth-basketball-jamboree/
LOCATION:Roy H. Murphy Community Center\, 555 Contra Costa Avenue\, Fircrest\, WA\, 98466\, United States
CATEGORIES:Recreation,Youth Sports
ATTACH;FMTTYPE=image/png:https://www.cityoffircrest.net/wp-content/uploads/2018/01/basketball.png
GEO:47.2338427;-122.5126411
X-APPLE-STRUCTURED-LOCATION;VALUE=URI;X-ADDRESS=Roy H. Murphy Community Center 555 Contra Costa Avenue Fircrest WA 98466 United States;X-APPLE-RADIUS=500;X-TITLE=555 Contra Costa Avenue:geo:-122.5126411,47.2338427
END:VEVENT
BEGIN:VEVENT
DTSTART;TZID=America/Los_Angeles:20171130T183000
DTEND;TZID=America/Los_Angeles:20171130T200000
DTSTAMP:20260416T152249
CREATED:20171127T182827Z
LAST-MODIFIED:20171127T182827Z
UID:10002123-1512066600-1512072000@www.cityoffircrest.net
SUMMARY:Earthquake Preparedness Presentation
DESCRIPTION:Be Earthquake Prepared! \nFircrest Police Department is hosting an Earthquake Preparedness Presentation by Pierce County Emergency management. \nThursday\, November 30th 6:30pm-8pm.  Fircrest Re Center 555 Contra Costa Ave. \nThere will be a raffle for an emergency kit item.  Fircrest Kiwanis will provide refreshments.
URL:https://www.cityoffircrest.net/event/earthquake-preparedness-presentation/
LOCATION:Roy H. Murphy Community Center\, 555 Contra Costa Avenue\, Fircrest\, WA\, 98466\, United States
GEO:47.2338427;-122.5126411
X-APPLE-STRUCTURED-LOCATION;VALUE=URI;X-ADDRESS=Roy H. Murphy Community Center 555 Contra Costa Avenue Fircrest WA 98466 United States;X-APPLE-RADIUS=500;X-TITLE=555 Contra Costa Avenue:geo:-122.5126411,47.2338427
END:VEVENT
BEGIN:VEVENT
DTSTART;TZID=UTC:20171119T100000
DTEND;TZID=UTC:20171119T160000
DTSTAMP:20260416T152249
CREATED:20170513T014049Z
LAST-MODIFIED:20171103T171115Z
UID:10001486-1511085600-1511107200@www.cityoffircrest.net
SUMMARY:Holiday Bazaar
DESCRIPTION:Contact the Rec Department for more information.  253-564-8177
URL:https://www.cityoffircrest.net/event/holiday-bazaar-2/
LOCATION:Roy H. Murphy Community Center\, 555 Contra Costa Avenue\, Fircrest\, WA\, 98466\, United States
CATEGORIES:Community Event
GEO:47.2338427;-122.5126411
X-APPLE-STRUCTURED-LOCATION;VALUE=URI;X-ADDRESS=Roy H. Murphy Community Center 555 Contra Costa Avenue Fircrest WA 98466 United States;X-APPLE-RADIUS=500;X-TITLE=555 Contra Costa Avenue:geo:-122.5126411,47.2338427
END:VEVENT
BEGIN:VEVENT
DTSTART;TZID=UTC:20171118T100000
DTEND;TZID=UTC:20171118T170000
DTSTAMP:20260416T152249
CREATED:20170513T013945Z
LAST-MODIFIED:20171103T171026Z
UID:10001485-1510999200-1511024400@www.cityoffircrest.net
SUMMARY:Holiday Bazaar
DESCRIPTION:Contact the Rec Department for more information.  253-564-8177
URL:https://www.cityoffircrest.net/event/holiday-bazaar/
LOCATION:Roy H. Murphy Community Center\, 555 Contra Costa Avenue\, Fircrest\, WA\, 98466\, United States
CATEGORIES:Community Event,Recreation
GEO:47.2338427;-122.5126411
X-APPLE-STRUCTURED-LOCATION;VALUE=URI;X-ADDRESS=Roy H. Murphy Community Center 555 Contra Costa Avenue Fircrest WA 98466 United States;X-APPLE-RADIUS=500;X-TITLE=555 Contra Costa Avenue:geo:-122.5126411,47.2338427
END:VEVENT
BEGIN:VEVENT
DTSTART;TZID=UTC:20171031T180000
DTEND;TZID=UTC:20171031T200000
DTSTAMP:20260416T152249
CREATED:20170513T003720Z
LAST-MODIFIED:20171018T192504Z
UID:10001478-1509472800-1509480000@www.cityoffircrest.net
SUMMARY:Pumpkin Patch
DESCRIPTION:Contact the Rec Department for more information.  253-564-8177
URL:https://www.cityoffircrest.net/event/pumpkin-patch/
LOCATION:Roy H. Murphy Community Center\, 555 Contra Costa Avenue\, Fircrest\, WA\, 98466\, United States
CATEGORIES:Community Event
GEO:47.2338427;-122.5126411
X-APPLE-STRUCTURED-LOCATION;VALUE=URI;X-ADDRESS=Roy H. Murphy Community Center 555 Contra Costa Avenue Fircrest WA 98466 United States;X-APPLE-RADIUS=500;X-TITLE=555 Contra Costa Avenue:geo:-122.5126411,47.2338427
END:VEVENT
END:VCALENDAR